Workbook

Sheet Prašymo pildymo instrukcija
B1: Instrukcija, kaip teisingai užpildyti prašymą apmokėti, daugiabučio namo atnaujinimo (modernizavimo), projekto įgyvendinimo administravimo išlaidas
A4: 1 | B4: Prašymas pradedamas pildyti nuo šiame EXEL faile esančio antrojo darbalapio pavadinimu "Pr. 1 namui". Iš šio darbalapio informacija importuojama į prašymo formą. Priklausomai nuo to, už kelių namų butų savininkams bus prašoma suteikti valstybės paramą, tai tiek darbalapių ("Pr. 1 namui", "Pr. 2 namui" ir t.t.) reikia užpildyti kiekvienam namui atskirai. Maksimalus namų skaičius, kurį galima įtraukti į prašymą - 20 vnt.
A5: 2 | B5: Darbalapio "Pr. 1 namui" 1 lentelėje nurodomi pagrindiniai daugiabučio namo duomenys.
A6: 3 | B6: Darbalapio "Pr. 1 namui" 2 lentelėje pateikiama informacija imama iš investicijų plano ir sumumavus išlaidas patirtas už projekto įgyvendinimo administravimą. 2.4. eilutėje nurodoma suma tuo atveju, jeigu butų ir kitų patalpų savininkai nusprendė padidinti projekto išlaidas projekto įgyvendinimo administravimui apmokėti iki tam tikros sumos, nekeičiant investicijų plano. Tokiu atveju būtina kartu su prašymu pateikti minėto butų ir kitų patalpų savininkų sprendimo protokolo kopiją, jeigu šis dokumentas nebuvo pateiktas ankščiau.
A7: 4 | B7: Darbalapio "Pr. 1 namui" 3 lentelėje nurodomas laikotarpis, už kurį bus prašoma suteikta valstybės paramą. Kai laikotarpį sudaro pilni mėnesiai, nurodomas pilnų mėnesių skaičius 3.3. eilutėje. Kai laikotarpį sudaro ne pilnas mėnesis reikia suskaičiuoti dienas iš nepilno mėnesio ir šį dienų skaičių įrašyti į 3.4. eilutę. Tokiu atveju 3.5. eilutėje būtina pasirinkti mėnesį, kuris yra ne pilnas.
A8: 5 | B8: Darbalapio "Pr. 1 namui" 4 lentelėje nurodomi duomenys kiek kainuoja projekto įgyvendinimo administravimo paslaugos namui, neįvertinant valstybės paramos.
A9: 6 | B9: Darbalapio "Pr. 1 namui" penktoje lentelėje nurodomi visi asmenys, kurie turi teisę į šildymo išlaidų kompensaciją. Taip pat nurodomi jų valdomų patalpų plotai, pagal kuriuos apskaičiuojamas teiktino valstybės paramos dydis, bei butų numeriai. Duomenys nurodomi pagal Registrų centro pateiktas pažymas, bei savivaldybės išduotas pažymas patvirtinančias asmenų teisę į šildymo išlaidų kompensaciją. Lentelėje esantis valstybės paramos dydis apskaičiuojamas automatiškai, pagal asmeniui tenkantį valdomų patalpų plotą.
A10: 7 | B10: Darbalapio "Pr. 1 namui" šeštoje lentelėje nurodomos visos gyvenamosios patalpos (ir jų plotai) valdomos savivaldybės. Duomenys nurodomi pagal Registrų centro pateiktas pažymas. Lentelėje esantis valstybės paramos dydis apskaičiuojamas automatiškai, pagal savivaldybei tenkantį valdomų patalpų plotą.
A11: 8 | B11: Darbalapio "Pr. 1 namui" Septintoje lentelėje nurodomos visos daugiabučio namo patalpos (ir jų plotai) valdomos ūkinę veiklą vykdančių asmenų. Duomenys nurodomi pagal Registrų centro pateiktas pažymas. Lentelėje taip pat parenkama, kokio dydžio valstybės parama bus skiriama šiems asmenims - galimi du pasirinkimo variantai - 50 arba 100 proc. Lentelėje esantis valstybės paramos dydis apskaičiuojamas automatiškai, pagal asmeniui tenkantį valdomų patalpų plotą.
A12: 9 | B12: Darbalapio "Pr. 1 namui" aštuntoje lentelėje nurodomos visos daugiabučio namo patalpos (ir jų plotai) valdomos fizinių asmenų, nevykdančių ūkinės veiklos ir neturinčių teisės į šildymo išlaidų kompensaciją. Duomenys nurodomi pagal Registrų centro pateiktas pažymas. Lentelėje taip pat parenkama, kokio dydžio valstybės parama bus skiriama šiems asmenims - galimi du pasirinkimo variantai - 50 arba 100 proc. Lentelėje esantis valstybės paramos dydis apskaičiuojamas automatiškai, pagal asmeniui tenkantį valdomų patalpų plotą.
A13: 10 | B13: Užpildžius duomenis darbalapyje "Pr. 1 namui" duomenys automatiškai apskaičiuojami ir importuojami į prašymo formą. Esant būtinybei įtraukti į prašymą kitą namą pildomas darbalapis "Pr. 2 namui" ir t.t. Užpildyti darbalapiai pridedami prie prašymo jį pateikiant Agentūrai.
A14: 11 | B14: Prašyme turi būti nurodoma detalūs administratoriaus duomenys. Prašymo teikėjo duomenys turi būti nurodomi pilnai - nurodant tikslų prašymo teikėjo pavadinimą arba vardą pavardę (jeigu prašymą teikia fizinis asmuo).
A15: 12 | B15: Prašymo data nurodoma prašymo pildymo metu. Rekomenduojama užpildytą prašymą nedelsiant pateikti Būsto energijos taupymo agentūrai (Toliau - Agentūra), tam kad prašymo data būtų aktuali.
... A17: 14 | B17: Prašymo 3 lentelė nepildoma, į ją duomenys importuojami automatiškai iš priedų.

Sheet Užpildyto prašymo pavyzdys
C1: Pavyzdys: Duomenys pirma suvedami į Prašymo priedus:
C3: Prašymo apmokėti projekto įgyvendinimo išlaidas priedas. Prašymo 3 lentelės nurodytiems daugiabučiams namams tenkačio valstybės paramos dydžio apskaičiavimo pagrindimui
B5: Pirmasis namas
B6: 1. | C6: Duomenys apie atnaujinamą daugiabutį namą:
B7: 1.1 | C7: Daugiabučio namo adresas: | J7: Vilniaus g. 5, Vilnius
B8: 1.2 | C8: Daugiabučio namo atnaujinimo (modernizavimo) projekto numeris: | J8: VIJ0588
B9: 1.3 | C9: Daugiabučio namo butų ir kitų patalpų skaičius: | J9: 22
B10: 1.4 | C10: Daugiabučio namo naudingojo ploto suma: | J10: 1708
B11: 1.5 | C11: Daugiabučio namo statybos metai: | J11: 1938
B12: 1.6 | C12: Butų ir kitų patalpų savininkų sprendimo įgyvendinti projektą ir projekto įgyvendinimo administravimo paslaugos dydžio patvirtinimo data: | J12: 42644
B14: 2. | C14: Duomenys apie galimą suteikti valstybės paramos dydį:
B15: 2.1 | C15: Investicijų plane numatyta suma projekto įgyvendinimo administravimo išlaidoms: | M15: 11000
B16: 2.2 | C16: Jau patirtos išlaidos projekto įgyvendinimo administravimui, įgyvendinant projektą: | M16: 411
B17: 2.3 | C17: Projekto įgyvendinimo administravimui apmokėti arba kompensuoti suteiktos valstybės paramos suma: | M17: 411
B18: 2.4 | C18: Butų ir kitų patalpų savininkų sprendimu projekto įgyvendinimo administravimo išlaidų dydis padidintas iki sumos, eurais: | M18: -
B20: 3. | C20: Laikotarpis už kurį prašoma suteikti valstybės paramą:
B21: 3.1 | C21: Nuo: | H21: 42736
B22: 3.2 | C22: Iki: | H22: 42775
B23: 3.3 | C23: Pilnų mėnesių skaičius: | H23: 1
B24: 3.4 | C24: Nepilno mėnesio dienų skaičius: | H24: 9
B25: 3.5 | C25: Pasirinkti mėnesį kuris buvo nepilnas (paspauskite duomenų pasirinkimui): | H25: Vasaris | J25: =IF(H25=Sąrašai!$C$1,31,IF(H25=Sąrašai!$C$2,28,IF(H25=Sąrašai!$C$3,31,IF(H25=Sąrašai!$C$4,30,IF(H25=Sąrašai!$C$5,31,IF(H25=Sąrašai!$C$6,30,IF(H25=Sąrašai!$C$7,31,IF(H25=Sąrašai!$C$8,31,IF(H25=Sąrašai!$C$9,30,IF(H25=Sąrašai!$C$10,31,IF(H25=Sąrašai!$C$11,30,IF(H25=Sąrašai!$C$12,31,"nepasirinkti duomenys")))))))))))) -> 28
B27: 4. | C27: Informacija apie projekto įgyvendinimo administravimo išlaidas, neįvertinus valstybės paramos:
B28: 4.1 | C28: Butų ir kitų patalpų savininkų sprendimu patvirtinto projekto įgyvendinimo administravimo paslaugos dydžio tarifas Eur (0,1 eur. Tuo atveju kai projekto administratorius yra PVM mokėtojas, tai tarifas yra 0,121, nebent butų ir kitų patalpų savininkų sprendimu yra patvirtintas mažesnis tarifas): | J28: 0.121
B29: 4.2 | C29: Butų ir kitų patalpų savininkų sprendimu patvirtinto projekto įgyvendinimo administravimo dydis visam namui per mėnesį (apskaičiuojama automatiškai): | J29: =J10*J28 -> 206.668
B30: 4.3 | C30: Bendra projekto įgyvendinimo administravimo išlaidų suma už prašomą apmokėti laikotarpį (apskaičiuojama automatiškai): | J30: =(H23*J29)+(J29/J25*H24) -> 273.097
B32: 5. | C32: Informacija apie butų ir kitų patalpų savininkams, turintiems teisę į šildymo išlaidų kompensaciją, tenkantį valstybės paramos, projekto įgyvendinimo administravimo išlaidoms apmokėti, dydį (pildoma tuo atveju jeigu daugiabučiame name yra butų ir kitų patalpų savininkų turinčių teisę į šildymo išlaidų kompensacija):
B33: 5.1 | C33: Buto/ patalpos Nr.: | D33: Savininko vardas, pavardė: | G33: Asmens valdomų patalpų plotas m2 (nurodyti plotą): | J33: Asmeniui tenkantis valstybės paramos dydis (apskaičiuojama automatiškai), eurais:
B34: 5.1.1 | C34: 1 | D34: Vardenis Pavardenis | G34: 55 | J34: =G34*$J$30/$J$10 -> 8.7941071
B35: 5.1.2 | C35: 2 | D35: Vardenis Pavardenis | G35: 150 | J35: =G35*$J$30/$J$10 -> 23.983929
B36: 5.1.3 | C36: 3 | D36: Vardenis Pavardenis | G36: 150 | J36: =G36*$J$30/$J$10 -> 23.983929
B37: 5.1.4 | J37: =G37*$J$30/$J$10 -> 0
B38: 5.1.5 | J38: =G38*$J$30/$J$10 -> 0
B39: ... | J39: =G39*$J$30/$J$10 -> 0
D40: Bendra suma: | G40: =+SUM(G34:I39) -> 355 | J40: =+SUM(J34:M39) -> 56.761964
B42: 6. | C42: Informacija apie daugiabučiame name savivaldybės nuosavybės teise valdomoms gyvenamosioms patalpoms tenkantį valstybės paramos dydį (pildoma tuo atveju jeigu daugiabučiame name yra savivaldybei nuosavybės teise priklausančių gyvenamųjų patalpų):
B43: 6.1 | C43: Buto/ patalpos Nr.: | E43: Savivaldybės valdomų patalpų plotas m2 (nurodyti plotą): | H43: Savivaldybei tenkantis valstybės paramos dydis (apskaičiuojama automatiškai), eurais:
B44: 6.1.1 | C44: 4 | E44: 150 | H44: =E44*$J$30/$J$10 -> 23.983929
B45: 6.1.2 | C45: 5 | E45: 50 | H45: =E45*$J$30/$J$10 -> 7.9946429
B46: 6.1.3 | C46: 6 | E46: 100 | H46: =E46*$J$30/$J$10 -> 15.989286
B47: 6.1.4 | C47: 7 | E47: 140 | H47: =E47*$J$30/$J$10 -> 22.385
B48: 6.1.5 | C48: 8 | E48: 60 | H48: =E48*$J$30/$J$10 -> 9.5935714
B49: ... | H49: =E49*$J$30/$J$10 -> 0
C50: Bendra suma: | E50: =+SUM(E44:G49) -> 500 | H50: =+SUM(H44:K49) -> 79.946429
B52: 7. | C52: Informacija apie butų ir kitų patalpų savininkams, daugiabučiame name vykdantiems ūkinę veiklą, tenkantį valstybės paramos, projekto įgyvendinimo administravimo išlaidoms apmokėti, dydį (pildoma tuo atveju jeigu daugiabučiame name yra butų ir kitų patalpų savininkų turinčių teisę į šildymo išlaidų kompensacija):
B53: 7.1 | C53: Buto/ patalpos Nr.: | D53: Savininko vardas, pavardė arba juridnimo asmens pavadinimas: | G53: Asmens valdomų patalpų plotas m2 (nurodyti plotą): | J53: Valstybės paramos dydis procentais (pasirinkti): | L53: Asmeniui tenkantis valstybės paramos dydis (apskaičiuojama automatiškai), eurais:
B54: 7.1.1 | C54: 9 | D54: UAB "Įmonė" | G54: 64 | J54: 50 proc. | L54: =IF(J54=Sąrašai!$A$1,(G54*$J$30/$J$10)/"2",IF(J54=Sąrašai!$A$2,G54*$J$30/$J$10,)) -> 5.1165714
B55: 7.1.2 | C55: 10 | D55: Vardenis Pavardenis | G55: 46 | J55: 50 proc. | L55: =IF(J55=Sąrašai!$A$1,(G55*$J$30/$J$10)/"2",IF(J55=Sąrašai!$A$2,G55*$J$30/$J$10,)) -> 3.6775357
B56: 7.1.3 | C56: 11 | D56: UAB "Įmonė" | G56: 100 | J56: 50 proc. | L56: =IF(J56=Sąrašai!$A$1,(G56*$J$30/$J$10)/"2",IF(J56=Sąrašai!$A$2,G56*$J$30/$J$10,)) -> 7.9946429
B57: 7.1.4 | L57: =IF(J57=Sąrašai!$A$1,(G57*$J$30/$J$10)/"2",IF(J57=Sąrašai!$A$2,G57*$J$30/$J$10,)) -> 0
B58: 7.1.5 | L58: =IF(J58=Sąrašai!$A$1,(G58*$J$30/$J$10)/"2",IF(J58=Sąrašai!$A$2,G58*$J$30/$J$10,)) -> 0
B59: ... | L59: =IF(J59=Sąrašai!$A$1,(G59*$J$30/$J$10)/"2",IF(J59=Sąrašai!$A$2,G59*$J$30/$J$10,)) -> 0
D60: Bendra suma: | G60: =+SUM(G54:I59) -> 210 | J60: - | L60: =+SUM(L54:N59) -> 16.78875
B62: 8 | C62: Informacija apie fiziniams asmenims (butų ir kitų patalpų savininkams), daugiabučiame name nevykdantiems ūkinės veiklos ir neturintiems teisės į šildymo išlaidų kompensaciją, projekto įgyvendinimo administravimo išlaidoms apmokėti, tenkantį valstybės paramos dydį (nurodoma informacija apie visus butų savininkus, kurie nėra nurodyti šio prašymo 5, 6, 7 lentelėse):
B63: 8.1 | C63: Butų skaičius: | D63: Asmenų valdomų patalpų plotų suma m2 (nurodyti plotą): | G63: Valstybės paramos dydis procentais (pasirinkti): | I63: Asmenims tenkantis valstybės paramos dydis (apskaičiuojama automatiškai), eurais:
B64: 8.1.1 | C64: 11 | D64: 643 | G64: 50 proc. | I64: =IF(G64=Sąrašai!$A$1,(D64*$J$30/$J$10)/"2",IF(G64=Sąrašai!$A$2,D64*$J$30/$J$10,)) -> 51.405554
B65: Bendra suma: | D65: =+SUM(D64:F64) -> 643 | G65: - | I65: =+SUM(I64:K64) -> 51.405554
B67: 9. | C67: Prašoma suteikti valstybės parama (apskaičiuojama automatiškai), eurais: | J67: =I65+L60+H50+J40 -> 204.9027
C72: Užpildžius lentelę duomenys automatiškai importuojami į prašymą. Prašyme reikia nurodyti administratoriaus duomenis, laikotarpį, už kurį prašoma apmokėti ir sąskaitos faktūros pridedamos prie prašymo duomenis.
I74: Prašymo kompensuoti projekto įgyvendinimo administravimo išlaidas forma patvirtinta Viešosios įstaigos Būsto energijos taupymo agentūra direktoriaus 2014 m. balandžio 30 d. įsakymu Nr. B3-557 KEISTA: 2014 m. gegužės 9 d. įsakymu Nr. B3-606 KEISTA: 2015 m. liepos 13 d. įsakymu Nr. B3-1-2027 KEISTA: 2016 m. gegužės 5 d. įsakymu Nr. B3-1.1-2096 KEISTA: 2016 m. gruodžio 2 d. įsakymu Nr. B3-1.1-4848 KEISTA: 2016 m. gruodžio 29 d. įsakymu Nr. B3-1.1-5435 KEISTA:
D92: UAB "Administratorius", kodas 123456789, adresas, Vilniaus g. 10, Vilnius
D93: Prašymo teikėjo duomenys (juridinio asmens pavadinimas/fizinio asmens vardas, pavardė, kodas, adresas)
D95: Viešajai įstaigai Būsto energijos taupymo agentūrai
F97: PRAŠYMAS APMOKĖTI PROJEKTO ĮGYVENDINIMO ADMINISTRAVIMO IŠLAIDAS
F100: 42776 | G100: Nr. | H100: B3-5869
F101: (data)
G102: Vilnius
G103: (vieta)
B106: 1. | C106: Projekto (ų) įgyvendinimo administratoriaus duomenys:
B107: 1.1. | C107: Projekto (ų) įgyvendinimo administratoriaus pavadinimas: | I107: UAB "Administratorius"
B108: 1.2. | C108: Projektų įgyvendinimo administratoriaus kodas: | I108: 123456789
B110: 3. | C110: Laikotarpis, už kurį prašoma suteikti valstybės paramą:
B111: 3.1 | C111: Nuo: | H111: 42736
B112: 3.2 | C112: Iki: | H112: 42775
B114: 2. | C114: Daugiabučiam (iams) namui (ams) tenkantis valstybės paramos dydis:
B115: 2.1. | C115: Daugiabučio namo adresas: | E115: Projekto numeris: | F115: Statybos užbaigimo data (jeigu projektas įgyvendintas): | G115: Butų ir kitų patalpų skaičius | H115: Namo naudingojo ploto suma: | I115: Butų ir kitų patalpų savininkų sprendimo įgyvendinti projektą ir projekto įgyvendinimo administravimo paslaugos dydžio patvirtinimo data: | K115: Butų ir kitų patalpų savininkų sprendimu patvirtinto projekto įgyvendinimo administravimo dydis visam namui per mėnesį: | L115: Ankščiau suteikta vastybės parama: | M115: Prašomas apmokėti valstybės paramos dydis (projekto įgyvendinimo administravimui) už prašyme nurodytą laikotarpį:
B116: 2.1.1 | C116: =J7 -> Vilniaus g. 5, Vilnius | E116: =J8 -> VIJ0588 | F116: - | G116: =J9 -> 22 | H116: =J10 -> 1708 | I116: =J12 -> 42644 | K116: =J29 -> 206.668 | L116: =M17 -> 411 | M116: =J67 -> 204.9027
B117: 2.1.2
B118: 2.1.3
B119: 2.1.4
B120: 2.1.5
B121: 2.1.6
B122: 2.1.7
B123: 2.1.8
B124: 2.1.9
B125: 2.1.10
B126: 2.1.11
B127: 2.1.12
B128: 2.1.13
... B135: 2.1.20
L136: Iš viso: | M136: =+SUM(M116:M135) -> 204.9027
B138: Pastaba: skaičiavimai atliekami lape "Skaičiavimą pagrindžianti informacija". Skaičiavimo pagrindimui lapas "Skaičiavimą pagrindžianti informacija" pridedamas prie mokėjimo prašymo.
B140: 4. | C140: Duomenys apie lėšų gavėją, kuriam turėtų būti pervestos valstybės paramos lėšos, apmokant išlaidas už projekto įgyvendinimo administravimą:
B141: 4.1. | C141: Projekto administratoriaus pavadinimas: | I141: =I107 -> UAB "Administratorius"
B142: 4.2. | C142: Projekto administratoriaus kodas: | I142: =I108 -> 123456789
B143: 4.3. | C143: Pervedamos valstybės paramos suma: | I143: =M136 -> 204.9027
B144: 4.4. | C144: Sąskaitos (ų) faktūras (ų) už suteiktas projekto įgyvendinimo administravimo paslaugas numeris: | I144: Serija A, Nr. 1575
B145: 4.5. | C145: Sąskaitos (ų) faktūras (ų) už suteiktas projekto įgyvendinimo administravimo paslaugas data: | I145: 42776
B146: 4.6. | C146: Projekto administratoriaus atsiskaitomosios sąskaitos numeris: | I146: LT54 5454 5454 5454 5454
B148: Prašymo teikėjas atsako už pateikiamų duomenų teisingumą
B150: Pridedama:
...

Sheet Prašymas
I1: Patvirtinta Lietuvos Respublikos aplinkos ministerijos Aplinkos projektų valdymo agentūros direktoriaus 2021 m. lapkričio 19 d. įsakymu Nr. T1-272
D11: Prašymo teikėjo duomenys (juridinio asmens pavadinimas/fizinio asmens vardas, pavardė, kodas, adresas)
D13: Lietuvos Respublikos aplinkos ministerijos Aplinkos projektų valdymo agentūrai
F15: PRAŠYMAS APMOKĖTI PROJEKTO ĮGYVENDINIMO ADMINISTRAVIMO IŠLAIDAS
G18: Nr.
F19: (data)
G21: (vieta)
B24: 1. | C24: Projekto (ų) įgyvendinimo administratoriaus duomenys:
B25: 1.1. | C25: Projekto (ų) įgyvendinimo administratoriaus pavadinimas:
B26: 1.2. | C26: Projektų įgyvendinimo administratoriaus kodas:
B28: 2. | C28: Laikotarpis, už kurį prašoma suteikti valstybės paramą:
B29: 2.1 | C29: Nuo:
B30: 2.2 | C30: Iki:
B32: 3. | C32: Daugiabučiam (iams) namui (ams) tenkantis valstybės paramos dydis:
B33: 3.1 | C33: Daugiabučio namo adresas: | E33: Projekto numeris: | F33: Statybos užbaigimo data (jeigu projektas įgyvendintas): | G33: Butų ir kitų patalpų skaičius | H33: Namo naudingojo ploto suma: | I33: Butų ir kitų patalpų savininkų sprendimo įgyvendinti projektą ir projekto įgyvendinimo administravimo paslaugos dydžio patvirtinimo data: | K33: Butų ir kitų patalpų savininkų sprendimu patvirtinto projekto įgyvendinimo administravimo dydis visam namui per mėnesį, Eur: | L33: Ankščiau suteikta vastybės parama, Eur: | M33: Prašomas apmokėti valstybės paramos dydis (projekto įgyvendinimo administravimui) už prašyme nurodytą laikotarpį, Eur:
B34: 3.1.1 | C34: ='Pr. 1 namui'!$J$5 -> 0 | E34: ='Pr. 1 namui'!$J$6 -> 0 | F34: ='Pr. 1 namui'!$J$11 -> 0 | G34: ='Pr. 1 namui'!$J$7 -> 0 | H34: ='Pr. 1 namui'!$J$8 -> 0 | I34: ='Pr. 1 namui'!$J$10 -> 0 | K34: ='Pr. 1 namui'!$J$28 -> 0 | L34: ='Pr. 1 namui'!$M$16 -> 0 | M34: ='Pr. 1 namui'!$J$66 -> 0
B35: 3.1.2 | C35: ='Pr. 2 namui'!$J$5 -> 0 | E35: ='Pr. 2 namui'!$J$6 -> 0 | F35: ='Pr. 2 namui'!$J$11 -> 0 | G35: ='Pr. 2 namui'!$J$7 -> 0 | H35: ='Pr. 2 namui'!$J$8 -> 0 | I35: ='Pr. 2 namui'!$J$10 -> 0 | K35: ='Pr. 2 namui'!$J$28 -> 0 | L35: ='Pr. 2 namui'!$M$16 -> 0 | M35: ='Pr. 2 namui'!$J$66 -> 0
B36: 3.1.3 | C36: ='Pr. 3 namui'!$J$5 -> 0 | E36: ='Pr. 3 namui'!$J$6 -> 0 | F36: ='Pr. 3 namui'!$J$11 -> 0 | G36: ='Pr. 3 namui'!$J$7 -> 0 | H36: ='Pr. 3 namui'!$J$8 -> 0 | I36: ='Pr. 3 namui'!$J$10 -> 0 | K36: ='Pr. 3 namui'!$J$28 -> 0 | L36: ='Pr. 3 namui'!$M$16 -> 0 | M36: ='Pr. 3 namui'!$J$66 -> 0
B37: 3.1.4 | C37: ='Pr. 4 namui'!$J$5 -> 0 | E37: ='Pr. 4 namui'!$J$6 -> 0 | F37: ='Pr. 4 namui'!$J$11 -> 0 | G37: ='Pr. 4 namui'!$J$7 -> 0 | H37: ='Pr. 4 namui'!$J$8 -> 0 | I37: ='Pr. 4 namui'!$J$10 -> 0 | K37: ='Pr. 4 namui'!$J$28 -> 0 | L37: ='Pr. 4 namui'!$M$16 -> 0 | M37: ='Pr. 4 namui'!$J$66 -> 0
B38: 3.1.5 | C38: ='Pr. 5 namui'!$J$5 -> 0 | E38: ='Pr. 5 namui'!$J$6 -> 0 | F38: ='Pr. 5 namui'!$J$11 -> 0 | G38: ='Pr. 5 namui'!$J$7 -> 0 | H38: ='Pr. 5 namui'!$J$8 -> 0 | I38: ='Pr. 5 namui'!$J$10 -> 0 | K38: ='Pr. 5 namui'!$J$28 -> 0 | L38: ='Pr. 5 namui'!$M$16 -> 0 | M38: ='Pr. 5 namui'!$J$66 -> 0
B39: 3.1.6 | C39: ='Pr. 6 namui'!$J$5 -> 0 | E39: ='Pr. 6 namui'!$J$6 -> 0 | F39: ='Pr. 6 namui'!$J$11 -> 0 | G39: ='Pr. 6 namui'!$J$7 -> 0 | H39: ='Pr. 6 namui'!$J$8 -> 0 | I39: ='Pr. 6 namui'!$J$10 -> 0 | K39: ='Pr. 6 namui'!$J$28 -> 0 | L39: ='Pr. 6 namui'!$M$16 -> 0 | M39: ='Pr. 6 namui'!$J$66 -> 0
B40: 3.1.7 | C40: ='Pr. 7 namui'!$J$5 -> 0 | E40: ='Pr. 7 namui'!$J$6 -> 0 | F40: ='Pr. 7 namui'!$J$11 -> 0 | G40: ='Pr. 7 namui'!$J$7 -> 0 | H40: ='Pr. 7 namui'!$J$8 -> 0 | I40: ='Pr. 7 namui'!$J$10 -> 0 | K40: ='Pr. 7 namui'!$J$28 -> 0 | L40: ='Pr. 7 namui'!$M$16 -> 0 | M40: ='Pr. 7 namui'!$J$66 -> 0
B41: 3.1.8 | C41: ='Pr. 8 namui'!$J$5 -> 0 | E41: ='Pr. 8 namui'!$J$6 -> 0 | F41: ='Pr. 8 namui'!$J$11 -> 0 | G41: ='Pr. 8 namui'!$J$7 -> 0 | H41: ='Pr. 8 namui'!$J$8 -> 0 | I41: ='Pr. 8 namui'!$J$10 -> 0 | K41: ='Pr. 8 namui'!$J$28 -> 0 | L41: ='Pr. 8 namui'!$M$16 -> 0 | M41: ='Pr. 8 namui'!$J$66 -> 0
B42: 3.1.9 | C42: ='Pr. 9 namui'!$J$5 -> 0 | E42: ='Pr. 9 namui'!$J$6 -> 0 | F42: ='Pr. 9 namui'!$J$11 -> 0 | G42: ='Pr. 9 namui'!$J$7 -> 0 | H42: ='Pr. 9 namui'!$J$8 -> 0 | I42: ='Pr. 9 namui'!$J$10 -> 0 | K42: ='Pr. 9 namui'!$J$28 -> 0 | L42: ='Pr. 9 namui'!$M$16 -> 0 | M42: ='Pr. 9 namui'!$J$66 -> 0
B43: 3.1.10 | C43: ='Pr. 10 namui'!$J$5 -> 0 | E43: ='Pr. 10 namui'!$J$6 -> 0 | F43: ='Pr. 10 namui'!$J$11 -> 0 | G43: ='Pr. 10 namui'!$J$7 -> 0 | H43: ='Pr. 10 namui'!$J$8 -> 0 | I43: ='Pr. 10 namui'!$J$10 -> 0 | K43: ='Pr. 10 namui'!$J$28 -> 0 | L43: ='Pr. 10 namui'!$M$16 -> 0 | M43: ='Pr. 10 namui'!$J$66 -> 0
B44: 3.1.11 | C44: ='Pr. 11 namui'!$J$5 -> 0 | E44: ='Pr. 11 namui'!$J$6 -> 0 | F44: ='Pr. 11 namui'!$J$11 -> 0 | G44: ='Pr. 11 namui'!$J$7 -> 0 | H44: ='Pr. 11 namui'!$J$8 -> 0 | I44: ='Pr. 11 namui'!$J$10 -> 0 | K44: ='Pr. 11 namui'!$J$28 -> 0 | L44: ='Pr. 11 namui'!$M$16 -> 0 | M44: ='Pr. 11 namui'!$J$66 -> 0
B45: 3.1.12 | C45: ='Pr. 12 namui'!$J$5 -> 0 | E45: ='Pr. 12 namui'!$J$6 -> 0 | F45: ='Pr. 12 namui'!$J$11 -> 0 | G45: ='Pr. 12 namui'!$J$7 -> 0 | H45: ='Pr. 12 namui'!$J$8 -> 0 | I45: ='Pr. 12 namui'!$J$10 -> 0 | K45: ='Pr. 12 namui'!$J$28 -> 0 | L45: ='Pr. 12 namui'!$M$16 -> 0 | M45: ='Pr. 12 namui'!$J$66 -> 0
B46: 3.1.13 | C46: ='Pr. 13 namui'!$J$5 -> 0 | E46: ='Pr. 13 namui'!$J$6 -> 0 | F46: ='Pr. 13 namui'!$J$11 -> 0 | G46: ='Pr. 13 namui'!$J$7 -> 0 | H46: ='Pr. 13 namui'!$J$8 -> 0 | I46: ='Pr. 13 namui'!$J$10 -> 0 | K46: ='Pr. 13 namui'!$J$28 -> 0 | L46: ='Pr. 13 namui'!$M$16 -> 0 | M46: ='Pr. 13 namui'!$J$66 -> 0
B47: 3.1.14 | C47: ='Pr. 14 namui'!$J$5 -> 0 | E47: ='Pr. 14 namui'!$J$6 -> 0 | F47: ='Pr. 14 namui'!$J$11 -> 0 | G47: ='Pr. 14 namui'!$J$7 -> 0 | H47: ='Pr. 14 namui'!$J$8 -> 0 | I47: ='Pr. 14 namui'!$J$10 -> 0 | K47: ='Pr. 14 namui'!$J$28 -> 0 | L47: ='Pr. 14 namui'!$M$16 -> 0 | M47: ='Pr. 14 namui'!$J$66 -> 0
B48: 3.1.15 | C48: ='Pr. 15 namui'!$J$5 -> 0 | E48: ='Pr. 15 namui'!$J$6 -> 0 | F48: ='Pr. 15 namui'!$J$11 -> 0 | G48: ='Pr. 15 namui'!$J$7 -> 0 | H48: ='Pr. 15 namui'!$J$8 -> 0 | I48: ='Pr. 15 namui'!$J$10 -> 0 | K48: ='Pr. 15 namui'!$J$28 -> 0 | L48: ='Pr. 15 namui'!$M$16 -> 0 | M48: ='Pr. 15 namui'!$J$66 -> 0
B49: 3.1.16 | C49: ='Pr. 16 namui'!$J$5 -> 0 | E49: ='Pr. 16 namui'!$J$6 -> 0 | F49: ='Pr. 16 namui'!$J$11 -> 0 | G49: ='Pr. 16 namui'!$J$7 -> 0 | H49: ='Pr. 16 namui'!$J$8 -> 0 | I49: ='Pr. 16 namui'!$J$10 -> 0 | K49: ='Pr. 16 namui'!$J$28 -> 0 | L49: ='Pr. 16 namui'!$M$16 -> 0 | M49: ='Pr. 16 namui'!$J$66 -> 0
B50: 3.1.17 | C50: ='Pr. 17 namui'!$J$5 -> 0 | E50: ='Pr. 17 namui'!$J$6 -> 0 | F50: ='Pr. 17 namui'!$J$11 -> 0 | G50: ='Pr. 17 namui'!$J$7 -> 0 | H50: ='Pr. 17 namui'!$J$8 -> 0 | I50: ='Pr. 17 namui'!$J$10 -> 0 | K50: ='Pr. 17 namui'!$J$28 -> 0 | L50: ='Pr. 17 namui'!$M$16 -> 0 | M50: ='Pr. 17 namui'!$J$66 -> 0
B51: 3.1.18 | C51: ='Pr. 18 namui'!$J$5 -> 0 | E51: ='Pr. 18 namui'!$J$6 -> 0 | F51: ='Pr. 18 namui'!$J$11 -> 0 | G51: ='Pr. 18 namui'!$J$7 -> 0 | H51: ='Pr. 18 namui'!$J$8 -> 0 | I51: ='Pr. 18 namui'!$J$10 -> 0 | K51: ='Pr. 18 namui'!$J$28 -> 0 | L51: ='Pr. 18 namui'!$M$16 -> 0 | M51: ='Pr. 18 namui'!$J$66 -> 0
B52: 3.1.19 | C52: ='Pr. 19 namui'!$J$5 -> 0 | E52: ='Pr. 19 namui'!$J$6 -> 0 | F52: ='Pr. 19 namui'!$J$11 -> 0 | G52: ='Pr. 19 namui'!$J$7 -> 0 | H52: ='Pr. 19 namui'!$J$8 -> 0 | I52: ='Pr. 19 namui'!$J$10 -> 0 | K52: ='Pr. 19 namui'!$J$28 -> 0 | L52: ='Pr. 19 namui'!$M$16 -> 0 | M52: ='Pr. 19 namui'!$J$66 -> 0
B53: 3.1.20 | C53: ='Pr. 20 namui'!$J$5 -> 0 | E53: ='Pr. 20 namui'!$J$6 -> 0 | F53: ='Pr. 20 namui'!$J$11 -> 0 | G53: ='Pr. 20 namui'!$J$7 -> 0 | H53: ='Pr. 20 namui'!$J$8 -> 0 | I53: ='Pr. 20 namui'!$J$10 -> 0 | K53: ='Pr. 20 namui'!$J$28 -> 0 | L53: ='Pr. 20 namui'!$M$16 -> 0 | M53: ='Pr. 20 namui'!$J$66 -> 0
L54: Iš viso: | M54: =+SUM(M34:M53) -> 0
B56: Pastaba: skaičiavimai atliekami lape "Skaičiavimą pagrindžianti informacija". Skaičiavimo pagrindimui lapas "Skaičiavimą pagrindžianti informacija" pridedamas prie mokėjimo prašymo.
B58: 4. | C58: Duomenys apie lėšų gavėją, kuriam turėtų būti pervestos valstybės paramos lėšos, apmokant išlaidas už projekto įgyvendinimo administravimą:
B59: 4.1. | C59: Projekto administratoriaus pavadinimas: | I59: =Prašymas!I25 -> 0
B60: 4.2. | C60: Projekto administratoriaus kodas: | I60: =I26 -> 0
B61: 4.3. | C61: Pervedamos valstybės paramos suma, Eur: | I61: =M54 -> 0
B62: 4.4. | C62: Sąskaitos (ų) faktūras (ų) už suteiktas projekto įgyvendinimo administravimo paslaugas numeris:
B63: 4.5. | C63: Sąskaitos (ų) faktūras (ų) už suteiktas projekto įgyvendinimo administravimo paslaugas data:
B64: 4.6. | C64: Projekto administratoriaus atsiskaitomosios sąskaitos numeris:
B66: Prašymo teikėjas atsako už pateikiamų duomenų teisingumą
B68: Pridedama:
B69: 1. | C69: Butų ir kitų patalpų savininkų sprendimo dėl daugiabučio namo atnaujinimo (modernizavimo) protokolo, kuriame nurodytas butų ir kitų patalpų savininkų patvirtintas projekto įgyvendinimo administravimo mėnesinės įmokos dydis bei nurodytas projekto įgyvendinimo administratorius, kopija;
B70: 2. | C70: Sąskaita faktūra už paslaugas kur nurodyta, kad mokėtojas – Lietuvos Respublikos aplinkos ministerijos Aplinkos projektų valdymo agentūra.
B71: 3. | C71: Butų savininkų, turinčių teisę į būsto šildymo išlaidų kompensaciją, sąrašas ir jame nurodytiems butų savininkams savivaldybės išduotos pažymos (ar jų kopijos), patvirtinančios, kad daugiabučio namo butų savininkai Taisyklių 41 punkte nurodyto prašymo pateikimo Agentūrai dieną turi teisę į būsto šildymo išlaidų kompensaciją (šie dokumentai ar jų kopijos neteikiami, jeigu teikiama 100 procentų valstybės parama projekto įgyvendinimui administruoti ir statybos techninei priežiūrai vykdyti);
B72: 4. | C72: Savivaldybės nuosavybės teise valdomų butų sąrašas (šis sąrašas neteikiamas, jeigu teikiama 100 procentų valstybės parama projekto įgyvendinimui administruoti ir statybos techninei priežiūrai vykdyti);
B73: 5. | C73: Statybos užbaigimo aktas, jeigu kreipiamasi dėl valstybės paramos suteikimo įgyvendinus projektą.
B74: 6. | C74: Paaiškinamasis raštas, įrodantis, kad Projekto administratorius per 3 mėnesius nuo butų ir kitų patalpų savininkų sprendimo įgyvendinti projektą priėmimo dienos ėmėsi veiksmų organizuoti projekto (statinio projekto) parengimo ir (ar) statybos techninės priežiūros paslaugos pirkimą, ir (ar) statybos rangos darbų pirkimą.
B75: 7. | C75: Informacija apie butų ir kitų patalpų savininkų, vykdančių ūkinę veiklą daugiabučiame name, susijusias įmones, jeigu tokia informacija iki šiol nebuvo pateikta arba yra pasikeitusi (Vadovaujantis 2013 m. gruodžio 18 d. Komisijos reglamento (ES) Nr. 1407/2013 2 straipsnio 2 dalies pakeitimu).
B76: 8. | C76: Perdavimo ir priėmimo aktas (kopija), kai pagal projektą užbaigti statybos rangos darbai.
B77: 9. | C77: Dokumentai (jų kopijos) įrodantys, kad per 10 darbo dienų, kai pagal projektą buvo užbaigti statybos rangos darbai ir pasirašytas perdavimo ir priėmimo aktas, buvo kreiptąsi į Valstybinės teritorijų planavimo ir statybos inspekcijos prie Aplinkos ministerijos padalinį dėl statybos užbaigimo akto išdavimo.
B78: 10. | C78: Protokolas dėl projekto administravimo išlaidų padidinimo netikslinant investicijų plano.
B79: 11. | C79: Registrų centro pažyma (-os), patvirtinanti, jog butas (-ai) ar patalpa (-os) priklauso buto savininkui (-ams) turintiems teisę į šildymo išlaidų kompensaciją.
B80: 12. | C80: Skaičiavimus pagrindžiantis prašymo priedas.
C84: (Projekto administratoriaus atstovo pareigos, vardas, pavardė) | I84: (Parašas)

Sheet Pr. 1 namui
C1: Prašymo apmokėti projekto įgyvendinimo administravimo išlaidas priedas. Prašymo 3 lentelės nurodytiems daugiabučiams namams tenkačio valstybės paramos dydžio apskaičiavimo pagrindimui
B3: Pirmasis namas
B4: 1. | C4: Duomenys apie atnaujinamą daugiabutį namą:
B5: 1.1 | C5: Daugiabučio namo adresas:
B6: 1.2 | C6: Daugiabučio namo atnaujinimo (modernizavimo) projekto numeris:
B7: 1.3 | C7: Daugiabučio namo butų ir kitų patalpų skaičius:
B8: 1.4 | C8: Daugiabučio namo naudingojo ploto suma:
B9: 1.5 | C9: Daugiabučio namo statybos metai:
B10: 1.6 | C10: Butų ir kitų patalpų savininkų sprendimo įgyvendinti projektą ir projekto įgyvendinimo administravimo paslaugos dydžio patvirtinimo data:
B11: 1.7. | C11: Statybos užbaigimo akto surašymo data (jeigu projekto įgyvendinimo metu toks aktas buvo surašytas)
B13: 2. | C13: Duomenys apie galimą suteikti valstybės paramos dydį:
B14: 2.1 | C14: Investicijų plane numatyta suma projekto įgyvendinimo administravimo išlaidoms:
B15: 2.2 | C15: Jau patirtos išlaidos projekto įgyvendinimo administravimui, įgyvendinant projektą:
B16: 2.3 | C16: Projekto įgyvendinimo administravimui apmokėti arba kompensuoti suteiktos valstybės paramos suma:
... B23: 3.4 | C23: Nepilno mėnesio dienų skaičius:
B24: 3.5 | C24: Pasirinkti mėnesį kuris buvo nepilnas (paspauskite duomenų pasirinkimui): | J24: =IF(H24=Sąrašai!$C$1,31,IF(H24=Sąrašai!$C$2,28,IF(H24=Sąrašai!$C$3,31,IF(H24=Sąrašai!$C$4,30,IF(H24=Sąrašai!$C$5,31,IF(H24=Sąrašai!$C$6,30,IF(H24=Sąrašai!$C$7,31,IF(H24=Sąrašai!$C$8,31,IF(H24=Sąrašai!$C$9,30,IF(H24=Sąrašai!$C$10,31,IF(H24=Sąrašai!$C$11,30,IF(H24=Sąrašai!$C$12,31,"0")))))))))))) -> 0
B26: 4. | C26: Informacija apie projekto įgyvendinimo administravimo išlaidas, neįvertinus valstybės paramos:
B27: 4.1 | C27: Butų ir kitų patalpų savininkų sprendimu patvirtinto projekto įgyvendinimo administravimo paslaugos dydžio tarifas Eur (0,1 eur. Tuo atveju kai projekto administratorius yra PVM mokėtojas, tai tarifas yra 0,121, nebent butų ir kitų patalpų savininkų sprendimu yra patvirtintas mažesnis tarifas):
B28: 4.2 | C28: Butų ir kitų patalpų savininkų sprendimu patvirtinto projekto įgyvendinimo administravimo dydis visam namui per mėnesį (apskaičiuojama automatiškai): | J28: =J8*J27 -> 0
B29: 4.3 | C29: Bendra projekto įgyvendinimo administravimo išlaidų suma už prašomą apmokėti laikotarpį (apskaičiuojama automatiškai): | J29: =IF(H23=0,H22*J28,(H22*J28)+(J28/J24*H23)) -> 0
B31: 5. | C31: Informacija apie butų ir kitų patalpų savininkams, turintiems teisę į šildymo išlaidų kompensaciją, tenkantį valstybės paramos, projekto įgyvendinimo administravimo išlaidoms apmokėti, dydį (pildoma tuo atveju jeigu daugiabučiame name yra butų ir kitų patalpų savininkų turinčių teisę į šildymo išlaidų kompensacija):
B32: 5.1 | C32: Buto/ patalpos Nr.: | D32: Savininko vardas, pavardė: | G32: Asmens valdomų patalpų plotas m2 (nurodyti plotą): | J32: Asmeniui tenkantis valstybės paramos dydis (apskaičiuojama automatiškai), eurais:
B33: 5.1.1 | J33: =IF(G33=0,0,G33*$J$29/$J$8) -> 0
B34: 5.1.2 | J34: =IF(G34=0,0,G34*$J$29/$J$8) -> 0
B35: 5.1.3 | J35: =IF(G35=0,0,G35*$J$29/$J$8) -> 0
B36: 5.1.4 | J36: =IF(G36=0,0,G36*$J$29/$J$8) -> 0
B37: 5.1.5 | J37: =IF(G37=0,0,G37*$J$29/$J$8) -> 0
B38: ... | J38: =IF(G38=0,0,G38*$J$29/$J$8) -> 0
D39: Bendra suma: | G39: =+SUM(G33:I38) -> 0 | J39: =+SUM(J33:M38) -> 0
B41: 6. | C41: Informacija apie daugiabučiame name savivaldybės nuosavybės teise valdomoms gyvenamosioms patalpoms tenkantį valstybės paramos dydį (pildoma tuo atveju jeigu daugiabučiame name yra savivaldybei nuosavybės teise priklausančių gyvenamųjų patalpų):
B42: 6.1 | C42: Buto/ patalpos Nr.: | E42: Savivaldybės valdomų patalpų plotas m2 (nurodyti plotą): | H42: Valstybės paramos dydis procentais (pasirinkti): | J42: Savivaldybei tenkantis valstybės paramos dydis (apskaičiuojama automatiškai), eurais:
B43: 6.1.1 | J43: =IF(H43=Sąrašai!$A$1,(E43*$J$29/$J$8)/"2",IF(H43=Sąrašai!$A$2,E43*$J$29/$J$8,)) -> 0
B44: 6.1.2 | J44: =IF(H44=Sąrašai!$A$1,(E44*$J$29/$J$8)/"2",IF(H44=Sąrašai!$A$2,E44*$J$29/$J$8,)) -> 0
B45: 6.1.3 | J45: =IF(H45=Sąrašai!$A$1,(E45*$J$29/$J$8)/"2",IF(H45=Sąrašai!$A$2,E45*$J$29/$J$8,)) -> 0
B46: 6.1.4 | J46: =IF(H46=Sąrašai!$A$1,(E46*$J$29/$J$8)/"2",IF(H46=Sąrašai!$A$2,E46*$J$29/$J$8,)) -> 0
B47: 6.1.5 | J47: =IF(H47=Sąrašai!$A$1,(E47*$J$29/$J$8)/"2",IF(H47=Sąrašai!$A$2,E47*$J$29/$J$8,)) -> 0
B48: ... | J48: =IF(H48=Sąrašai!$A$1,(E48*$J$29/$J$8)/"2",IF(H48=Sąrašai!$A$2,E48*$J$29/$J$8,)) -> 0
C49: Bendra suma: | E49: =+SUM(E43:G48) -> 0 | H49: - | J49: =+SUM(J43:M48) -> 0
B51: 7. | C51: Informacija apie butų ir kitų patalpų savininkams, daugiabučiame name vykdantiems ūkinę veiklą, tenkantį valstybės paramos, projekto įgyvendinimo administravimo išlaidoms apmokėti, dydį (pildoma tuo atveju jeigu daugiabučiame name yra butų ir kitų patalpų savininkų vykdančių ūkinę veiklą):
B52: 7.1 | C52: Buto/ patalpos Nr.: | D52: Savininko vardas, pavardė arba juridnimo asmens pavadinimas: | G52: Asmens valdomų patalpų plotas m2 (nurodyti plotą): | J52: Valstybės paramos dydis procentais (pasirinkti): | L52: Asmeniui tenkantis valstybės paramos dydis (apskaičiuojama automatiškai), eurais:
B53: 7.1.1 | L53: =IF(J53=Sąrašai!$A$1,(G53*$J$29/$J$8)/"2",IF(J53=Sąrašai!$A$2,G53*$J$29/$J$8,)) -> 0
B54: 7.1.2 | L54: =IF(J54=Sąrašai!$A$1,(G54*$J$29/$J$8)/"2",IF(J54=Sąrašai!$A$2,G54*$J$29/$J$8,)) -> 0
B55: 7.1.3 | L55: =IF(J55=Sąrašai!$A$1,(G55*$J$29/$J$8)/"2",IF(J55=Sąrašai!$A$2,G55*$J$29/$J$8,)) -> 0
B56: 7.1.4 | L56: =IF(J56=Sąrašai!$A$1,(G56*$J$29/$J$8)/"2",IF(J56=Sąrašai!$A$2,G56*$J$29/$J$8,)) -> 0
B57: 7.1.5 | L57: =IF(J57=Sąrašai!$A$1,(G57*$J$29/$J$8)/"2",IF(J57=Sąrašai!$A$2,G57*$J$29/$J$8,)) -> 0
B58: ... | L58: =IF(J58=Sąrašai!$A$1,(G58*$J$29/$J$8)/"2",IF(J58=Sąrašai!$A$2,G58*$J$29/$J$8,)) -> 0
D59: Bendra suma: | G59: =+SUM(G53:I58) -> 0 | J59: - | L59: =+SUM(L53:N58) -> 0
B61: 8 | C61: Informacija apie fiziniams asmenims (butų ir kitų patalpų savininkams), daugiabučiame name nevykdantiems ūkinės veiklos ir neturintiems teisės į šildymo išlaidų kompensaciją, projekto įgyvendinimo administravimo išlaidoms apmokėti, tenkantį valstybės paramos dydį (nurodoma informacija apie visus butų savininkus, kurie nėra nurodyti šio prašymo 5, 6, 7 lentelėse):
B62: 8.1 | C62: Butų skaičius: | D62: Asmenų valdomų patalpų plotų suma m2 (nurodyti plotą): | G62: Valstybės paramos dydis procentais (pasirinkti): | I62: Asmenims tenkantis valstybės paramos dydis (apskaičiuojama automatiškai), eurais:
B63: 8.1.1 | I63: =IF(G63=Sąrašai!$A$1,(D63*$J$29/$J$8)/"2",IF(G63=Sąrašai!$A$2,D63*$J$29/$J$8,)) -> 0
B64: Bendra suma: | D64: =+SUM(D63:F63) -> 0 | G64: - | I64: =+SUM(I63:K63) -> 0
B66: 9. | C66: Prašoma suteikti valstybės parama (apskaičiuojama automatiškai), eurais: | J66: =I64+L59+J49+J39 -> 0

Sheet Pr. 2 namui
C1: Prašymo apmokėti projekto įgyvendinimo išlaidas priedas. Prašymo 3 lentelės nurodytiems daugiabučiams namams tenkačio valstybės paramos dydžio apskaičiavimo pagrindimui
B3: Antrasis namas
B4: 1. | C4: Duomenys apie atnaujinamą daugiabutį namą:
B5: 1.1 | C5: Daugiabučio namo adresas:
B6: 1.2 | C6: Daugiabučio namo atnaujinimo (modernizavimo) projekto numeris:
B7: 1.3 | C7: Daugiabučio namo butų ir kitų patalpų skaičius:
B8: 1.4 | C8: Daugiabučio namo naudingojo ploto suma:
B9: 1.5 | C9: Daugiabučio namo statybos metai:
B10: 1.6 | C10: Butų ir kitų patalpų savininkų sprendimo įgyvendinti projektą ir projekto įgyvendinimo administravimo paslaugos dydžio patvirtinimo data:
B11: 1.7. | C11: Statybos užbaigimo akto surašymo data (jeigu projekto įgyvendinimo metu toks aktas buvo surašytas)
B13: 2. | C13: Duomenys apie galimą suteikti valstybės paramos dydį:
B14: 2.1 | C14: Investicijų plane numatyta suma projekto įgyvendinimo administravimo išlaidoms:
B15: 2.2 | C15: Jau patirtos išlaidos projekto įgyvendinimo administravimui, įgyvendinant projektą:
B16: 2.3 | C16: Projekto įgyvendinimo administravimui apmokėti arba kompensuoti suteiktos valstybės paramos suma:
... B23: 3.4 | C23: Nepilno mėnesio dienų skaičius:
B24: 3.5 | C24: Pasirinkti mėnesį kuris buvo nepilnas (paspauskite duomenų pasirinkimui): | J24: =IF(H24=Sąrašai!$C$1,31,IF(H24=Sąrašai!$C$2,28,IF(H24=Sąrašai!$C$3,31,IF(H24=Sąrašai!$C$4,30,IF(H24=Sąrašai!$C$5,31,IF(H24=Sąrašai!$C$6,30,IF(H24=Sąrašai!$C$7,31,IF(H24=Sąrašai!$C$8,31,IF(H24=Sąrašai!$C$9,30,IF(H24=Sąrašai!$C$10,31,IF(H24=Sąrašai!$C$11,30,IF(H24=Sąrašai!$C$12,31,"0")))))))))))) -> 0
B26: 4. | C26: Informacija apie projekto įgyvendinimo administravimo išlaidas, neįvertinus valstybės paramos:
B27: 4.1 | C27: Butų ir kitų patalpų savininkų sprendimu patvirtinto projekto įgyvendinimo administravimo paslaugos dydžio tarifas Eur (0,1 eur. Tuo atveju kai projekto administratorius yra PVM mokėtojas, tai tarifas yra 0,121, nebent butų ir kitų patalpų savininkų sprendimu yra patvirtintas mažesnis tarifas):
B28: 4.2 | C28: Butų ir kitų patalpų savininkų sprendimu patvirtinto projekto įgyvendinimo administravimo dydis visam namui per mėnesį (apskaičiuojama automatiškai): | J28: =J8*J27 -> 0
B29: 4.3 | C29: Bendra projekto įgyvendinimo administravimo išlaidų suma už prašomą apmokėti laikotarpį (apskaičiuojama automatiškai): | J29: =IF(H23=0,H22*J28,(H22*J28)+(J28/J24*H23)) -> 0
B31: 5. | C31: Informacija apie butų ir kitų patalpų savininkams, turintiems teisę į šildymo išlaidų kompensaciją, tenkantį valstybės paramos, projekto įgyvendinimo administravimo išlaidoms apmokėti, dydį (pildoma tuo atveju jeigu daugiabučiame name yra butų ir kitų patalpų savininkų turinčių teisę į šildymo išlaidų kompensacija):
B32: 5.1 | C32: Buto/ patalpos Nr.: | D32: Savininko vardas, pavardė: | G32: Asmens valdomų patalpų plotas m2 (nurodyti plotą): | J32: Asmeniui tenkantis valstybės paramos dydis (apskaičiuojama automatiškai), eurais:
B33: 5.1.1 | J33: =IF(G33=0,0,G33*$J$29/$J$8) -> 0
B34: 5.1.2 | J34: =IF(G34=0,0,G34*$J$29/$J$8) -> 0
B35: 5.1.3 | J35: =IF(G35=0,0,G35*$J$29/$J$8) -> 0
B36: 5.1.4 | J36: =IF(G36=0,0,G36*$J$29/$J$8) -> 0
B37: 5.1.5 | J37: =IF(G37=0,0,G37*$J$29/$J$8) -> 0
B38: ... | J38: =IF(G38=0,0,G38*$J$29/$J$8) -> 0
D39: Bendra suma: | G39: =+SUM(G33:I38) -> 0 | J39: =+SUM(J33:M38) -> 0
B41: 6. | C41: Informacija apie daugiabučiame name savivaldybės nuosavybės teise valdomoms gyvenamosioms patalpoms tenkantį valstybės paramos dydį (pildoma tuo atveju jeigu daugiabučiame name yra savivaldybei nuosavybės teise priklausančių gyvenamųjų patalpų):
B42: 6.1 | C42: Buto/ patalpos Nr.: | E42: Savivaldybės valdomų patalpų plotas m2 (nurodyti plotą): | H42: Valstybės paramos dydis procentais (pasirinkti): | J42: Savivaldybei tenkantis valstybės paramos dydis (apskaičiuojama automatiškai), eurais:
B43: 6.1.1 | J43: =IF(H43=Sąrašai!$A$1,(E43*$J$29/$J$8)/"2",IF(H43=Sąrašai!$A$2,E43*$J$29/$J$8,)) -> 0
B44: 6.1.2 | J44: =IF(H44=Sąrašai!$A$1,(E44*$J$29/$J$8)/"2",IF(H44=Sąrašai!$A$2,E44*$J$29/$J$8,)) -> 0
B45: 6.1.3 | J45: =IF(H45=Sąrašai!$A$1,(E45*$J$29/$J$8)/"2",IF(H45=Sąrašai!$A$2,E45*$J$29/$J$8,)) -> 0
B46: 6.1.4 | J46: =IF(H46=Sąrašai!$A$1,(E46*$J$29/$J$8)/"2",IF(H46=Sąrašai!$A$2,E46*$J$29/$J$8,)) -> 0
B47: 6.1.5 | J47: =IF(H47=Sąrašai!$A$1,(E47*$J$29/$J$8)/"2",IF(H47=Sąrašai!$A$2,E47*$J$29/$J$8,)) -> 0
B48: ... | J48: =IF(H48=Sąrašai!$A$1,(E48*$J$29/$J$8)/"2",IF(H48=Sąrašai!$A$2,E48*$J$29/$J$8,)) -> 0
C49: Bendra suma: | E49: =+SUM(E43:G48) -> 0 | H49: - | J49: =+SUM(J43:M48) -> 0
B51: 7. | C51: Informacija apie butų ir kitų patalpų savininkams, daugiabučiame name vykdantiems ūkinę veiklą, tenkantį valstybės paramos, projekto įgyvendinimo administravimo išlaidoms apmokėti, dydį (pildoma tuo atveju jeigu daugiabučiame name yra butų ir kitų patalpų savininkų vykdančių ūkinę veiklą):
B52: 7.1 | C52: Buto/ patalpos Nr.: | D52: Savininko vardas, pavardė arba juridnimo asmens pavadinimas: | G52: Asmens valdomų patalpų plotas m2 (nurodyti plotą): | J52: Valstybės paramos dydis procentais (pasirinkti): | L52: Asmeniui tenkantis valstybės paramos dydis (apskaičiuojama automatiškai), eurais:
B53: 7.1.1 | L53: =IF(J53=Sąrašai!$A$1,(G53*$J$29/$J$8)/"2",IF(J53=Sąrašai!$A$2,G53*$J$29/$J$8,)) -> 0
B54: 7.1.2 | L54: =IF(J54=Sąrašai!$A$1,(G54*$J$29/$J$8)/"2",IF(J54=Sąrašai!$A$2,G54*$J$29/$J$8,)) -> 0
B55: 7.1.3 | L55: =IF(J55=Sąrašai!$A$1,(G55*$J$29/$J$8)/"2",IF(J55=Sąrašai!$A$2,G55*$J$29/$J$8,)) -> 0
B56: 7.1.4 | L56: =IF(J56=Sąrašai!$A$1,(G56*$J$29/$J$8)/"2",IF(J56=Sąrašai!$A$2,G56*$J$29/$J$8,)) -> 0
B57: 7.1.5 | L57: =IF(J57=Sąrašai!$A$1,(G57*$J$29/$J$8)/"2",IF(J57=Sąrašai!$A$2,G57*$J$29/$J$8,)) -> 0
B58: ... | L58: =IF(J58=Sąrašai!$A$1,(G58*$J$29/$J$8)/"2",IF(J58=Sąrašai!$A$2,G58*$J$29/$J$8,)) -> 0
D59: Bendra suma: | G59: =+SUM(G53:I58) -> 0 | J59: - | L59: =+SUM(L53:N58) -> 0
B61: 8 | C61: Informacija apie fiziniams asmenims (butų ir kitų patalpų savininkams), daugiabučiame name nevykdantiems ūkinės veiklos ir neturintiems teisės į šildymo išlaidų kompensaciją, projekto įgyvendinimo administravimo išlaidoms apmokėti, tenkantį valstybės paramos dydį (nurodoma informacija apie visus butų savininkus, kurie nėra nurodyti šio prašymo 5, 6, 7 lentelėse):
B62: 8.1 | C62: Butų skaičius: | D62: Asmenų valdomų patalpų plotų suma m2 (nurodyti plotą): | G62: Valstybės paramos dydis procentais (pasirinkti): | I62: Asmenims tenkantis valstybės paramos dydis (apskaičiuojama automatiškai), eurais:
B63: 8.1.1 | I63: =IF(G63=Sąrašai!$A$1,(D63*$J$29/$J$8)/"2",IF(G63=Sąrašai!$A$2,D63*$J$29/$J$8,)) -> 0
B64: Bendra suma: | D64: =+SUM(D63:F63) -> 0 | G64: - | I64: =+SUM(I63:K63) -> 0
B66: 9. | C66: Prašoma suteikti valstybės parama (apskaičiuojama automatiškai), eurais: | J66: =I64+L59+J49+J39 -> 0

Sheet Pr. 3 namui
C1: Prašymo apmokėti projekto įgyvendinimo išlaidas priedas. Prašymo 3 lentelės nurodytiems daugiabučiams namams tenkačio valstybės paramos dydžio apskaičiavimo pagrindimui
B3: Trečiasis namas
B4: 1. | C4: Duomenys apie atnaujinamą daugiabutį namą:
B5: 1.1 | C5: Daugiabučio namo adresas:
B6: 1.2 | C6: Daugiabučio namo atnaujinimo (modernizavimo) projekto numeris:
B7: 1.3 | C7: Daugiabučio namo butų ir kitų patalpų skaičius:
B8: 1.4 | C8: Daugiabučio namo naudingojo ploto suma:
B9: 1.5 | C9: Daugiabučio namo statybos metai:
B10: 1.6 | C10: Butų ir kitų patalpų savininkų sprendimo įgyvendinti projektą ir projekto įgyvendinimo administravimo paslaugos dydžio patvirtinimo data:
B11: 1.7. | C11: Statybos užbaigimo akto surašymo data (jeigu projekto įgyvendinimo metu toks aktas buvo surašytas)
B13: 2. | C13: Duomenys apie galimą suteikti valstybės paramos dydį:
B14: 2.1 | C14: Investicijų plane numatyta suma projekto įgyvendinimo administravimo išlaidoms:
B15: 2.2 | C15: Jau patirtos išlaidos projekto įgyvendinimo administravimui, įgyvendinant projektą:
B16: 2.3 | C16: Projekto įgyvendinimo administravimui apmokėti arba kompensuoti suteiktos valstybės paramos suma:
... B23: 3.4 | C23: Nepilno mėnesio dienų skaičius:
B24: 3.5 | C24: Pasirinkti mėnesį kuris buvo nepilnas (paspauskite duomenų pasirinkimui): | J24: =IF(H24=Sąrašai!$C$1,31,IF(H24=Sąrašai!$C$2,28,IF(H24=Sąrašai!$C$3,31,IF(H24=Sąrašai!$C$4,30,IF(H24=Sąrašai!$C$5,31,IF(H24=Sąrašai!$C$6,30,IF(H24=Sąrašai!$C$7,31,IF(H24=Sąrašai!$C$8,31,IF(H24=Sąrašai!$C$9,30,IF(H24=Sąrašai!$C$10,31,IF(H24=Sąrašai!$C$11,30,IF(H24=Sąrašai!$C$12,31,"0")))))))))))) -> 0
B26: 4. | C26: Informacija apie projekto įgyvendinimo administravimo išlaidas, neįvertinus valstybės paramos:
B27: 4.1 | C27: Butų ir kitų patalpų savininkų sprendimu patvirtinto projekto įgyvendinimo administravimo paslaugos dydžio tarifas Eur (0,1 eur. Tuo atveju kai projekto administratorius yra PVM mokėtojas, tai tarifas yra 0,121, nebent butų ir kitų patalpų savininkų sprendimu yra patvirtintas mažesnis tarifas):
B28: 4.2 | C28: Butų ir kitų patalpų savininkų sprendimu patvirtinto projekto įgyvendinimo administravimo dydis visam namui per mėnesį (apskaičiuojama automatiškai): | J28: =J8*J27 -> 0
B29: 4.3 | C29: Bendra projekto įgyvendinimo administravimo išlaidų suma už prašomą apmokėti laikotarpį (apskaičiuojama automatiškai): | J29: =IF(H23=0,H22*J28,(H22*J28)+(J28/J24*H23)) -> 0
B31: 5. | C31: Informacija apie butų ir kitų patalpų savininkams, turintiems teisę į šildymo išlaidų kompensaciją, tenkantį valstybės paramos, projekto įgyvendinimo administravimo išlaidoms apmokėti, dydį (pildoma tuo atveju jeigu daugiabučiame name yra butų ir kitų patalpų savininkų turinčių teisę į šildymo išlaidų kompensacija):
B32: 5.1 | C32: Buto/ patalpos Nr.: | D32: Savininko vardas, pavardė: | G32: Asmens valdomų patalpų plotas m2 (nurodyti plotą): | J32: Asmeniui tenkantis valstybės paramos dydis (apskaičiuojama automatiškai), eurais:
B33: 5.1.1 | J33: =IF(G33=0,0,G33*$J$29/$J$8) -> 0
B34: 5.1.2 | J34: =IF(G34=0,0,G34*$J$29/$J$8) -> 0
B35: 5.1.3 | J35: =IF(G35=0,0,G35*$J$29/$J$8) -> 0
B36: 5.1.4 | J36: =IF(G36=0,0,G36*$J$29/$J$8) -> 0
B37: 5.1.5 | J37: =IF(G37=0,0,G37*$J$29/$J$8) -> 0
B38: ... | J38: =IF(G38=0,0,G38*$J$29/$J$8) -> 0
D39: Bendra suma: | G39: =+SUM(G33:I38) -> 0 | J39: =+SUM(J33:M38) -> 0
B41: 6. | C41: Informacija apie daugiabučiame name savivaldybės nuosavybės teise valdomoms gyvenamosioms patalpoms tenkantį valstybės paramos dydį (pildoma tuo atveju jeigu daugiabučiame name yra savivaldybei nuosavybės teise priklausančių gyvenamųjų patalpų):
B42: 6.1 | C42: Buto/ patalpos Nr.: | E42: Savivaldybės valdomų patalpų plotas m2 (nurodyti plotą): | H42: Valstybės paramos dydis procentais (pasirinkti): | J42: Savivaldybei tenkantis valstybės paramos dydis (apskaičiuojama automatiškai), eurais:
B43: 6.1.1 | J43: =IF(H43=Sąrašai!$A$1,(E43*$J$29/$J$8)/"2",IF(H43=Sąrašai!$A$2,E43*$J$29/$J$8,)) -> 0
B44: 6.1.2 | J44: =IF(H44=Sąrašai!$A$1,(E44*$J$29/$J$8)/"2",IF(H44=Sąrašai!$A$2,E44*$J$29/$J$8,)) -> 0
B45: 6.1.3 | J45: =IF(H45=Sąrašai!$A$1,(E45*$J$29/$J$8)/"2",IF(H45=Sąrašai!$A$2,E45*$J$29/$J$8,)) -> 0
B46: 6.1.4 | J46: =IF(H46=Sąrašai!$A$1,(E46*$J$29/$J$8)/"2",IF(H46=Sąrašai!$A$2,E46*$J$29/$J$8,)) -> 0
B47: 6.1.5 | J47: =IF(H47=Sąrašai!$A$1,(E47*$J$29/$J$8)/"2",IF(H47=Sąrašai!$A$2,E47*$J$29/$J$8,)) -> 0
B48: ... | J48: =IF(H48=Sąrašai!$A$1,(E48*$J$29/$J$8)/"2",IF(H48=Sąrašai!$A$2,E48*$J$29/$J$8,)) -> 0
C49: Bendra suma: | E49: =+SUM(E43:G48) -> 0 | H49: - | J49: =+SUM(J43:M48) -> 0
B51: 7. | C51: Informacija apie butų ir kitų patalpų savininkams, daugiabučiame name vykdantiems ūkinę veiklą, tenkantį valstybės paramos, projekto įgyvendinimo administravimo išlaidoms apmokėti, dydį (pildoma tuo atveju jeigu daugiabučiame name yra butų ir kitų patalpų savininkų vykdančių ūkinę veiklą):
B52: 7.1 | C52: Buto/ patalpos Nr.: | D52: Savininko vardas, pavardė arba juridnimo asmens pavadinimas: | G52: Asmens valdomų patalpų plotas m2 (nurodyti plotą): | J52: Valstybės paramos dydis procentais (pasirinkti): | L52: Asmeniui tenkantis valstybės paramos dydis (apskaičiuojama automatiškai), eurais:
B53: 7.1.1 | L53: =IF(J53=Sąrašai!$A$1,(G53*$J$29/$J$8)/"2",IF(J53=Sąrašai!$A$2,G53*$J$29/$J$8,)) -> 0
B54: 7.1.2 | L54: =IF(J54=Sąrašai!$A$1,(G54*$J$29/$J$8)/"2",IF(J54=Sąrašai!$A$2,G54*$J$29/$J$8,)) -> 0
B55: 7.1.3 | L55: =IF(J55=Sąrašai!$A$1,(G55*$J$29/$J$8)/"2",IF(J55=Sąrašai!$A$2,G55*$J$29/$J$8,)) -> 0
B56: 7.1.4 | L56: =IF(J56=Sąrašai!$A$1,(G56*$J$29/$J$8)/"2",IF(J56=Sąrašai!$A$2,G56*$J$29/$J$8,)) -> 0
B57: 7.1.5 | L57: =IF(J57=Sąrašai!$A$1,(G57*$J$29/$J$8)/"2",IF(J57=Sąrašai!$A$2,G57*$J$29/$J$8,)) -> 0
B58: ... | L58: =IF(J58=Sąrašai!$A$1,(G58*$J$29/$J$8)/"2",IF(J58=Sąrašai!$A$2,G58*$J$29/$J$8,)) -> 0
D59: Bendra suma: | G59: =+SUM(G53:I58) -> 0 | J59: - | L59: =+SUM(L53:N58) -> 0
B61: 8 | C61: Informacija apie fiziniams asmenims (butų ir kitų patalpų savininkams), daugiabučiame name nevykdantiems ūkinės veiklos ir neturintiems teisės į šildymo išlaidų kompensaciją, projekto įgyvendinimo administravimo išlaidoms apmokėti, tenkantį valstybės paramos dydį (nurodoma informacija apie visus butų savininkus, kurie nėra nurodyti šio prašymo 5, 6, 7 lentelėse):
B62: 8.1 | C62: Butų skaičius: | D62: Asmenų valdomų patalpų plotų suma m2 (nurodyti plotą): | G62: Valstybės paramos dydis procentais (pasirinkti): | I62: Asmenims tenkantis valstybės paramos dydis (apskaičiuojama automatiškai), eurais:
B63: 8.1.1 | I63: =IF(G63=Sąrašai!$A$1,(D63*$J$29/$J$8)/"2",IF(G63=Sąrašai!$A$2,D63*$J$29/$J$8,)) -> 0
B64: Bendra suma: | D64: =+SUM(D63:F63) -> 0 | G64: - | I64: =+SUM(I63:K63) -> 0
B66: 9. | C66: Prašoma suteikti valstybės parama (apskaičiuojama automatiškai), eurais: | J66: =I64+L59+J49+J39 -> 0

Sheet Pr. 4 namui
C1: Prašymo apmokėti projekto įgyvendinimo išlaidas priedas. Prašymo 3 lentelės nurodytiems daugiabučiams namams tenkačio valstybės paramos dydžio apskaičiavimo pagrindimui
B3: Ketvirtasis namas
B4: 1. | C4: Duomenys apie atnaujinamą daugiabutį namą:
B5: 1.1 | C5: Daugiabučio namo adresas:
B6: 1.2 | C6: Daugiabučio namo atnaujinimo (modernizavimo) projekto numeris:
B7: 1.3 | C7: Daugiabučio namo butų ir kitų patalpų skaičius:
B8: 1.4 | C8: Daugiabučio namo naudingojo ploto suma:
B9: 1.5 | C9: Daugiabučio namo statybos metai:
B10: 1.6 | C10: Butų ir kitų patalpų savininkų sprendimo įgyvendinti projektą ir projekto įgyvendinimo administravimo paslaugos dydžio patvirtinimo data:
B11: 1.7. | C11: Statybos užbaigimo akto surašymo data (jeigu projekto įgyvendinimo metu toks aktas buvo surašytas)
B13: 2. | C13: Duomenys apie galimą suteikti valstybės paramos dydį:
B14: 2.1 | C14: Investicijų plane numatyta suma projekto įgyvendinimo administravimo išlaidoms:
B15: 2.2 | C15: Jau patirtos išlaidos projekto įgyvendinimo administravimui, įgyvendinant projektą:
B16: 2.3 | C16: Projekto įgyvendinimo administravimui apmokėti arba kompensuoti suteiktos valstybės paramos suma:
... B23: 3.4 | C23: Nepilno mėnesio dienų skaičius:
B24: 3.5 | C24: Pasirinkti mėnesį kuris buvo nepilnas (paspauskite duomenų pasirinkimui): | J24: =IF(H24=Sąrašai!$C$1,31,IF(H24=Sąrašai!$C$2,28,IF(H24=Sąrašai!$C$3,31,IF(H24=Sąrašai!$C$4,30,IF(H24=Sąrašai!$C$5,31,IF(H24=Sąrašai!$C$6,30,IF(H24=Sąrašai!$C$7,31,IF(H24=Sąrašai!$C$8,31,IF(H24=Sąrašai!$C$9,30,IF(H24=Sąrašai!$C$10,31,IF(H24=Sąrašai!$C$11,30,IF(H24=Sąrašai!$C$12,31,"0")))))))))))) -> 0
B26: 4. | C26: Informacija apie projekto įgyvendinimo administravimo išlaidas, neįvertinus valstybės paramos:
B27: 4.1 | C27: Butų ir kitų patalpų savininkų sprendimu patvirtinto projekto įgyvendinimo administravimo paslaugos dydžio tarifas Eur (0,1 eur. Tuo atveju kai projekto administratorius yra PVM mokėtojas, tai tarifas yra 0,121, nebent butų ir kitų patalpų savininkų sprendimu yra patvirtintas mažesnis tarifas):
B28: 4.2 | C28: Butų ir kitų patalpų savininkų sprendimu patvirtinto projekto įgyvendinimo administravimo dydis visam namui per mėnesį (apskaičiuojama automatiškai): | J28: =J8*J27 -> 0
B29: 4.3 | C29: Bendra projekto įgyvendinimo administravimo išlaidų suma už prašomą apmokėti laikotarpį (apskaičiuojama automatiškai): | J29: =IF(H23=0,H22*J28,(H22*J28)+(J28/J24*H23)) -> 0
B31: 5. | C31: Informacija apie butų ir kitų patalpų savininkams, turintiems teisę į šildymo išlaidų kompensaciją, tenkantį valstybės paramos, projekto įgyvendinimo administravimo išlaidoms apmokėti, dydį (pildoma tuo atveju jeigu daugiabučiame name yra butų ir kitų patalpų savininkų turinčių teisę į šildymo išlaidų kompensacija):
B32: 5.1 | C32: Buto/ patalpos Nr.: | D32: Savininko vardas, pavardė: | G32: Asmens valdomų patalpų plotas m2 (nurodyti plotą): | J32: Asmeniui tenkantis valstybės paramos dydis (apskaičiuojama automatiškai), eurais:
B33: 5.1.1 | J33: =IF(G33=0,0,G33*$J$29/$J$8) -> 0
B34: 5.1.2 | J34: =IF(G34=0,0,G34*$J$29/$J$8) -> 0
B35: 5.1.3 | J35: =IF(G35=0,0,G35*$J$29/$J$8) -> 0
B36: 5.1.4 | J36: =IF(G36=0,0,G36*$J$29/$J$8) -> 0
B37: 5.1.5 | J37: =IF(G37=0,0,G37*$J$29/$J$8) -> 0
B38: ... | J38: =IF(G38=0,0,G38*$J$29/$J$8) -> 0
D39: Bendra suma: | G39: =+SUM(G33:I38) -> 0 | J39: =+SUM(J33:M38) -> 0
B41: 6. | C41: Informacija apie daugiabučiame name savivaldybės nuosavybės teise valdomoms gyvenamosioms patalpoms tenkantį valstybės paramos dydį (pildoma tuo atveju jeigu daugiabučiame name yra savivaldybei nuosavybės teise priklausančių gyvenamųjų patalpų):
B42: 6.1 | C42: Buto/ patalpos Nr.: | E42: Savivaldybės valdomų patalpų plotas m2 (nurodyti plotą): | H42: Valstybės paramos dydis procentais (pasirinkti): | J42: Savivaldybei tenkantis valstybės paramos dydis (apskaičiuojama automatiškai), eurais:
B43: 6.1.1 | J43: =IF(H43=Sąrašai!$A$1,(E43*$J$29/$J$8)/"2",IF(H43=Sąrašai!$A$2,E43*$J$29/$J$8,)) -> 0
B44: 6.1.2 | J44: =IF(H44=Sąrašai!$A$1,(E44*$J$29/$J$8)/"2",IF(H44=Sąrašai!$A$2,E44*$J$29/$J$8,)) -> 0
B45: 6.1.3 | J45: =IF(H45=Sąrašai!$A$1,(E45*$J$29/$J$8)/"2",IF(H45=Sąrašai!$A$2,E45*$J$29/$J$8,)) -> 0
B46: 6.1.4 | J46: =IF(H46=Sąrašai!$A$1,(E46*$J$29/$J$8)/"2",IF(H46=Sąrašai!$A$2,E46*$J$29/$J$8,)) -> 0
B47: 6.1.5 | J47: =IF(H47=Sąrašai!$A$1,(E47*$J$29/$J$8)/"2",IF(H47=Sąrašai!$A$2,E47*$J$29/$J$8,)) -> 0
B48: ... | J48: =IF(H48=Sąrašai!$A$1,(E48*$J$29/$J$8)/"2",IF(H48=Sąrašai!$A$2,E48*$J$29/$J$8,)) -> 0
C49: Bendra suma: | E49: =+SUM(E43:G48) -> 0 | H49: - | J49: =+SUM(J43:M48) -> 0
B51: 7. | C51: Informacija apie butų ir kitų patalpų savininkams, daugiabučiame name vykdantiems ūkinę veiklą, tenkantį valstybės paramos, projekto įgyvendinimo administravimo išlaidoms apmokėti, dydį (pildoma tuo atveju jeigu daugiabučiame name yra butų ir kitų patalpų savininkų vykdančių ūkinę veiklą):
B52: 7.1 | C52: Buto/ patalpos Nr.: | D52: Savininko vardas, pavardė arba juridnimo asmens pavadinimas: | G52: Asmens valdomų patalpų plotas m2 (nurodyti plotą): | J52: Valstybės paramos dydis procentais (pasirinkti): | L52: Asmeniui tenkantis valstybės paramos dydis (apskaičiuojama automatiškai), eurais:
B53: 7.1.1 | L53: =IF(J53=Sąrašai!$A$1,(G53*$J$29/$J$8)/"2",IF(J53=Sąrašai!$A$2,G53*$J$29/$J$8,)) -> 0
B54: 7.1.2 | L54: =IF(J54=Sąrašai!$A$1,(G54*$J$29/$J$8)/"2",IF(J54=Sąrašai!$A$2,G54*$J$29/$J$8,)) -> 0
B55: 7.1.3 | L55: =IF(J55=Sąrašai!$A$1,(G55*$J$29/$J$8)/"2",IF(J55=Sąrašai!$A$2,G55*$J$29/$J$8,)) -> 0
B56: 7.1.4 | L56: =IF(J56=Sąrašai!$A$1,(G56*$J$29/$J$8)/"2",IF(J56=Sąrašai!$A$2,G56*$J$29/$J$8,)) -> 0
B57: 7.1.5 | L57: =IF(J57=Sąrašai!$A$1,(G57*$J$29/$J$8)/"2",IF(J57=Sąrašai!$A$2,G57*$J$29/$J$8,)) -> 0
B58: ... | L58: =IF(J58=Sąrašai!$A$1,(G58*$J$29/$J$8)/"2",IF(J58=Sąrašai!$A$2,G58*$J$29/$J$8,)) -> 0
D59: Bendra suma: | G59: =+SUM(G53:I58) -> 0 | J59: - | L59: =+SUM(L53:N58) -> 0
B61: 8 | C61: Informacija apie fiziniams asmenims (butų ir kitų patalpų savininkams), daugiabučiame name nevykdantiems ūkinės veiklos ir neturintiems teisės į šildymo išlaidų kompensaciją, projekto įgyvendinimo administravimo išlaidoms apmokėti, tenkantį valstybės paramos dydį (nurodoma informacija apie visus butų savininkus, kurie nėra nurodyti šio prašymo 5, 6, 7 lentelėse):
B62: 8.1 | C62: Butų skaičius: | D62: Asmenų valdomų patalpų plotų suma m2 (nurodyti plotą): | G62: Valstybės paramos dydis procentais (pasirinkti): | I62: Asmenims tenkantis valstybės paramos dydis (apskaičiuojama automatiškai), eurais:
B63: 8.1.1 | I63: =IF(G63=Sąrašai!$A$1,(D63*$J$29/$J$8)/"2",IF(G63=Sąrašai!$A$2,D63*$J$29/$J$8,)) -> 0
B64: Bendra suma: | D64: =+SUM(D63:F63) -> 0 | G64: - | I64: =+SUM(I63:K63) -> 0
B66: 9. | C66: Prašoma suteikti valstybės parama (apskaičiuojama automatiškai), eurais: | J66: =I64+L59+J49+J39 -> 0

Sheet Pr. 5 namui
C1: Prašymo apmokėti projekto įgyvendinimo išlaidas priedas. Prašymo 3 lentelės nurodytiems daugiabučiams namams tenkačio valstybės paramos dydžio apskaičiavimo pagrindimui
B3: Penktasis namas
B4: 1. | C4: Duomenys apie atnaujinamą daugiabutį namą:
B5: 1.1 | C5: Daugiabučio namo adresas:
B6: 1.2 | C6: Daugiabučio namo atnaujinimo (modernizavimo) projekto numeris:
B7: 1.3 | C7: Daugiabučio namo butų ir kitų patalpų skaičius:
B8: 1.4 | C8: Daugiabučio namo naudingojo ploto suma:
B9: 1.5 | C9: Daugiabučio namo statybos metai:
B10: 1.6 | C10: Butų ir kitų patalpų savininkų sprendimo įgyvendinti projektą ir projekto įgyvendinimo administravimo paslaugos dydžio patvirtinimo data:
B11: 1.7. | C11: Statybos užbaigimo akto surašymo data (jeigu projekto įgyvendinimo metu toks aktas buvo surašytas)
B13: 2. | C13: Duomenys apie galimą suteikti valstybės paramos dydį:
B14: 2.1 | C14: Investicijų plane numatyta suma projekto įgyvendinimo administravimo išlaidoms:
B15: 2.2 | C15: Jau patirtos išlaidos projekto įgyvendinimo administravimui, įgyvendinant projektą:
B16: 2.3 | C16: Projekto įgyvendinimo administravimui apmokėti arba kompensuoti suteiktos valstybės paramos suma:
... B23: 3.4 | C23: Nepilno mėnesio dienų skaičius:
B24: 3.5 | C24: Pasirinkti mėnesį kuris buvo nepilnas (paspauskite duomenų pasirinkimui): | J24: =IF(H24=Sąrašai!$C$1,31,IF(H24=Sąrašai!$C$2,28,IF(H24=Sąrašai!$C$3,31,IF(H24=Sąrašai!$C$4,30,IF(H24=Sąrašai!$C$5,31,IF(H24=Sąrašai!$C$6,30,IF(H24=Sąrašai!$C$7,31,IF(H24=Sąrašai!$C$8,31,IF(H24=Sąrašai!$C$9,30,IF(H24=Sąrašai!$C$10,31,IF(H24=Sąrašai!$C$11,30,IF(H24=Sąrašai!$C$12,31,"0")))))))))))) -> 0
B26: 4. | C26: Informacija apie projekto įgyvendinimo administravimo išlaidas, neįvertinus valstybės paramos:
B27: 4.1 | C27: Butų ir kitų patalpų savininkų sprendimu patvirtinto projekto įgyvendinimo administravimo paslaugos dydžio tarifas Eur (0,1 eur. Tuo atveju kai projekto administratorius yra PVM mokėtojas, tai tarifas yra 0,121, nebent butų ir kitų patalpų savininkų sprendimu yra patvirtintas mažesnis tarifas):
B28: 4.2 | C28: Butų ir kitų patalpų savininkų sprendimu patvirtinto projekto įgyvendinimo administravimo dydis visam namui per mėnesį (apskaičiuojama automatiškai): | J28: =J8*J27 -> 0
B29: 4.3 | C29: Bendra projekto įgyvendinimo administravimo išlaidų suma už prašomą apmokėti laikotarpį (apskaičiuojama automatiškai): | J29: =IF(H23=0,H22*J28,(H22*J28)+(J28/J24*H23)) -> 0
B31: 5. | C31: Informacija apie butų ir kitų patalpų savininkams, turintiems teisę į šildymo išlaidų kompensaciją, tenkantį valstybės paramos, projekto įgyvendinimo administravimo išlaidoms apmokėti, dydį (pildoma tuo atveju jeigu daugiabučiame name yra butų ir kitų patalpų savininkų turinčių teisę į šildymo išlaidų kompensacija):
B32: 5.1 | C32: Buto/ patalpos Nr.: | D32: Savininko vardas, pavardė: | G32: Asmens valdomų patalpų plotas m2 (nurodyti plotą): | J32: Asmeniui tenkantis valstybės paramos dydis (apskaičiuojama automatiškai), eurais:
B33: 5.1.1 | J33: =IF(G33=0,0,G33*$J$29/$J$8) -> 0
B34: 5.1.2 | J34: =IF(G34=0,0,G34*$J$29/$J$8) -> 0
B35: 5.1.3 | J35: =IF(G35=0,0,G35*$J$29/$J$8) -> 0
B36: 5.1.4 | J36: =IF(G36=0,0,G36*$J$29/$J$8) -> 0
B37: 5.1.5 | J37: =IF(G37=0,0,G37*$J$29/$J$8) -> 0
B38: ... | J38: =IF(G38=0,0,G38*$J$29/$J$8) -> 0
D39: Bendra suma: | G39: =+SUM(G33:I38) -> 0 | J39: =+SUM(J33:M38) -> 0
B41: 6. | C41: Informacija apie daugiabučiame name savivaldybės nuosavybės teise valdomoms gyvenamosioms patalpoms tenkantį valstybės paramos dydį (pildoma tuo atveju jeigu daugiabučiame name yra savivaldybei nuosavybės teise priklausančių gyvenamųjų patalpų):
B42: 6.1 | C42: Buto/ patalpos Nr.: | E42: Savivaldybės valdomų patalpų plotas m2 (nurodyti plotą): | H42: Valstybės paramos dydis procentais (pasirinkti): | J42: Savivaldybei tenkantis valstybės paramos dydis (apskaičiuojama automatiškai), eurais:
B43: 6.1.1 | J43: =IF(H43=Sąrašai!$A$1,(E43*$J$29/$J$8)/"2",IF(H43=Sąrašai!$A$2,E43*$J$29/$J$8,)) -> 0
B44: 6.1.2 | J44: =IF(H44=Sąrašai!$A$1,(E44*$J$29/$J$8)/"2",IF(H44=Sąrašai!$A$2,E44*$J$29/$J$8,)) -> 0
B45: 6.1.3 | J45: =IF(H45=Sąrašai!$A$1,(E45*$J$29/$J$8)/"2",IF(H45=Sąrašai!$A$2,E45*$J$29/$J$8,)) -> 0
B46: 6.1.4 | J46: =IF(H46=Sąrašai!$A$1,(E46*$J$29/$J$8)/"2",IF(H46=Sąrašai!$A$2,E46*$J$29/$J$8,)) -> 0
B47: 6.1.5 | J47: =IF(H47=Sąrašai!$A$1,(E47*$J$29/$J$8)/"2",IF(H47=Sąrašai!$A$2,E47*$J$29/$J$8,)) -> 0
B48: ... | J48: =IF(H48=Sąrašai!$A$1,(E48*$J$29/$J$8)/"2",IF(H48=Sąrašai!$A$2,E48*$J$29/$J$8,)) -> 0
C49: Bendra suma: | E49: =+SUM(E43:G48) -> 0 | H49: - | J49: =+SUM(J43:M48) -> 0
B51: 7. | C51: Informacija apie butų ir kitų patalpų savininkams, daugiabučiame name vykdantiems ūkinę veiklą, tenkantį valstybės paramos, projekto įgyvendinimo administravimo išlaidoms apmokėti, dydį (pildoma tuo atveju jeigu daugiabučiame name yra butų ir kitų patalpų savininkų vykdančių ūkinę veiklą):
B52: 7.1 | C52: Buto/ patalpos Nr.: | D52: Savininko vardas, pavardė arba juridnimo asmens pavadinimas: | G52: Asmens valdomų patalpų plotas m2 (nurodyti plotą): | J52: Valstybės paramos dydis procentais (pasirinkti): | L52: Asmeniui tenkantis valstybės paramos dydis (apskaičiuojama automatiškai), eurais:
B53: 7.1.1 | L53: =IF(J53=Sąrašai!$A$1,(G53*$J$29/$J$8)/"2",IF(J53=Sąrašai!$A$2,G53*$J$29/$J$8,)) -> 0
B54: 7.1.2 | L54: =IF(J54=Sąrašai!$A$1,(G54*$J$29/$J$8)/"2",IF(J54=Sąrašai!$A$2,G54*$J$29/$J$8,)) -> 0
B55: 7.1.3 | L55: =IF(J55=Sąrašai!$A$1,(G55*$J$29/$J$8)/"2",IF(J55=Sąrašai!$A$2,G55*$J$29/$J$8,)) -> 0
B56: 7.1.4 | L56: =IF(J56=Sąrašai!$A$1,(G56*$J$29/$J$8)/"2",IF(J56=Sąrašai!$A$2,G56*$J$29/$J$8,)) -> 0
B57: 7.1.5 | L57: =IF(J57=Sąrašai!$A$1,(G57*$J$29/$J$8)/"2",IF(J57=Sąrašai!$A$2,G57*$J$29/$J$8,)) -> 0
B58: ... | L58: =IF(J58=Sąrašai!$A$1,(G58*$J$29/$J$8)/"2",IF(J58=Sąrašai!$A$2,G58*$J$29/$J$8,)) -> 0
D59: Bendra suma: | G59: =+SUM(G53:I58) -> 0 | J59: - | L59: =+SUM(L53:N58) -> 0
B61: 8 | C61: Informacija apie fiziniams asmenims (butų ir kitų patalpų savininkams), daugiabučiame name nevykdantiems ūkinės veiklos ir neturintiems teisės į šildymo išlaidų kompensaciją, projekto įgyvendinimo administravimo išlaidoms apmokėti, tenkantį valstybės paramos dydį (nurodoma informacija apie visus butų savininkus, kurie nėra nurodyti šio prašymo 5, 6, 7 lentelėse):
B62: 8.1 | C62: Butų skaičius: | D62: Asmenų valdomų patalpų plotų suma m2 (nurodyti plotą): | G62: Valstybės paramos dydis procentais (pasirinkti): | I62: Asmenims tenkantis valstybės paramos dydis (apskaičiuojama automatiškai), eurais:
B63: 8.1.1 | I63: =IF(G63=Sąrašai!$A$1,(D63*$J$29/$J$8)/"2",IF(G63=Sąrašai!$A$2,D63*$J$29/$J$8,)) -> 0
B64: Bendra suma: | D64: =+SUM(D63:F63) -> 0 | G64: - | I64: =+SUM(I63:K63) -> 0
B66: 9. | C66: Prašoma suteikti valstybės parama (apskaičiuojama automatiškai), eurais: | J66: =I64+L59+J49+J39 -> 0

Sheet Pr. 6 namui
C1: Prašymo apmokėti projekto įgyvendinimo išlaidas priedas. Prašymo 3 lentelės nurodytiems daugiabučiams namams tenkačio valstybės paramos dydžio apskaičiavimo pagrindimui
B3: Šeštasis namas
B4: 1. | C4: Duomenys apie atnaujinamą daugiabutį namą:
B5: 1.1 | C5: Daugiabučio namo adresas:
B6: 1.2 | C6: Daugiabučio namo atnaujinimo (modernizavimo) projekto numeris:
B7: 1.3 | C7: Daugiabučio namo butų ir kitų patalpų skaičius:
B8: 1.4 | C8: Daugiabučio namo naudingojo ploto suma:
B9: 1.5 | C9: Daugiabučio namo statybos metai:
B10: 1.6 | C10: Butų ir kitų patalpų savininkų sprendimo įgyvendinti projektą ir projekto įgyvendinimo administravimo paslaugos dydžio patvirtinimo data:
B11: 1.7. | C11: Statybos užbaigimo akto surašymo data (jeigu projekto įgyvendinimo metu toks aktas buvo surašytas)
B13: 2. | C13: Duomenys apie galimą suteikti valstybės paramos dydį:
B14: 2.1 | C14: Investicijų plane numatyta suma projekto įgyvendinimo administravimo išlaidoms:
B15: 2.2 | C15: Jau patirtos išlaidos projekto įgyvendinimo administravimui, įgyvendinant projektą:
B16: 2.3 | C16: Projekto įgyvendinimo administravimui apmokėti arba kompensuoti suteiktos valstybės paramos suma:
... B23: 3.4 | C23: Nepilno mėnesio dienų skaičius:
B24: 3.5 | C24: Pasirinkti mėnesį kuris buvo nepilnas (paspauskite duomenų pasirinkimui): | J24: =IF(H24=Sąrašai!$C$1,31,IF(H24=Sąrašai!$C$2,28,IF(H24=Sąrašai!$C$3,31,IF(H24=Sąrašai!$C$4,30,IF(H24=Sąrašai!$C$5,31,IF(H24=Sąrašai!$C$6,30,IF(H24=Sąrašai!$C$7,31,IF(H24=Sąrašai!$C$8,31,IF(H24=Sąrašai!$C$9,30,IF(H24=Sąrašai!$C$10,31,IF(H24=Sąrašai!$C$11,30,IF(H24=Sąrašai!$C$12,31,"0")))))))))))) -> 0
B26: 4. | C26: Informacija apie projekto įgyvendinimo administravimo išlaidas, neįvertinus valstybės paramos:
B27: 4.1 | C27: Butų ir kitų patalpų savininkų sprendimu patvirtinto projekto įgyvendinimo administravimo paslaugos dydžio tarifas Eur (0,1 eur. Tuo atveju kai projekto administratorius yra PVM mokėtojas, tai tarifas yra 0,121, nebent butų ir kitų patalpų savininkų sprendimu yra patvirtintas mažesnis tarifas):
B28: 4.2 | C28: Butų ir kitų patalpų savininkų sprendimu patvirtinto projekto įgyvendinimo administravimo dydis visam namui per mėnesį (apskaičiuojama automatiškai): | J28: =J8*J27 -> 0
B29: 4.3 | C29: Bendra projekto įgyvendinimo administravimo išlaidų suma už prašomą apmokėti laikotarpį (apskaičiuojama automatiškai): | J29: =IF(H23=0,H22*J28,(H22*J28)+(J28/J24*H23)) -> 0
B31: 5. | C31: Informacija apie butų ir kitų patalpų savininkams, turintiems teisę į šildymo išlaidų kompensaciją, tenkantį valstybės paramos, projekto įgyvendinimo administravimo išlaidoms apmokėti, dydį (pildoma tuo atveju jeigu daugiabučiame name yra butų ir kitų patalpų savininkų turinčių teisę į šildymo išlaidų kompensacija):
B32: 5.1 | C32: Buto/ patalpos Nr.: | D32: Savininko vardas, pavardė: | G32: Asmens valdomų patalpų plotas m2 (nurodyti plotą): | J32: Asmeniui tenkantis valstybės paramos dydis (apskaičiuojama automatiškai), eurais:
B33: 5.1.1 | J33: =IF(G33=0,0,G33*$J$29/$J$8) -> 0
B34: 5.1.2 | J34: =IF(G34=0,0,G34*$J$29/$J$8) -> 0
B35: 5.1.3 | J35: =IF(G35=0,0,G35*$J$29/$J$8) -> 0
B36: 5.1.4 | J36: =IF(G36=0,0,G36*$J$29/$J$8) -> 0
B37: 5.1.5 | J37: =IF(G37=0,0,G37*$J$29/$J$8) -> 0
B38: ... | J38: =IF(G38=0,0,G38*$J$29/$J$8) -> 0
D39: Bendra suma: | G39: =+SUM(G33:I38) -> 0 | J39: =+SUM(J33:M38) -> 0
B41: 6. | C41: Informacija apie daugiabučiame name savivaldybės nuosavybės teise valdomoms gyvenamosioms patalpoms tenkantį valstybės paramos dydį (pildoma tuo atveju jeigu daugiabučiame name yra savivaldybei nuosavybės teise priklausančių gyvenamųjų patalpų):
B42: 6.1 | C42: Buto/ patalpos Nr.: | E42: Savivaldybės valdomų patalpų plotas m2 (nurodyti plotą): | H42: Valstybės paramos dydis procentais (pasirinkti): | J42: Savivaldybei tenkantis valstybės paramos dydis (apskaičiuojama automatiškai), eurais:
B43: 6.1.1 | J43: =IF(H43=Sąrašai!$A$1,(E43*$J$29/$J$8)/"2",IF(H43=Sąrašai!$A$2,E43*$J$29/$J$8,)) -> 0
B44: 6.1.2 | J44: =IF(H44=Sąrašai!$A$1,(E44*$J$29/$J$8)/"2",IF(H44=Sąrašai!$A$2,E44*$J$29/$J$8,)) -> 0
B45: 6.1.3 | J45: =IF(H45=Sąrašai!$A$1,(E45*$J$29/$J$8)/"2",IF(H45=Sąrašai!$A$2,E45*$J$29/$J$8,)) -> 0
B46: 6.1.4 | J46: =IF(H46=Sąrašai!$A$1,(E46*$J$29/$J$8)/"2",IF(H46=Sąrašai!$A$2,E46*$J$29/$J$8,)) -> 0
B47: 6.1.5 | J47: =IF(H47=Sąrašai!$A$1,(E47*$J$29/$J$8)/"2",IF(H47=Sąrašai!$A$2,E47*$J$29/$J$8,)) -> 0
B48: ... | J48: =IF(H48=Sąrašai!$A$1,(E48*$J$29/$J$8)/"2",IF(H48=Sąrašai!$A$2,E48*$J$29/$J$8,)) -> 0
C49: Bendra suma: | E49: =+SUM(E43:G48) -> 0 | H49: - | J49: =+SUM(J43:M48) -> 0
B51: 7. | C51: Informacija apie butų ir kitų patalpų savininkams, daugiabučiame name vykdantiems ūkinę veiklą, tenkantį valstybės paramos, projekto įgyvendinimo administravimo išlaidoms apmokėti, dydį (pildoma tuo atveju jeigu daugiabučiame name yra butų ir kitų patalpų savininkų vykdančių ūkinę veiklą):
B52: 7.1 | C52: Buto/ patalpos Nr.: | D52: Savininko vardas, pavardė arba juridnimo asmens pavadinimas: | G52: Asmens valdomų patalpų plotas m2 (nurodyti plotą): | J52: Valstybės paramos dydis procentais (pasirinkti): | L52: Asmeniui tenkantis valstybės paramos dydis (apskaičiuojama automatiškai), eurais:
B53: 7.1.1 | L53: =IF(J53=Sąrašai!$A$1,(G53*$J$29/$J$8)/"2",IF(J53=Sąrašai!$A$2,G53*$J$29/$J$8,)) -> 0
B54: 7.1.2 | L54: =IF(J54=Sąrašai!$A$1,(G54*$J$29/$J$8)/"2",IF(J54=Sąrašai!$A$2,G54*$J$29/$J$8,)) -> 0
B55: 7.1.3 | L55: =IF(J55=Sąrašai!$A$1,(G55*$J$29/$J$8)/"2",IF(J55=Sąrašai!$A$2,G55*$J$29/$J$8,)) -> 0
B56: 7.1.4 | L56: =IF(J56=Sąrašai!$A$1,(G56*$J$29/$J$8)/"2",IF(J56=Sąrašai!$A$2,G56*$J$29/$J$8,)) -> 0
B57: 7.1.5 | L57: =IF(J57=Sąrašai!$A$1,(G57*$J$29/$J$8)/"2",IF(J57=Sąrašai!$A$2,G57*$J$29/$J$8,)) -> 0
B58: ... | L58: =IF(J58=Sąrašai!$A$1,(G58*$J$29/$J$8)/"2",IF(J58=Sąrašai!$A$2,G58*$J$29/$J$8,)) -> 0
D59: Bendra suma: | G59: =+SUM(G53:I58) -> 0 | J59: - | L59: =+SUM(L53:N58) -> 0
B61: 8 | C61: Informacija apie fiziniams asmenims (butų ir kitų patalpų savininkams), daugiabučiame name nevykdantiems ūkinės veiklos ir neturintiems teisės į šildymo išlaidų kompensaciją, projekto įgyvendinimo administravimo išlaidoms apmokėti, tenkantį valstybės paramos dydį (nurodoma informacija apie visus butų savininkus, kurie nėra nurodyti šio prašymo 5, 6, 7 lentelėse):
B62: 8.1 | C62: Butų skaičius: | D62: Asmenų valdomų patalpų plotų suma m2 (nurodyti plotą): | G62: Valstybės paramos dydis procentais (pasirinkti): | I62: Asmenims tenkantis valstybės paramos dydis (apskaičiuojama automatiškai), eurais:
B63: 8.1.1 | I63: =IF(G63=Sąrašai!$A$1,(D63*$J$29/$J$8)/"2",IF(G63=Sąrašai!$A$2,D63*$J$29/$J$8,)) -> 0
B64: Bendra suma: | D64: =+SUM(D63:F63) -> 0 | G64: - | I64: =+SUM(I63:K63) -> 0
B66: 9. | C66: Prašoma suteikti valstybės parama (apskaičiuojama automatiškai), eurais: | J66: =I64+L59+J49+J39 -> 0

Sheet Pr. 7 namui
C1: Prašymo apmokėti projekto įgyvendinimo išlaidas priedas. Prašymo 3 lentelės nurodytiems daugiabučiams namams tenkačio valstybės paramos dydžio apskaičiavimo pagrindimui
B3: Septintasis namas
B4: 1. | C4: Duomenys apie atnaujinamą daugiabutį namą:
B5: 1.1 | C5: Daugiabučio namo adresas:
B6: 1.2 | C6: Daugiabučio namo atnaujinimo (modernizavimo) projekto numeris:
B7: 1.3 | C7: Daugiabučio namo butų ir kitų patalpų skaičius:
B8: 1.4 | C8: Daugiabučio namo naudingojo ploto suma:
B9: 1.5 | C9: Daugiabučio namo statybos metai:
B10: 1.6 | C10: Butų ir kitų patalpų savininkų sprendimo įgyvendinti projektą ir projekto įgyvendinimo administravimo paslaugos dydžio patvirtinimo data:
B11: 1.7. | C11: Statybos užbaigimo akto surašymo data (jeigu projekto įgyvendinimo metu toks aktas buvo surašytas)
B13: 2. | C13: Duomenys apie galimą suteikti valstybės paramos dydį:
B14: 2.1 | C14: Investicijų plane numatyta suma projekto įgyvendinimo administravimo išlaidoms:
B15: 2.2 | C15: Jau patirtos išlaidos projekto įgyvendinimo administravimui, įgyvendinant projektą:
B16: 2.3 | C16: Projekto įgyvendinimo administravimui apmokėti arba kompensuoti suteiktos valstybės paramos suma:
... B23: 3.4 | C23: Nepilno mėnesio dienų skaičius:
B24: 3.5 | C24: Pasirinkti mėnesį kuris buvo nepilnas (paspauskite duomenų pasirinkimui): | J24: =IF(H24=Sąrašai!$C$1,31,IF(H24=Sąrašai!$C$2,28,IF(H24=Sąrašai!$C$3,31,IF(H24=Sąrašai!$C$4,30,IF(H24=Sąrašai!$C$5,31,IF(H24=Sąrašai!$C$6,30,IF(H24=Sąrašai!$C$7,31,IF(H24=Sąrašai!$C$8,31,IF(H24=Sąrašai!$C$9,30,IF(H24=Sąrašai!$C$10,31,IF(H24=Sąrašai!$C$11,30,IF(H24=Sąrašai!$C$12,31,"0")))))))))))) -> 0
B26: 4. | C26: Informacija apie projekto įgyvendinimo administravimo išlaidas, neįvertinus valstybės paramos:
B27: 4.1 | C27: Butų ir kitų patalpų savininkų sprendimu patvirtinto projekto įgyvendinimo administravimo paslaugos dydžio tarifas Eur (0,1 eur. Tuo atveju kai projekto administratorius yra PVM mokėtojas, tai tarifas yra 0,121, nebent butų ir kitų patalpų savininkų sprendimu yra patvirtintas mažesnis tarifas):
B28: 4.2 | C28: Butų ir kitų patalpų savininkų sprendimu patvirtinto projekto įgyvendinimo administravimo dydis visam namui per mėnesį (apskaičiuojama automatiškai): | J28: =J8*J27 -> 0
B29: 4.3 | C29: Bendra projekto įgyvendinimo administravimo išlaidų suma už prašomą apmokėti laikotarpį (apskaičiuojama automatiškai): | J29: =IF(H23=0,H22*J28,(H22*J28)+(J28/J24*H23)) -> 0
B31: 5. | C31: Informacija apie butų ir kitų patalpų savininkams, turintiems teisę į šildymo išlaidų kompensaciją, tenkantį valstybės paramos, projekto įgyvendinimo administravimo išlaidoms apmokėti, dydį (pildoma tuo atveju jeigu daugiabučiame name yra butų ir kitų patalpų savininkų turinčių teisę į šildymo išlaidų kompensacija):
B32: 5.1 | C32: Buto/ patalpos Nr.: | D32: Savininko vardas, pavardė: | G32: Asmens valdomų patalpų plotas m2 (nurodyti plotą): | J32: Asmeniui tenkantis valstybės paramos dydis (apskaičiuojama automatiškai), eurais:
B33: 5.1.1 | J33: =IF(G33=0,0,G33*$J$29/$J$8) -> 0
B34: 5.1.2 | J34: =IF(G34=0,0,G34*$J$29/$J$8) -> 0
B35: 5.1.3 | J35: =IF(G35=0,0,G35*$J$29/$J$8) -> 0
B36: 5.1.4 | J36: =IF(G36=0,0,G36*$J$29/$J$8) -> 0
B37: 5.1.5 | J37: =IF(G37=0,0,G37*$J$29/$J$8) -> 0
B38: ... | J38: =IF(G38=0,0,G38*$J$29/$J$8) -> 0
D39: Bendra suma: | G39: =+SUM(G33:I38) -> 0 | J39: =+SUM(J33:M38) -> 0
B41: 6. | C41: Informacija apie daugiabučiame name savivaldybės nuosavybės teise valdomoms gyvenamosioms patalpoms tenkantį valstybės paramos dydį (pildoma tuo atveju jeigu daugiabučiame name yra savivaldybei nuosavybės teise priklausančių gyvenamųjų patalpų):
B42: 6.1 | C42: Buto/ patalpos Nr.: | E42: Savivaldybės valdomų patalpų plotas m2 (nurodyti plotą): | H42: Valstybės paramos dydis procentais (pasirinkti): | J42: Savivaldybei tenkantis valstybės paramos dydis (apskaičiuojama automatiškai), eurais:
B43: 6.1.1 | J43: =IF(H43=Sąrašai!$A$1,(E43*$J$29/$J$8)/"2",IF(H43=Sąrašai!$A$2,E43*$J$29/$J$8,)) -> 0
B44: 6.1.2 | J44: =IF(H44=Sąrašai!$A$1,(E44*$J$29/$J$8)/"2",IF(H44=Sąrašai!$A$2,E44*$J$29/$J$8,)) -> 0
B45: 6.1.3 | J45: =IF(H45=Sąrašai!$A$1,(E45*$J$29/$J$8)/"2",IF(H45=Sąrašai!$A$2,E45*$J$29/$J$8,)) -> 0
B46: 6.1.4 | J46: =IF(H46=Sąrašai!$A$1,(E46*$J$29/$J$8)/"2",IF(H46=Sąrašai!$A$2,E46*$J$29/$J$8,)) -> 0
B47: 6.1.5 | J47: =IF(H47=Sąrašai!$A$1,(E47*$J$29/$J$8)/"2",IF(H47=Sąrašai!$A$2,E47*$J$29/$J$8,)) -> 0
B48: ... | J48: =IF(H48=Sąrašai!$A$1,(E48*$J$29/$J$8)/"2",IF(H48=Sąrašai!$A$2,E48*$J$29/$J$8,)) -> 0
C49: Bendra suma: | E49: =+SUM(E43:G48) -> 0 | H49: - | J49: =+SUM(J43:M48) -> 0
B51: 7. | C51: Informacija apie butų ir kitų patalpų savininkams, daugiabučiame name vykdantiems ūkinę veiklą, tenkantį valstybės paramos, projekto įgyvendinimo administravimo išlaidoms apmokėti, dydį (pildoma tuo atveju jeigu daugiabučiame name yra butų ir kitų patalpų savininkų vykdančių ūkinę veiklą):
B52: 7.1 | C52: Buto/ patalpos Nr.: | D52: Savininko vardas, pavardė arba juridnimo asmens pavadinimas: | G52: Asmens valdomų patalpų plotas m2 (nurodyti plotą): | J52: Valstybės paramos dydis procentais (pasirinkti): | L52: Asmeniui tenkantis valstybės paramos dydis (apskaičiuojama automatiškai), eurais:
B53: 7.1.1 | L53: =IF(J53=Sąrašai!$A$1,(G53*$J$29/$J$8)/"2",IF(J53=Sąrašai!$A$2,G53*$J$29/$J$8,)) -> 0
B54: 7.1.2 | L54: =IF(J54=Sąrašai!$A$1,(G54*$J$29/$J$8)/"2",IF(J54=Sąrašai!$A$2,G54*$J$29/$J$8,)) -> 0
B55: 7.1.3 | L55: =IF(J55=Sąrašai!$A$1,(G55*$J$29/$J$8)/"2",IF(J55=Sąrašai!$A$2,G55*$J$29/$J$8,)) -> 0
B56: 7.1.4 | L56: =IF(J56=Sąrašai!$A$1,(G56*$J$29/$J$8)/"2",IF(J56=Sąrašai!$A$2,G56*$J$29/$J$8,)) -> 0
B57: 7.1.5 | L57: =IF(J57=Sąrašai!$A$1,(G57*$J$29/$J$8)/"2",IF(J57=Sąrašai!$A$2,G57*$J$29/$J$8,)) -> 0
B58: ... | L58: =IF(J58=Sąrašai!$A$1,(G58*$J$29/$J$8)/"2",IF(J58=Sąrašai!$A$2,G58*$J$29/$J$8,)) -> 0
D59: Bendra suma: | G59: =+SUM(G53:I58) -> 0 | J59: - | L59: =+SUM(L53:N58) -> 0
B61: 8 | C61: Informacija apie fiziniams asmenims (butų ir kitų patalpų savininkams), daugiabučiame name nevykdantiems ūkinės veiklos ir neturintiems teisės į šildymo išlaidų kompensaciją, projekto įgyvendinimo administravimo išlaidoms apmokėti, tenkantį valstybės paramos dydį (nurodoma informacija apie visus butų savininkus, kurie nėra nurodyti šio prašymo 5, 6, 7 lentelėse):
B62: 8.1 | C62: Butų skaičius: | D62: Asmenų valdomų patalpų plotų suma m2 (nurodyti plotą): | G62: Valstybės paramos dydis procentais (pasirinkti): | I62: Asmenims tenkantis valstybės paramos dydis (apskaičiuojama automatiškai), eurais:
B63: 8.1.1 | I63: =IF(G63=Sąrašai!$A$1,(D63*$J$29/$J$8)/"2",IF(G63=Sąrašai!$A$2,D63*$J$29/$J$8,)) -> 0
B64: Bendra suma: | D64: =+SUM(D63:F63) -> 0 | G64: - | I64: =+SUM(I63:K63) -> 0
B66: 9. | C66: Prašoma suteikti valstybės parama (apskaičiuojama automatiškai), eurais: | J66: =I64+L59+J49+J39 -> 0

Sheet Pr. 8 namui
C1: Prašymo apmokėti projekto įgyvendinimo išlaidas priedas. Prašymo 3 lentelės nurodytiems daugiabučiams namams tenkačio valstybės paramos dydžio apskaičiavimo pagrindimui
B3: Aštuntasis namas
B4: 1. | C4: Duomenys apie atnaujinamą daugiabutį namą:
B5: 1.1 | C5: Daugiabučio namo adresas:
B6: 1.2 | C6: Daugiabučio namo atnaujinimo (modernizavimo) projekto numeris:
B7: 1.3 | C7: Daugiabučio namo butų ir kitų patalpų skaičius:
B8: 1.4 | C8: Daugiabučio namo naudingojo ploto suma:
B9: 1.5 | C9: Daugiabučio namo statybos metai:
B10: 1.6 | C10: Butų ir kitų patalpų savininkų sprendimo įgyvendinti projektą ir projekto įgyvendinimo administravimo paslaugos dydžio patvirtinimo data:
B11: 1.7. | C11: Statybos užbaigimo akto surašymo data (jeigu projekto įgyvendinimo metu toks aktas buvo surašytas)
B13: 2. | C13: Duomenys apie galimą suteikti valstybės paramos dydį:
B14: 2.1 | C14: Investicijų plane numatyta suma projekto įgyvendinimo administravimo išlaidoms:
B15: 2.2 | C15: Jau patirtos išlaidos projekto įgyvendinimo administravimui, įgyvendinant projektą:
B16: 2.3 | C16: Projekto įgyvendinimo administravimui apmokėti arba kompensuoti suteiktos valstybės paramos suma:
... B23: 3.4 | C23: Nepilno mėnesio dienų skaičius:
B24: 3.5 | C24: Pasirinkti mėnesį kuris buvo nepilnas (paspauskite duomenų pasirinkimui): | J24: =IF(H24=Sąrašai!$C$1,31,IF(H24=Sąrašai!$C$2,28,IF(H24=Sąrašai!$C$3,31,IF(H24=Sąrašai!$C$4,30,IF(H24=Sąrašai!$C$5,31,IF(H24=Sąrašai!$C$6,30,IF(H24=Sąrašai!$C$7,31,IF(H24=Sąrašai!$C$8,31,IF(H24=Sąrašai!$C$9,30,IF(H24=Sąrašai!$C$10,31,IF(H24=Sąrašai!$C$11,30,IF(H24=Sąrašai!$C$12,31,"0")))))))))))) -> 0
B26: 4. | C26: Informacija apie projekto įgyvendinimo administravimo išlaidas, neįvertinus valstybės paramos:
B27: 4.1 | C27: Butų ir kitų patalpų savininkų sprendimu patvirtinto projekto įgyvendinimo administravimo paslaugos dydžio tarifas Eur (0,1 eur. Tuo atveju kai projekto administratorius yra PVM mokėtojas, tai tarifas yra 0,121, nebent butų ir kitų patalpų savininkų sprendimu yra patvirtintas mažesnis tarifas):
B28: 4.2 | C28: Butų ir kitų patalpų savininkų sprendimu patvirtinto projekto įgyvendinimo administravimo dydis visam namui per mėnesį (apskaičiuojama automatiškai): | J28: =J8*J27 -> 0
B29: 4.3 | C29: Bendra projekto įgyvendinimo administravimo išlaidų suma už prašomą apmokėti laikotarpį (apskaičiuojama automatiškai): | J29: =IF(H23=0,H22*J28,(H22*J28)+(J28/J24*H23)) -> 0
B31: 5. | C31: Informacija apie butų ir kitų patalpų savininkams, turintiems teisę į šildymo išlaidų kompensaciją, tenkantį valstybės paramos, projekto įgyvendinimo administravimo išlaidoms apmokėti, dydį (pildoma tuo atveju jeigu daugiabučiame name yra butų ir kitų patalpų savininkų turinčių teisę į šildymo išlaidų kompensacija):
B32: 5.1 | C32: Buto/ patalpos Nr.: | D32: Savininko vardas, pavardė: | G32: Asmens valdomų patalpų plotas m2 (nurodyti plotą): | J32: Asmeniui tenkantis valstybės paramos dydis (apskaičiuojama automatiškai), eurais:
B33: 5.1.1 | J33: =IF(G33=0,0,G33*$J$29/$J$8) -> 0
B34: 5.1.2 | J34: =IF(G34=0,0,G34*$J$29/$J$8) -> 0
B35: 5.1.3 | J35: =IF(G35=0,0,G35*$J$29/$J$8) -> 0
B36: 5.1.4 | J36: =IF(G36=0,0,G36*$J$29/$J$8) -> 0
B37: 5.1.5 | J37: =IF(G37=0,0,G37*$J$29/$J$8) -> 0
B38: ... | J38: =IF(G38=0,0,G38*$J$29/$J$8) -> 0
D39: Bendra suma: | G39: =+SUM(G33:I38) -> 0 | J39: =+SUM(J33:M38) -> 0
B41: 6. | C41: Informacija apie daugiabučiame name savivaldybės nuosavybės teise valdomoms gyvenamosioms patalpoms tenkantį valstybės paramos dydį (pildoma tuo atveju jeigu daugiabučiame name yra savivaldybei nuosavybės teise priklausančių gyvenamųjų patalpų):
B42: 6.1 | C42: Buto/ patalpos Nr.: | E42: Savivaldybės valdomų patalpų plotas m2 (nurodyti plotą): | H42: Valstybės paramos dydis procentais (pasirinkti): | J42: Savivaldybei tenkantis valstybės paramos dydis (apskaičiuojama automatiškai), eurais:
B43: 6.1.1 | J43: =IF(H43=Sąrašai!$A$1,(E43*$J$29/$J$8)/"2",IF(H43=Sąrašai!$A$2,E43*$J$29/$J$8,)) -> 0
B44: 6.1.2 | J44: =IF(H44=Sąrašai!$A$1,(E44*$J$29/$J$8)/"2",IF(H44=Sąrašai!$A$2,E44*$J$29/$J$8,)) -> 0
B45: 6.1.3 | J45: =IF(H45=Sąrašai!$A$1,(E45*$J$29/$J$8)/"2",IF(H45=Sąrašai!$A$2,E45*$J$29/$J$8,)) -> 0
B46: 6.1.4 | J46: =IF(H46=Sąrašai!$A$1,(E46*$J$29/$J$8)/"2",IF(H46=Sąrašai!$A$2,E46*$J$29/$J$8,)) -> 0
B47: 6.1.5 | J47: =IF(H47=Sąrašai!$A$1,(E47*$J$29/$J$8)/"2",IF(H47=Sąrašai!$A$2,E47*$J$29/$J$8,)) -> 0
B48: ... | J48: =IF(H48=Sąrašai!$A$1,(E48*$J$29/$J$8)/"2",IF(H48=Sąrašai!$A$2,E48*$J$29/$J$8,)) -> 0
C49: Bendra suma: | E49: =+SUM(E43:G48) -> 0 | H49: - | J49: =+SUM(J43:M48) -> 0
B51: 7. | C51: Informacija apie butų ir kitų patalpų savininkams, daugiabučiame name vykdantiems ūkinę veiklą, tenkantį valstybės paramos, projekto įgyvendinimo administravimo išlaidoms apmokėti, dydį (pildoma tuo atveju jeigu daugiabučiame name yra butų ir kitų patalpų savininkų vykdančių ūkinę veiklą):
B52: 7.1 | C52: Buto/ patalpos Nr.: | D52: Savininko vardas, pavardė arba juridnimo asmens pavadinimas: | G52: Asmens valdomų patalpų plotas m2 (nurodyti plotą): | J52: Valstybės paramos dydis procentais (pasirinkti): | L52: Asmeniui tenkantis valstybės paramos dydis (apskaičiuojama automatiškai), eurais:
B53: 7.1.1 | L53: =IF(J53=Sąrašai!$A$1,(G53*$J$29/$J$8)/"2",IF(J53=Sąrašai!$A$2,G53*$J$29/$J$8,)) -> 0
B54: 7.1.2 | L54: =IF(J54=Sąrašai!$A$1,(G54*$J$29/$J$8)/"2",IF(J54=Sąrašai!$A$2,G54*$J$29/$J$8,)) -> 0
B55: 7.1.3 | L55: =IF(J55=Sąrašai!$A$1,(G55*$J$29/$J$8)/"2",IF(J55=Sąrašai!$A$2,G55*$J$29/$J$8,)) -> 0
B56: 7.1.4 | L56: =IF(J56=Sąrašai!$A$1,(G56*$J$29/$J$8)/"2",IF(J56=Sąrašai!$A$2,G56*$J$29/$J$8,)) -> 0
B57: 7.1.5 | L57: =IF(J57=Sąrašai!$A$1,(G57*$J$29/$J$8)/"2",IF(J57=Sąrašai!$A$2,G57*$J$29/$J$8,)) -> 0
B58: ... | L58: =IF(J58=Sąrašai!$A$1,(G58*$J$29/$J$8)/"2",IF(J58=Sąrašai!$A$2,G58*$J$29/$J$8,)) -> 0
D59: Bendra suma: | G59: =+SUM(G53:I58) -> 0 | J59: - | L59: =+SUM(L53:N58) -> 0
B61: 8 | C61: Informacija apie fiziniams asmenims (butų ir kitų patalpų savininkams), daugiabučiame name nevykdantiems ūkinės veiklos ir neturintiems teisės į šildymo išlaidų kompensaciją, projekto įgyvendinimo administravimo išlaidoms apmokėti, tenkantį valstybės paramos dydį (nurodoma informacija apie visus butų savininkus, kurie nėra nurodyti šio prašymo 5, 6, 7 lentelėse):
B62: 8.1 | C62: Butų skaičius: | D62: Asmenų valdomų patalpų plotų suma m2 (nurodyti plotą): | G62: Valstybės paramos dydis procentais (pasirinkti): | I62: Asmenims tenkantis valstybės paramos dydis (apskaičiuojama automatiškai), eurais:
B63: 8.1.1 | I63: =IF(G63=Sąrašai!$A$1,(D63*$J$29/$J$8)/"2",IF(G63=Sąrašai!$A$2,D63*$J$29/$J$8,)) -> 0
B64: Bendra suma: | D64: =+SUM(D63:F63) -> 0 | G64: - | I64: =+SUM(I63:K63) -> 0
B66: 9. | C66: Prašoma suteikti valstybės parama (apskaičiuojama automatiškai), eurais: | J66: =I64+L59+J49+J39 -> 0

Sheet Pr. 9 namui
C1: Prašymo apmokėti projekto įgyvendinimo išlaidas priedas. Prašymo 3 lentelės nurodytiems daugiabučiams namams tenkačio valstybės paramos dydžio apskaičiavimo pagrindimui
B3: Devintasis namas
B4: 1. | C4: Duomenys apie atnaujinamą daugiabutį namą:
B5: 1.1 | C5: Daugiabučio namo adresas:
B6: 1.2 | C6: Daugiabučio namo atnaujinimo (modernizavimo) projekto numeris:
B7: 1.3 | C7: Daugiabučio namo butų ir kitų patalpų skaičius:
B8: 1.4 | C8: Daugiabučio namo naudingojo ploto suma:
B9: 1.5 | C9: Daugiabučio namo statybos metai:
B10: 1.6 | C10: Butų ir kitų patalpų savininkų sprendimo įgyvendinti projektą ir projekto įgyvendinimo administravimo paslaugos dydžio patvirtinimo data:
B11: 1.7. | C11: Statybos užbaigimo akto surašymo data (jeigu projekto įgyvendinimo metu toks aktas buvo surašytas)
B13: 2. | C13: Duomenys apie galimą suteikti valstybės paramos dydį:
B14: 2.1 | C14: Investicijų plane numatyta suma projekto įgyvendinimo administravimo išlaidoms:
B15: 2.2 | C15: Jau patirtos išlaidos projekto įgyvendinimo administravimui, įgyvendinant projektą:
B16: 2.3 | C16: Projekto įgyvendinimo administravimui apmokėti arba kompensuoti suteiktos valstybės paramos suma:
... B23: 3.4 | C23: Nepilno mėnesio dienų skaičius:
B24: 3.5 | C24: Pasirinkti mėnesį kuris buvo nepilnas (paspauskite duomenų pasirinkimui): | J24: =IF(H24=Sąrašai!$C$1,31,IF(H24=Sąrašai!$C$2,28,IF(H24=Sąrašai!$C$3,31,IF(H24=Sąrašai!$C$4,30,IF(H24=Sąrašai!$C$5,31,IF(H24=Sąrašai!$C$6,30,IF(H24=Sąrašai!$C$7,31,IF(H24=Sąrašai!$C$8,31,IF(H24=Sąrašai!$C$9,30,IF(H24=Sąrašai!$C$10,31,IF(H24=Sąrašai!$C$11,30,IF(H24=Sąrašai!$C$12,31,"0")))))))))))) -> 0
B26: 4. | C26: Informacija apie projekto įgyvendinimo administravimo išlaidas, neįvertinus valstybės paramos:
B27: 4.1 | C27: Butų ir kitų patalpų savininkų sprendimu patvirtinto projekto įgyvendinimo administravimo paslaugos dydžio tarifas Eur (0,1 eur. Tuo atveju kai projekto administratorius yra PVM mokėtojas, tai tarifas yra 0,121, nebent butų ir kitų patalpų savininkų sprendimu yra patvirtintas mažesnis tarifas):
B28: 4.2 | C28: Butų ir kitų patalpų savininkų sprendimu patvirtinto projekto įgyvendinimo administravimo dydis visam namui per mėnesį (apskaičiuojama automatiškai): | J28: =J8*J27 -> 0
B29: 4.3 | C29: Bendra projekto įgyvendinimo administravimo išlaidų suma už prašomą apmokėti laikotarpį (apskaičiuojama automatiškai): | J29: =IF(H23=0,H22*J28,(H22*J28)+(J28/J24*H23)) -> 0
B31: 5. | C31: Informacija apie butų ir kitų patalpų savininkams, turintiems teisę į šildymo išlaidų kompensaciją, tenkantį valstybės paramos, projekto įgyvendinimo administravimo išlaidoms apmokėti, dydį (pildoma tuo atveju jeigu daugiabučiame name yra butų ir kitų patalpų savininkų turinčių teisę į šildymo išlaidų kompensacija):
B32: 5.1 | C32: Buto/ patalpos Nr.: | D32: Savininko vardas, pavardė: | G32: Asmens valdomų patalpų plotas m2 (nurodyti plotą): | J32: Asmeniui tenkantis valstybės paramos dydis (apskaičiuojama automatiškai), eurais:
B33: 5.1.1 | J33: =IF(G33=0,0,G33*$J$29/$J$8) -> 0
B34: 5.1.2 | J34: =IF(G34=0,0,G34*$J$29/$J$8) -> 0
B35: 5.1.3 | J35: =IF(G35=0,0,G35*$J$29/$J$8) -> 0
B36: 5.1.4 | J36: =IF(G36=0,0,G36*$J$29/$J$8) -> 0
B37: 5.1.5 | J37: =IF(G37=0,0,G37*$J$29/$J$8) -> 0
B38: ... | J38: =IF(G38=0,0,G38*$J$29/$J$8) -> 0
D39: Bendra suma: | G39: =+SUM(G33:I38) -> 0 | J39: =+SUM(J33:M38) -> 0
B41: 6. | C41: Informacija apie daugiabučiame name savivaldybės nuosavybės teise valdomoms gyvenamosioms patalpoms tenkantį valstybės paramos dydį (pildoma tuo atveju jeigu daugiabučiame name yra savivaldybei nuosavybės teise priklausančių gyvenamųjų patalpų):
B42: 6.1 | C42: Buto/ patalpos Nr.: | E42: Savivaldybės valdomų patalpų plotas m2 (nurodyti plotą): | H42: Valstybės paramos dydis procentais (pasirinkti): | J42: Savivaldybei tenkantis valstybės paramos dydis (apskaičiuojama automatiškai), eurais:
B43: 6.1.1 | J43: =IF(H43=Sąrašai!$A$1,(E43*$J$29/$J$8)/"2",IF(H43=Sąrašai!$A$2,E43*$J$29/$J$8,)) -> 0
B44: 6.1.2 | J44: =IF(H44=Sąrašai!$A$1,(E44*$J$29/$J$8)/"2",IF(H44=Sąrašai!$A$2,E44*$J$29/$J$8,)) -> 0
B45: 6.1.3 | J45: =IF(H45=Sąrašai!$A$1,(E45*$J$29/$J$8)/"2",IF(H45=Sąrašai!$A$2,E45*$J$29/$J$8,)) -> 0
B46: 6.1.4 | J46: =IF(H46=Sąrašai!$A$1,(E46*$J$29/$J$8)/"2",IF(H46=Sąrašai!$A$2,E46*$J$29/$J$8,)) -> 0
B47: 6.1.5 | J47: =IF(H47=Sąrašai!$A$1,(E47*$J$29/$J$8)/"2",IF(H47=Sąrašai!$A$2,E47*$J$29/$J$8,)) -> 0
B48: ... | J48: =IF(H48=Sąrašai!$A$1,(E48*$J$29/$J$8)/"2",IF(H48=Sąrašai!$A$2,E48*$J$29/$J$8,)) -> 0
C49: Bendra suma: | E49: =+SUM(E43:G48) -> 0 | H49: - | J49: =+SUM(J43:M48) -> 0
B51: 7. | C51: Informacija apie butų ir kitų patalpų savininkams, daugiabučiame name vykdantiems ūkinę veiklą, tenkantį valstybės paramos, projekto įgyvendinimo administravimo išlaidoms apmokėti, dydį (pildoma tuo atveju jeigu daugiabučiame name yra butų ir kitų patalpų savininkų vykdančių ūkinę veiklą):
B52: 7.1 | C52: Buto/ patalpos Nr.: | D52: Savininko vardas, pavardė arba juridnimo asmens pavadinimas: | G52: Asmens valdomų patalpų plotas m2 (nurodyti plotą): | J52: Valstybės paramos dydis procentais (pasirinkti): | L52: Asmeniui tenkantis valstybės paramos dydis (apskaičiuojama automatiškai), eurais:
B53: 7.1.1 | L53: =IF(J53=Sąrašai!$A$1,(G53*$J$29/$J$8)/"2",IF(J53=Sąrašai!$A$2,G53*$J$29/$J$8,)) -> 0
B54: 7.1.2 | L54: =IF(J54=Sąrašai!$A$1,(G54*$J$29/$J$8)/"2",IF(J54=Sąrašai!$A$2,G54*$J$29/$J$8,)) -> 0
B55: 7.1.3 | L55: =IF(J55=Sąrašai!$A$1,(G55*$J$29/$J$8)/"2",IF(J55=Sąrašai!$A$2,G55*$J$29/$J$8,)) -> 0
B56: 7.1.4 | L56: =IF(J56=Sąrašai!$A$1,(G56*$J$29/$J$8)/"2",IF(J56=Sąrašai!$A$2,G56*$J$29/$J$8,)) -> 0
B57: 7.1.5 | L57: =IF(J57=Sąrašai!$A$1,(G57*$J$29/$J$8)/"2",IF(J57=Sąrašai!$A$2,G57*$J$29/$J$8,)) -> 0
B58: ... | L58: =IF(J58=Sąrašai!$A$1,(G58*$J$29/$J$8)/"2",IF(J58=Sąrašai!$A$2,G58*$J$29/$J$8,)) -> 0
D59: Bendra suma: | G59: =+SUM(G53:I58) -> 0 | J59: - | L59: =+SUM(L53:N58) -> 0
B61: 8 | C61: Informacija apie fiziniams asmenims (butų ir kitų patalpų savininkams), daugiabučiame name nevykdantiems ūkinės veiklos ir neturintiems teisės į šildymo išlaidų kompensaciją, projekto įgyvendinimo administravimo išlaidoms apmokėti, tenkantį valstybės paramos dydį (nurodoma informacija apie visus butų savininkus, kurie nėra nurodyti šio prašymo 5, 6, 7 lentelėse):
B62: 8.1 | C62: Butų skaičius: | D62: Asmenų valdomų patalpų plotų suma m2 (nurodyti plotą): | G62: Valstybės paramos dydis procentais (pasirinkti): | I62: Asmenims tenkantis valstybės paramos dydis (apskaičiuojama automatiškai), eurais:
B63: 8.1.1 | I63: =IF(G63=Sąrašai!$A$1,(D63*$J$29/$J$8)/"2",IF(G63=Sąrašai!$A$2,D63*$J$29/$J$8,)) -> 0
B64: Bendra suma: | D64: =+SUM(D63:F63) -> 0 | G64: - | I64: =+SUM(I63:K63) -> 0
B66: 9. | C66: Prašoma suteikti valstybės parama (apskaičiuojama automatiškai), eurais: | J66: =I64+L59+J49+J39 -> 0

Sheet Pr. 10 namui
C1: Prašymo apmokėti projekto įgyvendinimo išlaidas priedas. Prašymo 3 lentelės nurodytiems daugiabučiams namams tenkačio valstybės paramos dydžio apskaičiavimo pagrindimui
B3: Dešimtasis namas
B4: 1. | C4: Duomenys apie atnaujinamą daugiabutį namą:
B5: 1.1 | C5: Daugiabučio namo adresas:
B6: 1.2 | C6: Daugiabučio namo atnaujinimo (modernizavimo) projekto numeris:
B7: 1.3 | C7: Daugiabučio namo butų ir kitų patalpų skaičius:
B8: 1.4 | C8: Daugiabučio namo naudingojo ploto suma:
B9: 1.5 | C9: Daugiabučio namo statybos metai:
B10: 1.6 | C10: Butų ir kitų patalpų savininkų sprendimo įgyvendinti projektą ir projekto įgyvendinimo administravimo paslaugos dydžio patvirtinimo data:
B11: 1.7. | C11: Statybos užbaigimo akto surašymo data (jeigu projekto įgyvendinimo metu toks aktas buvo surašytas)
B13: 2. | C13: Duomenys apie galimą suteikti valstybės paramos dydį:
B14: 2.1 | C14: Investicijų plane numatyta suma projekto įgyvendinimo administravimo išlaidoms:
B15: 2.2 | C15: Jau patirtos išlaidos projekto įgyvendinimo administravimui, įgyvendinant projektą:
B16: 2.3 | C16: Projekto įgyvendinimo administravimui apmokėti arba kompensuoti suteiktos valstybės paramos suma:
... B23: 3.4 | C23: Nepilno mėnesio dienų skaičius:
B24: 3.5 | C24: Pasirinkti mėnesį kuris buvo nepilnas (paspauskite duomenų pasirinkimui): | J24: =IF(H24=Sąrašai!$C$1,31,IF(H24=Sąrašai!$C$2,28,IF(H24=Sąrašai!$C$3,31,IF(H24=Sąrašai!$C$4,30,IF(H24=Sąrašai!$C$5,31,IF(H24=Sąrašai!$C$6,30,IF(H24=Sąrašai!$C$7,31,IF(H24=Sąrašai!$C$8,31,IF(H24=Sąrašai!$C$9,30,IF(H24=Sąrašai!$C$10,31,IF(H24=Sąrašai!$C$11,30,IF(H24=Sąrašai!$C$12,31,"0")))))))))))) -> 0
B26: 4. | C26: Informacija apie projekto įgyvendinimo administravimo išlaidas, neįvertinus valstybės paramos:
B27: 4.1 | C27: Butų ir kitų patalpų savininkų sprendimu patvirtinto projekto įgyvendinimo administravimo paslaugos dydžio tarifas Eur (0,1 eur. Tuo atveju kai projekto administratorius yra PVM mokėtojas, tai tarifas yra 0,121, nebent butų ir kitų patalpų savininkų sprendimu yra patvirtintas mažesnis tarifas):
B28: 4.2 | C28: Butų ir kitų patalpų savininkų sprendimu patvirtinto projekto įgyvendinimo administravimo dydis visam namui per mėnesį (apskaičiuojama automatiškai): | J28: =J8*J27 -> 0
B29: 4.3 | C29: Bendra projekto įgyvendinimo administravimo išlaidų suma už prašomą apmokėti laikotarpį (apskaičiuojama automatiškai): | J29: =IF(H23=0,H22*J28,(H22*J28)+(J28/J24*H23)) -> 0
B31: 5. | C31: Informacija apie butų ir kitų patalpų savininkams, turintiems teisę į šildymo išlaidų kompensaciją, tenkantį valstybės paramos, projekto įgyvendinimo administravimo išlaidoms apmokėti, dydį (pildoma tuo atveju jeigu daugiabučiame name yra butų ir kitų patalpų savininkų turinčių teisę į šildymo išlaidų kompensacija):
B32: 5.1 | C32: Buto/ patalpos Nr.: | D32: Savininko vardas, pavardė: | G32: Asmens valdomų patalpų plotas m2 (nurodyti plotą): | J32: Asmeniui tenkantis valstybės paramos dydis (apskaičiuojama automatiškai), eurais:
B33: 5.1.1 | J33: =IF(G33=0,0,G33*$J$29/$J$8) -> 0
B34: 5.1.2 | J34: =IF(G34=0,0,G34*$J$29/$J$8) -> 0
B35: 5.1.3 | J35: =IF(G35=0,0,G35*$J$29/$J$8) -> 0
B36: 5.1.4 | J36: =IF(G36=0,0,G36*$J$29/$J$8) -> 0
B37: 5.1.5 | J37: =IF(G37=0,0,G37*$J$29/$J$8) -> 0
B38: ... | J38: =IF(G38=0,0,G38*$J$29/$J$8) -> 0
D39: Bendra suma: | G39: =+SUM(G33:I38) -> 0 | J39: =+SUM(J33:M38) -> 0
B41: 6. | C41: Informacija apie daugiabučiame name savivaldybės nuosavybės teise valdomoms gyvenamosioms patalpoms tenkantį valstybės paramos dydį (pildoma tuo atveju jeigu daugiabučiame name yra savivaldybei nuosavybės teise priklausančių gyvenamųjų patalpų):
B42: 6.1 | C42: Buto/ patalpos Nr.: | E42: Savivaldybės valdomų patalpų plotas m2 (nurodyti plotą): | H42: Valstybės paramos dydis procentais (pasirinkti): | J42: Savivaldybei tenkantis valstybės paramos dydis (apskaičiuojama automatiškai), eurais:
B43: 6.1.1 | J43: =IF(H43=Sąrašai!$A$1,(E43*$J$29/$J$8)/"2",IF(H43=Sąrašai!$A$2,E43*$J$29/$J$8,)) -> 0
B44: 6.1.2 | J44: =IF(H44=Sąrašai!$A$1,(E44*$J$29/$J$8)/"2",IF(H44=Sąrašai!$A$2,E44*$J$29/$J$8,)) -> 0
B45: 6.1.3 | J45: =IF(H45=Sąrašai!$A$1,(E45*$J$29/$J$8)/"2",IF(H45=Sąrašai!$A$2,E45*$J$29/$J$8,)) -> 0
B46: 6.1.4 | J46: =IF(H46=Sąrašai!$A$1,(E46*$J$29/$J$8)/"2",IF(H46=Sąrašai!$A$2,E46*$J$29/$J$8,)) -> 0
B47: 6.1.5 | J47: =IF(H47=Sąrašai!$A$1,(E47*$J$29/$J$8)/"2",IF(H47=Sąrašai!$A$2,E47*$J$29/$J$8,)) -> 0
B48: ... | J48: =IF(H48=Sąrašai!$A$1,(E48*$J$29/$J$8)/"2",IF(H48=Sąrašai!$A$2,E48*$J$29/$J$8,)) -> 0
C49: Bendra suma: | E49: =+SUM(E43:G48) -> 0 | H49: - | J49: =+SUM(J43:M48) -> 0
B51: 7. | C51: Informacija apie butų ir kitų patalpų savininkams, daugiabučiame name vykdantiems ūkinę veiklą, tenkantį valstybės paramos, projekto įgyvendinimo administravimo išlaidoms apmokėti, dydį (pildoma tuo atveju jeigu daugiabučiame name yra butų ir kitų patalpų savininkų vykdančių ūkinę veiklą):
B52: 7.1 | C52: Buto/ patalpos Nr.: | D52: Savininko vardas, pavardė arba juridnimo asmens pavadinimas: | G52: Asmens valdomų patalpų plotas m2 (nurodyti plotą): | J52: Valstybės paramos dydis procentais (pasirinkti): | L52: Asmeniui tenkantis valstybės paramos dydis (apskaičiuojama automatiškai), eurais:
B53: 7.1.1 | L53: =IF(J53=Sąrašai!$A$1,(G53*$J$29/$J$8)/"2",IF(J53=Sąrašai!$A$2,G53*$J$29/$J$8,)) -> 0
B54: 7.1.2 | L54: =IF(J54=Sąrašai!$A$1,(G54*$J$29/$J$8)/"2",IF(J54=Sąrašai!$A$2,G54*$J$29/$J$8,)) -> 0
B55: 7.1.3 | L55: =IF(J55=Sąrašai!$A$1,(G55*$J$29/$J$8)/"2",IF(J55=Sąrašai!$A$2,G55*$J$29/$J$8,)) -> 0
B56: 7.1.4 | L56: =IF(J56=Sąrašai!$A$1,(G56*$J$29/$J$8)/"2",IF(J56=Sąrašai!$A$2,G56*$J$29/$J$8,)) -> 0
B57: 7.1.5 | L57: =IF(J57=Sąrašai!$A$1,(G57*$J$29/$J$8)/"2",IF(J57=Sąrašai!$A$2,G57*$J$29/$J$8,)) -> 0
B58: ... | L58: =IF(J58=Sąrašai!$A$1,(G58*$J$29/$J$8)/"2",IF(J58=Sąrašai!$A$2,G58*$J$29/$J$8,)) -> 0
D59: Bendra suma: | G59: =+SUM(G53:I58) -> 0 | J59: - | L59: =+SUM(L53:N58) -> 0
B61: 8 | C61: Informacija apie fiziniams asmenims (butų ir kitų patalpų savininkams), daugiabučiame name nevykdantiems ūkinės veiklos ir neturintiems teisės į šildymo išlaidų kompensaciją, projekto įgyvendinimo administravimo išlaidoms apmokėti, tenkantį valstybės paramos dydį (nurodoma informacija apie visus butų savininkus, kurie nėra nurodyti šio prašymo 5, 6, 7 lentelėse):
B62: 8.1 | C62: Butų skaičius: | D62: Asmenų valdomų patalpų plotų suma m2 (nurodyti plotą): | G62: Valstybės paramos dydis procentais (pasirinkti): | I62: Asmenims tenkantis valstybės paramos dydis (apskaičiuojama automatiškai), eurais:
B63: 8.1.1 | I63: =IF(G63=Sąrašai!$A$1,(D63*$J$29/$J$8)/"2",IF(G63=Sąrašai!$A$2,D63*$J$29/$J$8,)) -> 0
B64: Bendra suma: | D64: =+SUM(D63:F63) -> 0 | G64: - | I64: =+SUM(I63:K63) -> 0
B66: 9. | C66: Prašoma suteikti valstybės parama (apskaičiuojama automatiškai), eurais: | J66: =I64+L59+J49+J39 -> 0

Sheet Pr. 11 namui
C1: Prašymo apmokėti projekto įgyvendinimo išlaidas priedas. Prašymo 3 lentelės nurodytiems daugiabučiams namams tenkačio valstybės paramos dydžio apskaičiavimo pagrindimui
B3: Vienuoliktasis namas
B4: 1. | C4: Duomenys apie atnaujinamą daugiabutį namą:
B5: 1.1 | C5: Daugiabučio namo adresas:
B6: 1.2 | C6: Daugiabučio namo atnaujinimo (modernizavimo) projekto numeris:
B7: 1.3 | C7: Daugiabučio namo butų ir kitų patalpų skaičius:
B8: 1.4 | C8: Daugiabučio namo naudingojo ploto suma:
B9: 1.5 | C9: Daugiabučio namo statybos metai:
B10: 1.6 | C10: Butų ir kitų patalpų savininkų sprendimo įgyvendinti projektą ir projekto įgyvendinimo administravimo paslaugos dydžio patvirtinimo data:
B11: 1.7. | C11: Statybos užbaigimo akto surašymo data (jeigu projekto įgyvendinimo metu toks aktas buvo surašytas)
B13: 2. | C13: Duomenys apie galimą suteikti valstybės paramos dydį:
B14: 2.1 | C14: Investicijų plane numatyta suma projekto įgyvendinimo administravimo išlaidoms:
B15: 2.2 | C15: Jau patirtos išlaidos projekto įgyvendinimo administravimui, įgyvendinant projektą:
B16: 2.3 | C16: Projekto įgyvendinimo administravimui apmokėti arba kompensuoti suteiktos valstybės paramos suma:
... B23: 3.4 | C23: Nepilno mėnesio dienų skaičius:
B24: 3.5 | C24: Pasirinkti mėnesį kuris buvo nepilnas (paspauskite duomenų pasirinkimui): | J24: =IF(H24=Sąrašai!$C$1,31,IF(H24=Sąrašai!$C$2,28,IF(H24=Sąrašai!$C$3,31,IF(H24=Sąrašai!$C$4,30,IF(H24=Sąrašai!$C$5,31,IF(H24=Sąrašai!$C$6,30,IF(H24=Sąrašai!$C$7,31,IF(H24=Sąrašai!$C$8,31,IF(H24=Sąrašai!$C$9,30,IF(H24=Sąrašai!$C$10,31,IF(H24=Sąrašai!$C$11,30,IF(H24=Sąrašai!$C$12,31,"0")))))))))))) -> 0
B26: 4. | C26: Informacija apie projekto įgyvendinimo administravimo išlaidas, neįvertinus valstybės paramos:
B27: 4.1 | C27: Butų ir kitų patalpų savininkų sprendimu patvirtinto projekto įgyvendinimo administravimo paslaugos dydžio tarifas Eur (0,1 eur. Tuo atveju kai projekto administratorius yra PVM mokėtojas, tai tarifas yra 0,121, nebent butų ir kitų patalpų savininkų sprendimu yra patvirtintas mažesnis tarifas):
B28: 4.2 | C28: Butų ir kitų patalpų savininkų sprendimu patvirtinto projekto įgyvendinimo administravimo dydis visam namui per mėnesį (apskaičiuojama automatiškai): | J28: =J8*J27 -> 0
B29: 4.3 | C29: Bendra projekto įgyvendinimo administravimo išlaidų suma už prašomą apmokėti laikotarpį (apskaičiuojama automatiškai): | J29: =IF(H23=0,H22*J28,(H22*J28)+(J28/J24*H23)) -> 0
B31: 5. | C31: Informacija apie butų ir kitų patalpų savininkams, turintiems teisę į šildymo išlaidų kompensaciją, tenkantį valstybės paramos, projekto įgyvendinimo administravimo išlaidoms apmokėti, dydį (pildoma tuo atveju jeigu daugiabučiame name yra butų ir kitų patalpų savininkų turinčių teisę į šildymo išlaidų kompensacija):
B32: 5.1 | C32: Buto/ patalpos Nr.: | D32: Savininko vardas, pavardė: | G32: Asmens valdomų patalpų plotas m2 (nurodyti plotą): | J32: Asmeniui tenkantis valstybės paramos dydis (apskaičiuojama automatiškai), eurais:
B33: 5.1.1 | J33: =IF(G33=0,0,G33*$J$29/$J$8) -> 0
B34: 5.1.2 | J34: =IF(G34=0,0,G34*$J$29/$J$8) -> 0
B35: 5.1.3 | J35: =IF(G35=0,0,G35*$J$29/$J$8) -> 0
B36: 5.1.4 | J36: =IF(G36=0,0,G36*$J$29/$J$8) -> 0
B37: 5.1.5 | J37: =IF(G37=0,0,G37*$J$29/$J$8) -> 0
B38: ... | J38: =IF(G38=0,0,G38*$J$29/$J$8) -> 0
D39: Bendra suma: | G39: =+SUM(G33:I38) -> 0 | J39: =+SUM(J33:M38) -> 0
B41: 6. | C41: Informacija apie daugiabučiame name savivaldybės nuosavybės teise valdomoms gyvenamosioms patalpoms tenkantį valstybės paramos dydį (pildoma tuo atveju jeigu daugiabučiame name yra savivaldybei nuosavybės teise priklausančių gyvenamųjų patalpų):
B42: 6.1 | C42: Buto/ patalpos Nr.: | E42: Savivaldybės valdomų patalpų plotas m2 (nurodyti plotą): | H42: Valstybės paramos dydis procentais (pasirinkti): | J42: Savivaldybei tenkantis valstybės paramos dydis (apskaičiuojama automatiškai), eurais:
B43: 6.1.1 | J43: =IF(H43=Sąrašai!$A$1,(E43*$J$29/$J$8)/"2",IF(H43=Sąrašai!$A$2,E43*$J$29/$J$8,)) -> 0
B44: 6.1.2 | J44: =IF(H44=Sąrašai!$A$1,(E44*$J$29/$J$8)/"2",IF(H44=Sąrašai!$A$2,E44*$J$29/$J$8,)) -> 0
B45: 6.1.3 | J45: =IF(H45=Sąrašai!$A$1,(E45*$J$29/$J$8)/"2",IF(H45=Sąrašai!$A$2,E45*$J$29/$J$8,)) -> 0
B46: 6.1.4 | J46: =IF(H46=Sąrašai!$A$1,(E46*$J$29/$J$8)/"2",IF(H46=Sąrašai!$A$2,E46*$J$29/$J$8,)) -> 0
B47: 6.1.5 | J47: =IF(H47=Sąrašai!$A$1,(E47*$J$29/$J$8)/"2",IF(H47=Sąrašai!$A$2,E47*$J$29/$J$8,)) -> 0
B48: ... | J48: =IF(H48=Sąrašai!$A$1,(E48*$J$29/$J$8)/"2",IF(H48=Sąrašai!$A$2,E48*$J$29/$J$8,)) -> 0
C49: Bendra suma: | E49: =+SUM(E43:G48) -> 0 | H49: - | J49: =+SUM(J43:M48) -> 0
B51: 7. | C51: Informacija apie butų ir kitų patalpų savininkams, daugiabučiame name vykdantiems ūkinę veiklą, tenkantį valstybės paramos, projekto įgyvendinimo administravimo išlaidoms apmokėti, dydį (pildoma tuo atveju jeigu daugiabučiame name yra butų ir kitų patalpų savininkų vykdančių ūkinę veiklą):
B52: 7.1 | C52: Buto/ patalpos Nr.: | D52: Savininko vardas, pavardė arba juridnimo asmens pavadinimas: | G52: Asmens valdomų patalpų plotas m2 (nurodyti plotą): | J52: Valstybės paramos dydis procentais (pasirinkti): | L52: Asmeniui tenkantis valstybės paramos dydis (apskaičiuojama automatiškai), eurais:
B53: 7.1.1 | L53: =IF(J53=Sąrašai!$A$1,(G53*$J$29/$J$8)/"2",IF(J53=Sąrašai!$A$2,G53*$J$29/$J$8,)) -> 0
B54: 7.1.2 | L54: =IF(J54=Sąrašai!$A$1,(G54*$J$29/$J$8)/"2",IF(J54=Sąrašai!$A$2,G54*$J$29/$J$8,)) -> 0
B55: 7.1.3 | L55: =IF(J55=Sąrašai!$A$1,(G55*$J$29/$J$8)/"2",IF(J55=Sąrašai!$A$2,G55*$J$29/$J$8,)) -> 0
B56: 7.1.4 | L56: =IF(J56=Sąrašai!$A$1,(G56*$J$29/$J$8)/"2",IF(J56=Sąrašai!$A$2,G56*$J$29/$J$8,)) -> 0
B57: 7.1.5 | L57: =IF(J57=Sąrašai!$A$1,(G57*$J$29/$J$8)/"2",IF(J57=Sąrašai!$A$2,G57*$J$29/$J$8,)) -> 0
B58: ... | L58: =IF(J58=Sąrašai!$A$1,(G58*$J$29/$J$8)/"2",IF(J58=Sąrašai!$A$2,G58*$J$29/$J$8,)) -> 0
D59: Bendra suma: | G59: =+SUM(G53:I58) -> 0 | J59: - | L59: =+SUM(L53:N58) -> 0
B61: 8 | C61: Informacija apie fiziniams asmenims (butų ir kitų patalpų savininkams), daugiabučiame name nevykdantiems ūkinės veiklos ir neturintiems teisės į šildymo išlaidų kompensaciją, projekto įgyvendinimo administravimo išlaidoms apmokėti, tenkantį valstybės paramos dydį (nurodoma informacija apie visus butų savininkus, kurie nėra nurodyti šio prašymo 5, 6, 7 lentelėse):
B62: 8.1 | C62: Butų skaičius: | D62: Asmenų valdomų patalpų plotų suma m2 (nurodyti plotą): | G62: Valstybės paramos dydis procentais (pasirinkti): | I62: Asmenims tenkantis valstybės paramos dydis (apskaičiuojama automatiškai), eurais:
B63: 8.1.1 | I63: =IF(G63=Sąrašai!$A$1,(D63*$J$29/$J$8)/"2",IF(G63=Sąrašai!$A$2,D63*$J$29/$J$8,)) -> 0
B64: Bendra suma: | D64: =+SUM(D63:F63) -> 0 | G64: - | I64: =+SUM(I63:K63) -> 0
B66: 9. | C66: Prašoma suteikti valstybės parama (apskaičiuojama automatiškai), eurais: | J66: =I64+L59+J49+J39 -> 0

Sheet Pr. 12 namui
C1: Prašymo apmokėti projekto įgyvendinimo išlaidas priedas. Prašymo 3 lentelės nurodytiems daugiabučiams namams tenkačio valstybės paramos dydžio apskaičiavimo pagrindimui
B3: Dvyliktasis namas
B4: 1. | C4: Duomenys apie atnaujinamą daugiabutį namą:
B5: 1.1 | C5: Daugiabučio namo adresas:
B6: 1.2 | C6: Daugiabučio namo atnaujinimo (modernizavimo) projekto numeris:
B7: 1.3 | C7: Daugiabučio namo butų ir kitų patalpų skaičius:
B8: 1.4 | C8: Daugiabučio namo naudingojo ploto suma:
B9: 1.5 | C9: Daugiabučio namo statybos metai:
B10: 1.6 | C10: Butų ir kitų patalpų savininkų sprendimo įgyvendinti projektą ir projekto įgyvendinimo administravimo paslaugos dydžio patvirtinimo data:
B11: 1.7. | C11: Statybos užbaigimo akto surašymo data (jeigu projekto įgyvendinimo metu toks aktas buvo surašytas)
B13: 2. | C13: Duomenys apie galimą suteikti valstybės paramos dydį:
B14: 2.1 | C14: Investicijų plane numatyta suma projekto įgyvendinimo administravimo išlaidoms:
B15: 2.2 | C15: Jau patirtos išlaidos projekto įgyvendinimo administravimui, įgyvendinant projektą:
B16: 2.3 | C16: Projekto įgyvendinimo administravimui apmokėti arba kompensuoti suteiktos valstybės paramos suma:
... B23: 3.4 | C23: Nepilno mėnesio dienų skaičius:
B24: 3.5 | C24: Pasirinkti mėnesį kuris buvo nepilnas (paspauskite duomenų pasirinkimui): | J24: =IF(H24=Sąrašai!$C$1,31,IF(H24=Sąrašai!$C$2,28,IF(H24=Sąrašai!$C$3,31,IF(H24=Sąrašai!$C$4,30,IF(H24=Sąrašai!$C$5,31,IF(H24=Sąrašai!$C$6,30,IF(H24=Sąrašai!$C$7,31,IF(H24=Sąrašai!$C$8,31,IF(H24=Sąrašai!$C$9,30,IF(H24=Sąrašai!$C$10,31,IF(H24=Sąrašai!$C$11,30,IF(H24=Sąrašai!$C$12,31,"0")))))))))))) -> 0
B26: 4. | C26: Informacija apie projekto įgyvendinimo administravimo išlaidas, neįvertinus valstybės paramos:
B27: 4.1 | C27: Butų ir kitų patalpų savininkų sprendimu patvirtinto projekto įgyvendinimo administravimo paslaugos dydžio tarifas Eur (0,1 eur. Tuo atveju kai projekto administratorius yra PVM mokėtojas, tai tarifas yra 0,121, nebent butų ir kitų patalpų savininkų sprendimu yra patvirtintas mažesnis tarifas):
B28: 4.2 | C28: Butų ir kitų patalpų savininkų sprendimu patvirtinto projekto įgyvendinimo administravimo dydis visam namui per mėnesį (apskaičiuojama automatiškai): | J28: =J8*J27 -> 0
B29: 4.3 | C29: Bendra projekto įgyvendinimo administravimo išlaidų suma už prašomą apmokėti laikotarpį (apskaičiuojama automatiškai): | J29: =IF(H23=0,H22*J28,(H22*J28)+(J28/J24*H23)) -> 0
B31: 5. | C31: Informacija apie butų ir kitų patalpų savininkams, turintiems teisę į šildymo išlaidų kompensaciją, tenkantį valstybės paramos, projekto įgyvendinimo administravimo išlaidoms apmokėti, dydį (pildoma tuo atveju jeigu daugiabučiame name yra butų ir kitų patalpų savininkų turinčių teisę į šildymo išlaidų kompensacija):
B32: 5.1 | C32: Buto/ patalpos Nr.: | D32: Savininko vardas, pavardė: | G32: Asmens valdomų patalpų plotas m2 (nurodyti plotą): | J32: Asmeniui tenkantis valstybės paramos dydis (apskaičiuojama automatiškai), eurais:
B33: 5.1.1 | J33: =IF(G33=0,0,G33*$J$29/$J$8) -> 0
B34: 5.1.2 | J34: =IF(G34=0,0,G34*$J$29/$J$8) -> 0
B35: 5.1.3 | J35: =IF(G35=0,0,G35*$J$29/$J$8) -> 0
B36: 5.1.4 | J36: =IF(G36=0,0,G36*$J$29/$J$8) -> 0
B37: 5.1.5 | J37: =IF(G37=0,0,G37*$J$29/$J$8) -> 0
B38: ... | J38: =IF(G38=0,0,G38*$J$29/$J$8) -> 0
D39: Bendra suma: | G39: =+SUM(G33:I38) -> 0 | J39: =+SUM(J33:M38) -> 0
B41: 6. | C41: Informacija apie daugiabučiame name savivaldybės nuosavybės teise valdomoms gyvenamosioms patalpoms tenkantį valstybės paramos dydį (pildoma tuo atveju jeigu daugiabučiame name yra savivaldybei nuosavybės teise priklausančių gyvenamųjų patalpų):
B42: 6.1 | C42: Buto/ patalpos Nr.: | E42: Savivaldybės valdomų patalpų plotas m2 (nurodyti plotą): | H42: Valstybės paramos dydis procentais (pasirinkti): | J42: Savivaldybei tenkantis valstybės paramos dydis (apskaičiuojama automatiškai), eurais:
B43: 6.1.1 | J43: =IF(H43=Sąrašai!$A$1,(E43*$J$29/$J$8)/"2",IF(H43=Sąrašai!$A$2,E43*$J$29/$J$8,)) -> 0
B44: 6.1.2 | J44: =IF(H44=Sąrašai!$A$1,(E44*$J$29/$J$8)/"2",IF(H44=Sąrašai!$A$2,E44*$J$29/$J$8,)) -> 0
B45: 6.1.3 | J45: =IF(H45=Sąrašai!$A$1,(E45*$J$29/$J$8)/"2",IF(H45=Sąrašai!$A$2,E45*$J$29/$J$8,)) -> 0
B46: 6.1.4 | J46: =IF(H46=Sąrašai!$A$1,(E46*$J$29/$J$8)/"2",IF(H46=Sąrašai!$A$2,E46*$J$29/$J$8,)) -> 0
B47: 6.1.5 | J47: =IF(H47=Sąrašai!$A$1,(E47*$J$29/$J$8)/"2",IF(H47=Sąrašai!$A$2,E47*$J$29/$J$8,)) -> 0
B48: ... | J48: =IF(H48=Sąrašai!$A$1,(E48*$J$29/$J$8)/"2",IF(H48=Sąrašai!$A$2,E48*$J$29/$J$8,)) -> 0
C49: Bendra suma: | E49: =+SUM(E43:G48) -> 0 | H49: - | J49: =+SUM(J43:M48) -> 0
B51: 7. | C51: Informacija apie butų ir kitų patalpų savininkams, daugiabučiame name vykdantiems ūkinę veiklą, tenkantį valstybės paramos, projekto įgyvendinimo administravimo išlaidoms apmokėti, dydį (pildoma tuo atveju jeigu daugiabučiame name yra butų ir kitų patalpų savininkų vykdančių ūkinę veiklą):
B52: 7.1 | C52: Buto/ patalpos Nr.: | D52: Savininko vardas, pavardė arba juridnimo asmens pavadinimas: | G52: Asmens valdomų patalpų plotas m2 (nurodyti plotą): | J52: Valstybės paramos dydis procentais (pasirinkti): | L52: Asmeniui tenkantis valstybės paramos dydis (apskaičiuojama automatiškai), eurais:
B53: 7.1.1 | L53: =IF(J53=Sąrašai!$A$1,(G53*$J$29/$J$8)/"2",IF(J53=Sąrašai!$A$2,G53*$J$29/$J$8,)) -> 0
B54: 7.1.2 | L54: =IF(J54=Sąrašai!$A$1,(G54*$J$29/$J$8)/"2",IF(J54=Sąrašai!$A$2,G54*$J$29/$J$8,)) -> 0
B55: 7.1.3 | L55: =IF(J55=Sąrašai!$A$1,(G55*$J$29/$J$8)/"2",IF(J55=Sąrašai!$A$2,G55*$J$29/$J$8,)) -> 0
B56: 7.1.4 | L56: =IF(J56=Sąrašai!$A$1,(G56*$J$29/$J$8)/"2",IF(J56=Sąrašai!$A$2,G56*$J$29/$J$8,)) -> 0
B57: 7.1.5 | L57: =IF(J57=Sąrašai!$A$1,(G57*$J$29/$J$8)/"2",IF(J57=Sąrašai!$A$2,G57*$J$29/$J$8,)) -> 0
B58: ... | L58: =IF(J58=Sąrašai!$A$1,(G58*$J$29/$J$8)/"2",IF(J58=Sąrašai!$A$2,G58*$J$29/$J$8,)) -> 0
D59: Bendra suma: | G59: =+SUM(G53:I58) -> 0 | J59: - | L59: =+SUM(L53:N58) -> 0
B61: 8 | C61: Informacija apie fiziniams asmenims (butų ir kitų patalpų savininkams), daugiabučiame name nevykdantiems ūkinės veiklos ir neturintiems teisės į šildymo išlaidų kompensaciją, projekto įgyvendinimo administravimo išlaidoms apmokėti, tenkantį valstybės paramos dydį (nurodoma informacija apie visus butų savininkus, kurie nėra nurodyti šio prašymo 5, 6, 7 lentelėse):
B62: 8.1 | C62: Butų skaičius: | D62: Asmenų valdomų patalpų plotų suma m2 (nurodyti plotą): | G62: Valstybės paramos dydis procentais (pasirinkti): | I62: Asmenims tenkantis valstybės paramos dydis (apskaičiuojama automatiškai), eurais:
B63: 8.1.1 | I63: =IF(G63=Sąrašai!$A$1,(D63*$J$29/$J$8)/"2",IF(G63=Sąrašai!$A$2,D63*$J$29/$J$8,)) -> 0
B64: Bendra suma: | D64: =+SUM(D63:F63) -> 0 | G64: - | I64: =+SUM(I63:K63) -> 0
B66: 9. | C66: Prašoma suteikti valstybės parama (apskaičiuojama automatiškai), eurais: | J66: =I64+L59+J49+J39 -> 0

Sheet Pr. 13 namui
C1: Prašymo apmokėti projekto įgyvendinimo išlaidas priedas. Prašymo 3 lentelės nurodytiems daugiabučiams namams tenkačio valstybės paramos dydžio apskaičiavimo pagrindimui
B3: Tryliktasis namas
B4: 1. | C4: Duomenys apie atnaujinamą daugiabutį namą:
B5: 1.1 | C5: Daugiabučio namo adresas:
B6: 1.2 | C6: Daugiabučio namo atnaujinimo (modernizavimo) projekto numeris:
B7: 1.3 | C7: Daugiabučio namo butų ir kitų patalpų skaičius:
B8: 1.4 | C8: Daugiabučio namo naudingojo ploto suma:
B9: 1.5 | C9: Daugiabučio namo statybos metai:
B10: 1.6 | C10: Butų ir kitų patalpų savininkų sprendimo įgyvendinti projektą ir projekto įgyvendinimo administravimo paslaugos dydžio patvirtinimo data:
B11: 1.7. | C11: Statybos užbaigimo akto surašymo data (jeigu projekto įgyvendinimo metu toks aktas buvo surašytas)
B13: 2. | C13: Duomenys apie galimą suteikti valstybės paramos dydį:
B14: 2.1 | C14: Investicijų plane numatyta suma projekto įgyvendinimo administravimo išlaidoms:
B15: 2.2 | C15: Jau patirtos išlaidos projekto įgyvendinimo administravimui, įgyvendinant projektą:
B16: 2.3 | C16: Projekto įgyvendinimo administravimui apmokėti arba kompensuoti suteiktos valstybės paramos suma:
... B23: 3.4 | C23: Nepilno mėnesio dienų skaičius:
B24: 3.5 | C24: Pasirinkti mėnesį kuris buvo nepilnas (paspauskite duomenų pasirinkimui): | J24: =IF(H24=Sąrašai!$C$1,31,IF(H24=Sąrašai!$C$2,28,IF(H24=Sąrašai!$C$3,31,IF(H24=Sąrašai!$C$4,30,IF(H24=Sąrašai!$C$5,31,IF(H24=Sąrašai!$C$6,30,IF(H24=Sąrašai!$C$7,31,IF(H24=Sąrašai!$C$8,31,IF(H24=Sąrašai!$C$9,30,IF(H24=Sąrašai!$C$10,31,IF(H24=Sąrašai!$C$11,30,IF(H24=Sąrašai!$C$12,31,"0")))))))))))) -> 0
B26: 4. | C26: Informacija apie projekto įgyvendinimo administravimo išlaidas, neįvertinus valstybės paramos:
B27: 4.1 | C27: Butų ir kitų patalpų savininkų sprendimu patvirtinto projekto įgyvendinimo administravimo paslaugos dydžio tarifas Eur (0,1 eur. Tuo atveju kai projekto administratorius yra PVM mokėtojas, tai tarifas yra 0,121, nebent butų ir kitų patalpų savininkų sprendimu yra patvirtintas mažesnis tarifas):
B28: 4.2 | C28: Butų ir kitų patalpų savininkų sprendimu patvirtinto projekto įgyvendinimo administravimo dydis visam namui per mėnesį (apskaičiuojama automatiškai): | J28: =J8*J27 -> 0
B29: 4.3 | C29: Bendra projekto įgyvendinimo administravimo išlaidų suma už prašomą apmokėti laikotarpį (apskaičiuojama automatiškai): | J29: =IF(H23=0,H22*J28,(H22*J28)+(J28/J24*H23)) -> 0
B31: 5. | C31: Informacija apie butų ir kitų patalpų savininkams, turintiems teisę į šildymo išlaidų kompensaciją, tenkantį valstybės paramos, projekto įgyvendinimo administravimo išlaidoms apmokėti, dydį (pildoma tuo atveju jeigu daugiabučiame name yra butų ir kitų patalpų savininkų turinčių teisę į šildymo išlaidų kompensacija):
B32: 5.1 | C32: Buto/ patalpos Nr.: | D32: Savininko vardas, pavardė: | G32: Asmens valdomų patalpų plotas m2 (nurodyti plotą): | J32: Asmeniui tenkantis valstybės paramos dydis (apskaičiuojama automatiškai), eurais:
B33: 5.1.1 | J33: =IF(G33=0,0,G33*$J$29/$J$8) -> 0
B34: 5.1.2 | J34: =IF(G34=0,0,G34*$J$29/$J$8) -> 0
B35: 5.1.3 | J35: =IF(G35=0,0,G35*$J$29/$J$8) -> 0
B36: 5.1.4 | J36: =IF(G36=0,0,G36*$J$29/$J$8) -> 0
B37: 5.1.5 | J37: =IF(G37=0,0,G37*$J$29/$J$8) -> 0
B38: ... | J38: =IF(G38=0,0,G38*$J$29/$J$8) -> 0
D39: Bendra suma: | G39: =+SUM(G33:I38) -> 0 | J39: =+SUM(J33:M38) -> 0
B41: 6. | C41: Informacija apie daugiabučiame name savivaldybės nuosavybės teise valdomoms gyvenamosioms patalpoms tenkantį valstybės paramos dydį (pildoma tuo atveju jeigu daugiabučiame name yra savivaldybei nuosavybės teise priklausančių gyvenamųjų patalpų):
B42: 6.1 | C42: Buto/ patalpos Nr.: | E42: Savivaldybės valdomų patalpų plotas m2 (nurodyti plotą): | H42: Valstybės paramos dydis procentais (pasirinkti): | J42: Savivaldybei tenkantis valstybės paramos dydis (apskaičiuojama automatiškai), eurais:
B43: 6.1.1 | J43: =IF(H43=Sąrašai!$A$1,(E43*$J$29/$J$8)/"2",IF(H43=Sąrašai!$A$2,E43*$J$29/$J$8,)) -> 0
B44: 6.1.2 | J44: =IF(H44=Sąrašai!$A$1,(E44*$J$29/$J$8)/"2",IF(H44=Sąrašai!$A$2,E44*$J$29/$J$8,)) -> 0
B45: 6.1.3 | J45: =IF(H45=Sąrašai!$A$1,(E45*$J$29/$J$8)/"2",IF(H45=Sąrašai!$A$2,E45*$J$29/$J$8,)) -> 0
B46: 6.1.4 | J46: =IF(H46=Sąrašai!$A$1,(E46*$J$29/$J$8)/"2",IF(H46=Sąrašai!$A$2,E46*$J$29/$J$8,)) -> 0
B47: 6.1.5 | J47: =IF(H47=Sąrašai!$A$1,(E47*$J$29/$J$8)/"2",IF(H47=Sąrašai!$A$2,E47*$J$29/$J$8,)) -> 0
B48: ... | J48: =IF(H48=Sąrašai!$A$1,(E48*$J$29/$J$8)/"2",IF(H48=Sąrašai!$A$2,E48*$J$29/$J$8,)) -> 0
C49: Bendra suma: | E49: =+SUM(E43:G48) -> 0 | H49: - | J49: =+SUM(J43:M48) -> 0
B51: 7. | C51: Informacija apie butų ir kitų patalpų savininkams, daugiabučiame name vykdantiems ūkinę veiklą, tenkantį valstybės paramos, projekto įgyvendinimo administravimo išlaidoms apmokėti, dydį (pildoma tuo atveju jeigu daugiabučiame name yra butų ir kitų patalpų savininkų vykdančių ūkinę veiklą):
B52: 7.1 | C52: Buto/ patalpos Nr.: | D52: Savininko vardas, pavardė arba juridnimo asmens pavadinimas: | G52: Asmens valdomų patalpų plotas m2 (nurodyti plotą): | J52: Valstybės paramos dydis procentais (pasirinkti): | L52: Asmeniui tenkantis valstybės paramos dydis (apskaičiuojama automatiškai), eurais:
B53: 7.1.1 | L53: =IF(J53=Sąrašai!$A$1,(G53*$J$29/$J$8)/"2",IF(J53=Sąrašai!$A$2,G53*$J$29/$J$8,)) -> 0
B54: 7.1.2 | L54: =IF(J54=Sąrašai!$A$1,(G54*$J$29/$J$8)/"2",IF(J54=Sąrašai!$A$2,G54*$J$29/$J$8,)) -> 0
B55: 7.1.3 | L55: =IF(J55=Sąrašai!$A$1,(G55*$J$29/$J$8)/"2",IF(J55=Sąrašai!$A$2,G55*$J$29/$J$8,)) -> 0
B56: 7.1.4 | L56: =IF(J56=Sąrašai!$A$1,(G56*$J$29/$J$8)/"2",IF(J56=Sąrašai!$A$2,G56*$J$29/$J$8,)) -> 0
B57: 7.1.5 | L57: =IF(J57=Sąrašai!$A$1,(G57*$J$29/$J$8)/"2",IF(J57=Sąrašai!$A$2,G57*$J$29/$J$8,)) -> 0
B58: ... | L58: =IF(J58=Sąrašai!$A$1,(G58*$J$29/$J$8)/"2",IF(J58=Sąrašai!$A$2,G58*$J$29/$J$8,)) -> 0
D59: Bendra suma: | G59: =+SUM(G53:I58) -> 0 | J59: - | L59: =+SUM(L53:N58) -> 0
B61: 8 | C61: Informacija apie fiziniams asmenims (butų ir kitų patalpų savininkams), daugiabučiame name nevykdantiems ūkinės veiklos ir neturintiems teisės į šildymo išlaidų kompensaciją, projekto įgyvendinimo administravimo išlaidoms apmokėti, tenkantį valstybės paramos dydį (nurodoma informacija apie visus butų savininkus, kurie nėra nurodyti šio prašymo 5, 6, 7 lentelėse):
B62: 8.1 | C62: Butų skaičius: | D62: Asmenų valdomų patalpų plotų suma m2 (nurodyti plotą): | G62: Valstybės paramos dydis procentais (pasirinkti): | I62: Asmenims tenkantis valstybės paramos dydis (apskaičiuojama automatiškai), eurais:
B63: 8.1.1 | I63: =IF(G63=Sąrašai!$A$1,(D63*$J$29/$J$8)/"2",IF(G63=Sąrašai!$A$2,D63*$J$29/$J$8,)) -> 0
B64: Bendra suma: | D64: =+SUM(D63:F63) -> 0 | G64: - | I64: =+SUM(I63:K63) -> 0
B66: 9. | C66: Prašoma suteikti valstybės parama (apskaičiuojama automatiškai), eurais: | J66: =I64+L59+J49+J39 -> 0

Sheet Pr. 14 namui
C1: Prašymo apmokėti projekto įgyvendinimo išlaidas priedas. Prašymo 3 lentelės nurodytiems daugiabučiams namams tenkačio valstybės paramos dydžio apskaičiavimo pagrindimui
B3: Keturioliktasis namas
B4: 1. | C4: Duomenys apie atnaujinamą daugiabutį namą:
B5: 1.1 | C5: Daugiabučio namo adresas:
B6: 1.2 | C6: Daugiabučio namo atnaujinimo (modernizavimo) projekto numeris:
B7: 1.3 | C7: Daugiabučio namo butų ir kitų patalpų skaičius:
B8: 1.4 | C8: Daugiabučio namo naudingojo ploto suma:
B9: 1.5 | C9: Daugiabučio namo statybos metai:
B10: 1.6 | C10: Butų ir kitų patalpų savininkų sprendimo įgyvendinti projektą ir projekto įgyvendinimo administravimo paslaugos dydžio patvirtinimo data:
B11: 1.7. | C11: Statybos užbaigimo akto surašymo data (jeigu projekto įgyvendinimo metu toks aktas buvo surašytas)
B13: 2. | C13: Duomenys apie galimą suteikti valstybės paramos dydį:
B14: 2.1 | C14: Investicijų plane numatyta suma projekto įgyvendinimo administravimo išlaidoms:
B15: 2.2 | C15: Jau patirtos išlaidos projekto įgyvendinimo administravimui, įgyvendinant projektą:
B16: 2.3 | C16: Projekto įgyvendinimo administravimui apmokėti arba kompensuoti suteiktos valstybės paramos suma:
... B23: 3.4 | C23: Nepilno mėnesio dienų skaičius:
B24: 3.5 | C24: Pasirinkti mėnesį kuris buvo nepilnas (paspauskite duomenų pasirinkimui): | J24: =IF(H24=Sąrašai!$C$1,31,IF(H24=Sąrašai!$C$2,28,IF(H24=Sąrašai!$C$3,31,IF(H24=Sąrašai!$C$4,30,IF(H24=Sąrašai!$C$5,31,IF(H24=Sąrašai!$C$6,30,IF(H24=Sąrašai!$C$7,31,IF(H24=Sąrašai!$C$8,31,IF(H24=Sąrašai!$C$9,30,IF(H24=Sąrašai!$C$10,31,IF(H24=Sąrašai!$C$11,30,IF(H24=Sąrašai!$C$12,31,"0")))))))))))) -> 0
B26: 4. | C26: Informacija apie projekto įgyvendinimo administravimo išlaidas, neįvertinus valstybės paramos:
B27: 4.1 | C27: Butų ir kitų patalpų savininkų sprendimu patvirtinto projekto įgyvendinimo administravimo paslaugos dydžio tarifas Eur (0,1 eur. Tuo atveju kai projekto administratorius yra PVM mokėtojas, tai tarifas yra 0,121, nebent butų ir kitų patalpų savininkų sprendimu yra patvirtintas mažesnis tarifas):
B28: 4.2 | C28: Butų ir kitų patalpų savininkų sprendimu patvirtinto projekto įgyvendinimo administravimo dydis visam namui per mėnesį (apskaičiuojama automatiškai): | J28: =J8*J27 -> 0
B29: 4.3 | C29: Bendra projekto įgyvendinimo administravimo išlaidų suma už prašomą apmokėti laikotarpį (apskaičiuojama automatiškai): | J29: =IF(H23=0,H22*J28,(H22*J28)+(J28/J24*H23)) -> 0
B31: 5. | C31: Informacija apie butų ir kitų patalpų savininkams, turintiems teisę į šildymo išlaidų kompensaciją, tenkantį valstybės paramos, projekto įgyvendinimo administravimo išlaidoms apmokėti, dydį (pildoma tuo atveju jeigu daugiabučiame name yra butų ir kitų patalpų savininkų turinčių teisę į šildymo išlaidų kompensacija):
B32: 5.1 | C32: Buto/ patalpos Nr.: | D32: Savininko vardas, pavardė: | G32: Asmens valdomų patalpų plotas m2 (nurodyti plotą): | J32: Asmeniui tenkantis valstybės paramos dydis (apskaičiuojama automatiškai), eurais:
B33: 5.1.1 | J33: =IF(G33=0,0,G33*$J$29/$J$8) -> 0
B34: 5.1.2 | J34: =IF(G34=0,0,G34*$J$29/$J$8) -> 0
B35: 5.1.3 | J35: =IF(G35=0,0,G35*$J$29/$J$8) -> 0
B36: 5.1.4 | J36: =IF(G36=0,0,G36*$J$29/$J$8) -> 0
B37: 5.1.5 | J37: =IF(G37=0,0,G37*$J$29/$J$8) -> 0
B38: ... | J38: =IF(G38=0,0,G38*$J$29/$J$8) -> 0
D39: Bendra suma: | G39: =+SUM(G33:I38) -> 0 | J39: =+SUM(J33:M38) -> 0
B41: 6. | C41: Informacija apie daugiabučiame name savivaldybės nuosavybės teise valdomoms gyvenamosioms patalpoms tenkantį valstybės paramos dydį (pildoma tuo atveju jeigu daugiabučiame name yra savivaldybei nuosavybės teise priklausančių gyvenamųjų patalpų):
B42: 6.1 | C42: Buto/ patalpos Nr.: | E42: Savivaldybės valdomų patalpų plotas m2 (nurodyti plotą): | H42: Valstybės paramos dydis procentais (pasirinkti): | J42: Savivaldybei tenkantis valstybės paramos dydis (apskaičiuojama automatiškai), eurais:
B43: 6.1.1 | J43: =IF(H43=Sąrašai!$A$1,(E43*$J$29/$J$8)/"2",IF(H43=Sąrašai!$A$2,E43*$J$29/$J$8,)) -> 0
B44: 6.1.2 | J44: =IF(H44=Sąrašai!$A$1,(E44*$J$29/$J$8)/"2",IF(H44=Sąrašai!$A$2,E44*$J$29/$J$8,)) -> 0
B45: 6.1.3 | J45: =IF(H45=Sąrašai!$A$1,(E45*$J$29/$J$8)/"2",IF(H45=Sąrašai!$A$2,E45*$J$29/$J$8,)) -> 0
B46: 6.1.4 | J46: =IF(H46=Sąrašai!$A$1,(E46*$J$29/$J$8)/"2",IF(H46=Sąrašai!$A$2,E46*$J$29/$J$8,)) -> 0
B47: 6.1.5 | J47: =IF(H47=Sąrašai!$A$1,(E47*$J$29/$J$8)/"2",IF(H47=Sąrašai!$A$2,E47*$J$29/$J$8,)) -> 0
B48: ... | J48: =IF(H48=Sąrašai!$A$1,(E48*$J$29/$J$8)/"2",IF(H48=Sąrašai!$A$2,E48*$J$29/$J$8,)) -> 0
C49: Bendra suma: | E49: =+SUM(E43:G48) -> 0 | H49: - | J49: =+SUM(J43:M48) -> 0
B51: 7. | C51: Informacija apie butų ir kitų patalpų savininkams, daugiabučiame name vykdantiems ūkinę veiklą, tenkantį valstybės paramos, projekto įgyvendinimo administravimo išlaidoms apmokėti, dydį (pildoma tuo atveju jeigu daugiabučiame name yra butų ir kitų patalpų savininkų vykdančių ūkinę veiklą):
B52: 7.1 | C52: Buto/ patalpos Nr.: | D52: Savininko vardas, pavardė arba juridnimo asmens pavadinimas: | G52: Asmens valdomų patalpų plotas m2 (nurodyti plotą): | J52: Valstybės paramos dydis procentais (pasirinkti): | L52: Asmeniui tenkantis valstybės paramos dydis (apskaičiuojama automatiškai), eurais:
B53: 7.1.1 | L53: =IF(J53=Sąrašai!$A$1,(G53*$J$29/$J$8)/"2",IF(J53=Sąrašai!$A$2,G53*$J$29/$J$8,)) -> 0
B54: 7.1.2 | L54: =IF(J54=Sąrašai!$A$1,(G54*$J$29/$J$8)/"2",IF(J54=Sąrašai!$A$2,G54*$J$29/$J$8,)) -> 0
B55: 7.1.3 | L55: =IF(J55=Sąrašai!$A$1,(G55*$J$29/$J$8)/"2",IF(J55=Sąrašai!$A$2,G55*$J$29/$J$8,)) -> 0
B56: 7.1.4 | L56: =IF(J56=Sąrašai!$A$1,(G56*$J$29/$J$8)/"2",IF(J56=Sąrašai!$A$2,G56*$J$29/$J$8,)) -> 0
B57: 7.1.5 | L57: =IF(J57=Sąrašai!$A$1,(G57*$J$29/$J$8)/"2",IF(J57=Sąrašai!$A$2,G57*$J$29/$J$8,)) -> 0
B58: ... | L58: =IF(J58=Sąrašai!$A$1,(G58*$J$29/$J$8)/"2",IF(J58=Sąrašai!$A$2,G58*$J$29/$J$8,)) -> 0
D59: Bendra suma: | G59: =+SUM(G53:I58) -> 0 | J59: - | L59: =+SUM(L53:N58) -> 0
B61: 8 | C61: Informacija apie fiziniams asmenims (butų ir kitų patalpų savininkams), daugiabučiame name nevykdantiems ūkinės veiklos ir neturintiems teisės į šildymo išlaidų kompensaciją, projekto įgyvendinimo administravimo išlaidoms apmokėti, tenkantį valstybės paramos dydį (nurodoma informacija apie visus butų savininkus, kurie nėra nurodyti šio prašymo 5, 6, 7 lentelėse):
B62: 8.1 | C62: Butų skaičius: | D62: Asmenų valdomų patalpų plotų suma m2 (nurodyti plotą): | G62: Valstybės paramos dydis procentais (pasirinkti): | I62: Asmenims tenkantis valstybės paramos dydis (apskaičiuojama automatiškai), eurais:
B63: 8.1.1 | I63: =IF(G63=Sąrašai!$A$1,(D63*$J$29/$J$8)/"2",IF(G63=Sąrašai!$A$2,D63*$J$29/$J$8,)) -> 0
B64: Bendra suma: | D64: =+SUM(D63:F63) -> 0 | G64: - | I64: =+SUM(I63:K63) -> 0
B66: 9. | C66: Prašoma suteikti valstybės parama (apskaičiuojama automatiškai), eurais: | J66: =I64+L59+J49+J39 -> 0

Sheet Pr. 15 namui
C1: Prašymo apmokėti projekto įgyvendinimo išlaidas priedas. Prašymo 3 lentelės nurodytiems daugiabučiams namams tenkačio valstybės paramos dydžio apskaičiavimo pagrindimui
B3: Penkioliktasis namas
B4: 1. | C4: Duomenys apie atnaujinamą daugiabutį namą:
B5: 1.1 | C5: Daugiabučio namo adresas:
B6: 1.2 | C6: Daugiabučio namo atnaujinimo (modernizavimo) projekto numeris:
B7: 1.3 | C7: Daugiabučio namo butų ir kitų patalpų skaičius:
B8: 1.4 | C8: Daugiabučio namo naudingojo ploto suma:
B9: 1.5 | C9: Daugiabučio namo statybos metai:
B10: 1.6 | C10: Butų ir kitų patalpų savininkų sprendimo įgyvendinti projektą ir projekto įgyvendinimo administravimo paslaugos dydžio patvirtinimo data:
B11: 1.7. | C11: Statybos užbaigimo akto surašymo data (jeigu projekto įgyvendinimo metu toks aktas buvo surašytas)
B13: 2. | C13: Duomenys apie galimą suteikti valstybės paramos dydį:
B14: 2.1 | C14: Investicijų plane numatyta suma projekto įgyvendinimo administravimo išlaidoms:
B15: 2.2 | C15: Jau patirtos išlaidos projekto įgyvendinimo administravimui, įgyvendinant projektą:
B16: 2.3 | C16: Projekto įgyvendinimo administravimui apmokėti arba kompensuoti suteiktos valstybės paramos suma:
... B23: 3.4 | C23: Nepilno mėnesio dienų skaičius:
B24: 3.5 | C24: Pasirinkti mėnesį kuris buvo nepilnas (paspauskite duomenų pasirinkimui): | J24: =IF(H24=Sąrašai!$C$1,31,IF(H24=Sąrašai!$C$2,28,IF(H24=Sąrašai!$C$3,31,IF(H24=Sąrašai!$C$4,30,IF(H24=Sąrašai!$C$5,31,IF(H24=Sąrašai!$C$6,30,IF(H24=Sąrašai!$C$7,31,IF(H24=Sąrašai!$C$8,31,IF(H24=Sąrašai!$C$9,30,IF(H24=Sąrašai!$C$10,31,IF(H24=Sąrašai!$C$11,30,IF(H24=Sąrašai!$C$12,31,"0")))))))))))) -> 0
B26: 4. | C26: Informacija apie projekto įgyvendinimo administravimo išlaidas, neįvertinus valstybės paramos:
B27: 4.1 | C27: Butų ir kitų patalpų savininkų sprendimu patvirtinto projekto įgyvendinimo administravimo paslaugos dydžio tarifas Eur (0,1 eur. Tuo atveju kai projekto administratorius yra PVM mokėtojas, tai tarifas yra 0,121, nebent butų ir kitų patalpų savininkų sprendimu yra patvirtintas mažesnis tarifas):
B28: 4.2 | C28: Butų ir kitų patalpų savininkų sprendimu patvirtinto projekto įgyvendinimo administravimo dydis visam namui per mėnesį (apskaičiuojama automatiškai): | J28: =J8*J27 -> 0
B29: 4.3 | C29: Bendra projekto įgyvendinimo administravimo išlaidų suma už prašomą apmokėti laikotarpį (apskaičiuojama automatiškai): | J29: =IF(H23=0,H22*J28,(H22*J28)+(J28/J24*H23)) -> 0
B31: 5. | C31: Informacija apie butų ir kitų patalpų savininkams, turintiems teisę į šildymo išlaidų kompensaciją, tenkantį valstybės paramos, projekto įgyvendinimo administravimo išlaidoms apmokėti, dydį (pildoma tuo atveju jeigu daugiabučiame name yra butų ir kitų patalpų savininkų turinčių teisę į šildymo išlaidų kompensacija):
B32: 5.1 | C32: Buto/ patalpos Nr.: | D32: Savininko vardas, pavardė: | G32: Asmens valdomų patalpų plotas m2 (nurodyti plotą): | J32: Asmeniui tenkantis valstybės paramos dydis (apskaičiuojama automatiškai), eurais:
B33: 5.1.1 | J33: =IF(G33=0,0,G33*$J$29/$J$8) -> 0
B34: 5.1.2 | J34: =IF(G34=0,0,G34*$J$29/$J$8) -> 0
B35: 5.1.3 | J35: =IF(G35=0,0,G35*$J$29/$J$8) -> 0
B36: 5.1.4 | J36: =IF(G36=0,0,G36*$J$29/$J$8) -> 0
B37: 5.1.5 | J37: =IF(G37=0,0,G37*$J$29/$J$8) -> 0
B38: ... | J38: =IF(G38=0,0,G38*$J$29/$J$8) -> 0
D39: Bendra suma: | G39: =+SUM(G33:I38) -> 0 | J39: =+SUM(J33:M38) -> 0
B41: 6. | C41: Informacija apie daugiabučiame name savivaldybės nuosavybės teise valdomoms gyvenamosioms patalpoms tenkantį valstybės paramos dydį (pildoma tuo atveju jeigu daugiabučiame name yra savivaldybei nuosavybės teise priklausančių gyvenamųjų patalpų):
B42: 6.1 | C42: Buto/ patalpos Nr.: | E42: Savivaldybės valdomų patalpų plotas m2 (nurodyti plotą): | H42: Valstybės paramos dydis procentais (pasirinkti): | J42: Savivaldybei tenkantis valstybės paramos dydis (apskaičiuojama automatiškai), eurais:
B43: 6.1.1 | J43: =IF(H43=Sąrašai!$A$1,(E43*$J$29/$J$8)/"2",IF(H43=Sąrašai!$A$2,E43*$J$29/$J$8,)) -> 0
B44: 6.1.2 | J44: =IF(H44=Sąrašai!$A$1,(E44*$J$29/$J$8)/"2",IF(H44=Sąrašai!$A$2,E44*$J$29/$J$8,)) -> 0
B45: 6.1.3 | J45: =IF(H45=Sąrašai!$A$1,(E45*$J$29/$J$8)/"2",IF(H45=Sąrašai!$A$2,E45*$J$29/$J$8,)) -> 0
B46: 6.1.4 | J46: =IF(H46=Sąrašai!$A$1,(E46*$J$29/$J$8)/"2",IF(H46=Sąrašai!$A$2,E46*$J$29/$J$8,)) -> 0
B47: 6.1.5 | J47: =IF(H47=Sąrašai!$A$1,(E47*$J$29/$J$8)/"2",IF(H47=Sąrašai!$A$2,E47*$J$29/$J$8,)) -> 0
B48: ... | J48: =IF(H48=Sąrašai!$A$1,(E48*$J$29/$J$8)/"2",IF(H48=Sąrašai!$A$2,E48*$J$29/$J$8,)) -> 0
C49: Bendra suma: | E49: =+SUM(E43:G48) -> 0 | H49: - | J49: =+SUM(J43:M48) -> 0
B51: 7. | C51: Informacija apie butų ir kitų patalpų savininkams, daugiabučiame name vykdantiems ūkinę veiklą, tenkantį valstybės paramos, projekto įgyvendinimo administravimo išlaidoms apmokėti, dydį (pildoma tuo atveju jeigu daugiabučiame name yra butų ir kitų patalpų savininkų vykdančių ūkinę veiklą):
B52: 7.1 | C52: Buto/ patalpos Nr.: | D52: Savininko vardas, pavardė arba juridnimo asmens pavadinimas: | G52: Asmens valdomų patalpų plotas m2 (nurodyti plotą): | J52: Valstybės paramos dydis procentais (pasirinkti): | L52: Asmeniui tenkantis valstybės paramos dydis (apskaičiuojama automatiškai), eurais:
B53: 7.1.1 | L53: =IF(J53=Sąrašai!$A$1,(G53*$J$29/$J$8)/"2",IF(J53=Sąrašai!$A$2,G53*$J$29/$J$8,)) -> 0
B54: 7.1.2 | L54: =IF(J54=Sąrašai!$A$1,(G54*$J$29/$J$8)/"2",IF(J54=Sąrašai!$A$2,G54*$J$29/$J$8,)) -> 0
B55: 7.1.3 | L55: =IF(J55=Sąrašai!$A$1,(G55*$J$29/$J$8)/"2",IF(J55=Sąrašai!$A$2,G55*$J$29/$J$8,)) -> 0
B56: 7.1.4 | L56: =IF(J56=Sąrašai!$A$1,(G56*$J$29/$J$8)/"2",IF(J56=Sąrašai!$A$2,G56*$J$29/$J$8,)) -> 0
B57: 7.1.5 | L57: =IF(J57=Sąrašai!$A$1,(G57*$J$29/$J$8)/"2",IF(J57=Sąrašai!$A$2,G57*$J$29/$J$8,)) -> 0
B58: ... | L58: =IF(J58=Sąrašai!$A$1,(G58*$J$29/$J$8)/"2",IF(J58=Sąrašai!$A$2,G58*$J$29/$J$8,)) -> 0
D59: Bendra suma: | G59: =+SUM(G53:I58) -> 0 | J59: - | L59: =+SUM(L53:N58) -> 0
B61: 8 | C61: Informacija apie fiziniams asmenims (butų ir kitų patalpų savininkams), daugiabučiame name nevykdantiems ūkinės veiklos ir neturintiems teisės į šildymo išlaidų kompensaciją, projekto įgyvendinimo administravimo išlaidoms apmokėti, tenkantį valstybės paramos dydį (nurodoma informacija apie visus butų savininkus, kurie nėra nurodyti šio prašymo 5, 6, 7 lentelėse):
B62: 8.1 | C62: Butų skaičius: | D62: Asmenų valdomų patalpų plotų suma m2 (nurodyti plotą): | G62: Valstybės paramos dydis procentais (pasirinkti): | I62: Asmenims tenkantis valstybės paramos dydis (apskaičiuojama automatiškai), eurais:
B63: 8.1.1 | I63: =IF(G63=Sąrašai!$A$1,(D63*$J$29/$J$8)/"2",IF(G63=Sąrašai!$A$2,D63*$J$29/$J$8,)) -> 0
B64: Bendra suma: | D64: =+SUM(D63:F63) -> 0 | G64: - | I64: =+SUM(I63:K63) -> 0
B66: 9. | C66: Prašoma suteikti valstybės parama (apskaičiuojama automatiškai), eurais: | J66: =I64+L59+J49+J39 -> 0

Sheet Pr. 16 namui
C1: Prašymo apmokėti projekto įgyvendinimo išlaidas priedas. Prašymo 3 lentelės nurodytiems daugiabučiams namams tenkačio valstybės paramos dydžio apskaičiavimo pagrindimui
B3: Šešioliktasis namas
B4: 1. | C4: Duomenys apie atnaujinamą daugiabutį namą:
B5: 1.1 | C5: Daugiabučio namo adresas:
B6: 1.2 | C6: Daugiabučio namo atnaujinimo (modernizavimo) projekto numeris:
B7: 1.3 | C7: Daugiabučio namo butų ir kitų patalpų skaičius:
B8: 1.4 | C8: Daugiabučio namo naudingojo ploto suma:
B9: 1.5 | C9: Daugiabučio namo statybos metai:
B10: 1.6 | C10: Butų ir kitų patalpų savininkų sprendimo įgyvendinti projektą ir projekto įgyvendinimo administravimo paslaugos dydžio patvirtinimo data:
B11: 1.7. | C11: Statybos užbaigimo akto surašymo data (jeigu projekto įgyvendinimo metu toks aktas buvo surašytas)
B13: 2. | C13: Duomenys apie galimą suteikti valstybės paramos dydį:
B14: 2.1 | C14: Investicijų plane numatyta suma projekto įgyvendinimo administravimo išlaidoms:
B15: 2.2 | C15: Jau patirtos išlaidos projekto įgyvendinimo administravimui, įgyvendinant projektą:
B16: 2.3 | C16: Projekto įgyvendinimo administravimui apmokėti arba kompensuoti suteiktos valstybės paramos suma:
... B23: 3.4 | C23: Nepilno mėnesio dienų skaičius:
B24: 3.5 | C24: Pasirinkti mėnesį kuris buvo nepilnas (paspauskite duomenų pasirinkimui): | J24: =IF(H24=Sąrašai!$C$1,31,IF(H24=Sąrašai!$C$2,28,IF(H24=Sąrašai!$C$3,31,IF(H24=Sąrašai!$C$4,30,IF(H24=Sąrašai!$C$5,31,IF(H24=Sąrašai!$C$6,30,IF(H24=Sąrašai!$C$7,31,IF(H24=Sąrašai!$C$8,31,IF(H24=Sąrašai!$C$9,30,IF(H24=Sąrašai!$C$10,31,IF(H24=Sąrašai!$C$11,30,IF(H24=Sąrašai!$C$12,31,"0")))))))))))) -> 0
B26: 4. | C26: Informacija apie projekto įgyvendinimo administravimo išlaidas, neįvertinus valstybės paramos:
B27: 4.1 | C27: Butų ir kitų patalpų savininkų sprendimu patvirtinto projekto įgyvendinimo administravimo paslaugos dydžio tarifas Eur (0,1 eur. Tuo atveju kai projekto administratorius yra PVM mokėtojas, tai tarifas yra 0,121, nebent butų ir kitų patalpų savininkų sprendimu yra patvirtintas mažesnis tarifas):
B28: 4.2 | C28: Butų ir kitų patalpų savininkų sprendimu patvirtinto projekto įgyvendinimo administravimo dydis visam namui per mėnesį (apskaičiuojama automatiškai): | J28: =J8*J27 -> 0
B29: 4.3 | C29: Bendra projekto įgyvendinimo administravimo išlaidų suma už prašomą apmokėti laikotarpį (apskaičiuojama automatiškai): | J29: =IF(H23=0,H22*J28,(H22*J28)+(J28/J24*H23)) -> 0
B31: 5. | C31: Informacija apie butų ir kitų patalpų savininkams, turintiems teisę į šildymo išlaidų kompensaciją, tenkantį valstybės paramos, projekto įgyvendinimo administravimo išlaidoms apmokėti, dydį (pildoma tuo atveju jeigu daugiabučiame name yra butų ir kitų patalpų savininkų turinčių teisę į šildymo išlaidų kompensacija):
B32: 5.1 | C32: Buto/ patalpos Nr.: | D32: Savininko vardas, pavardė: | G32: Asmens valdomų patalpų plotas m2 (nurodyti plotą): | J32: Asmeniui tenkantis valstybės paramos dydis (apskaičiuojama automatiškai), eurais:
B33: 5.1.1 | J33: =IF(G33=0,0,G33*$J$29/$J$8) -> 0
B34: 5.1.2 | J34: =IF(G34=0,0,G34*$J$29/$J$8) -> 0
B35: 5.1.3 | J35: =IF(G35=0,0,G35*$J$29/$J$8) -> 0
B36: 5.1.4 | J36: =IF(G36=0,0,G36*$J$29/$J$8) -> 0
B37: 5.1.5 | J37: =IF(G37=0,0,G37*$J$29/$J$8) -> 0
B38: ... | J38: =IF(G38=0,0,G38*$J$29/$J$8) -> 0
D39: Bendra suma: | G39: =+SUM(G33:I38) -> 0 | J39: =+SUM(J33:M38) -> 0
B41: 6. | C41: Informacija apie daugiabučiame name savivaldybės nuosavybės teise valdomoms gyvenamosioms patalpoms tenkantį valstybės paramos dydį (pildoma tuo atveju jeigu daugiabučiame name yra savivaldybei nuosavybės teise priklausančių gyvenamųjų patalpų):
B42: 6.1 | C42: Buto/ patalpos Nr.: | E42: Savivaldybės valdomų patalpų plotas m2 (nurodyti plotą): | H42: Valstybės paramos dydis procentais (pasirinkti): | J42: Savivaldybei tenkantis valstybės paramos dydis (apskaičiuojama automatiškai), eurais:
B43: 6.1.1 | J43: =IF(H43=Sąrašai!$A$1,(E43*$J$29/$J$8)/"2",IF(H43=Sąrašai!$A$2,E43*$J$29/$J$8,)) -> 0
B44: 6.1.2 | J44: =IF(H44=Sąrašai!$A$1,(E44*$J$29/$J$8)/"2",IF(H44=Sąrašai!$A$2,E44*$J$29/$J$8,)) -> 0
B45: 6.1.3 | J45: =IF(H45=Sąrašai!$A$1,(E45*$J$29/$J$8)/"2",IF(H45=Sąrašai!$A$2,E45*$J$29/$J$8,)) -> 0
B46: 6.1.4 | J46: =IF(H46=Sąrašai!$A$1,(E46*$J$29/$J$8)/"2",IF(H46=Sąrašai!$A$2,E46*$J$29/$J$8,)) -> 0
B47: 6.1.5 | J47: =IF(H47=Sąrašai!$A$1,(E47*$J$29/$J$8)/"2",IF(H47=Sąrašai!$A$2,E47*$J$29/$J$8,)) -> 0
B48: ... | J48: =IF(H48=Sąrašai!$A$1,(E48*$J$29/$J$8)/"2",IF(H48=Sąrašai!$A$2,E48*$J$29/$J$8,)) -> 0
C49: Bendra suma: | E49: =+SUM(E43:G48) -> 0 | H49: - | J49: =+SUM(J43:M48) -> 0
B51: 7. | C51: Informacija apie butų ir kitų patalpų savininkams, daugiabučiame name vykdantiems ūkinę veiklą, tenkantį valstybės paramos, projekto įgyvendinimo administravimo išlaidoms apmokėti, dydį (pildoma tuo atveju jeigu daugiabučiame name yra butų ir kitų patalpų savininkų vykdančių ūkinę veiklą):
B52: 7.1 | C52: Buto/ patalpos Nr.: | D52: Savininko vardas, pavardė arba juridnimo asmens pavadinimas: | G52: Asmens valdomų patalpų plotas m2 (nurodyti plotą): | J52: Valstybės paramos dydis procentais (pasirinkti): | L52: Asmeniui tenkantis valstybės paramos dydis (apskaičiuojama automatiškai), eurais:
B53: 7.1.1 | L53: =IF(J53=Sąrašai!$A$1,(G53*$J$29/$J$8)/"2",IF(J53=Sąrašai!$A$2,G53*$J$29/$J$8,)) -> 0
B54: 7.1.2 | L54: =IF(J54=Sąrašai!$A$1,(G54*$J$29/$J$8)/"2",IF(J54=Sąrašai!$A$2,G54*$J$29/$J$8,)) -> 0
B55: 7.1.3 | L55: =IF(J55=Sąrašai!$A$1,(G55*$J$29/$J$8)/"2",IF(J55=Sąrašai!$A$2,G55*$J$29/$J$8,)) -> 0
B56: 7.1.4 | L56: =IF(J56=Sąrašai!$A$1,(G56*$J$29/$J$8)/"2",IF(J56=Sąrašai!$A$2,G56*$J$29/$J$8,)) -> 0
B57: 7.1.5 | L57: =IF(J57=Sąrašai!$A$1,(G57*$J$29/$J$8)/"2",IF(J57=Sąrašai!$A$2,G57*$J$29/$J$8,)) -> 0
B58: ... | L58: =IF(J58=Sąrašai!$A$1,(G58*$J$29/$J$8)/"2",IF(J58=Sąrašai!$A$2,G58*$J$29/$J$8,)) -> 0
D59: Bendra suma: | G59: =+SUM(G53:I58) -> 0 | J59: - | L59: =+SUM(L53:N58) -> 0
B61: 8 | C61: Informacija apie fiziniams asmenims (butų ir kitų patalpų savininkams), daugiabučiame name nevykdantiems ūkinės veiklos ir neturintiems teisės į šildymo išlaidų kompensaciją, projekto įgyvendinimo administravimo išlaidoms apmokėti, tenkantį valstybės paramos dydį (nurodoma informacija apie visus butų savininkus, kurie nėra nurodyti šio prašymo 5, 6, 7 lentelėse):
B62: 8.1 | C62: Butų skaičius: | D62: Asmenų valdomų patalpų plotų suma m2 (nurodyti plotą): | G62: Valstybės paramos dydis procentais (pasirinkti): | I62: Asmenims tenkantis valstybės paramos dydis (apskaičiuojama automatiškai), eurais:
B63: 8.1.1 | I63: =IF(G63=Sąrašai!$A$1,(D63*$J$29/$J$8)/"2",IF(G63=Sąrašai!$A$2,D63*$J$29/$J$8,)) -> 0
B64: Bendra suma: | D64: =+SUM(D63:F63) -> 0 | G64: - | I64: =+SUM(I63:K63) -> 0
B66: 9. | C66: Prašoma suteikti valstybės parama (apskaičiuojama automatiškai), eurais: | J66: =I64+L59+J49+J39 -> 0

Sheet Pr. 17 namui
C1: Prašymo apmokėti projekto įgyvendinimo išlaidas priedas. Prašymo 3 lentelės nurodytiems daugiabučiams namams tenkačio valstybės paramos dydžio apskaičiavimo pagrindimui
B3: Septynioliktasis namas
B4: 1. | C4: Duomenys apie atnaujinamą daugiabutį namą:
B5: 1.1 | C5: Daugiabučio namo adresas:
B6: 1.2 | C6: Daugiabučio namo atnaujinimo (modernizavimo) projekto numeris:
B7: 1.3 | C7: Daugiabučio namo butų ir kitų patalpų skaičius:
B8: 1.4 | C8: Daugiabučio namo naudingojo ploto suma:
B9: 1.5 | C9: Daugiabučio namo statybos metai:
B10: 1.6 | C10: Butų ir kitų patalpų savininkų sprendimo įgyvendinti projektą ir projekto įgyvendinimo administravimo paslaugos dydžio patvirtinimo data:
B11: 1.7. | C11: Statybos užbaigimo akto surašymo data (jeigu projekto įgyvendinimo metu toks aktas buvo surašytas)
B13: 2. | C13: Duomenys apie galimą suteikti valstybės paramos dydį:
B14: 2.1 | C14: Investicijų plane numatyta suma projekto įgyvendinimo administravimo išlaidoms:
B15: 2.2 | C15: Jau patirtos išlaidos projekto įgyvendinimo administravimui, įgyvendinant projektą:
B16: 2.3 | C16: Projekto įgyvendinimo administravimui apmokėti arba kompensuoti suteiktos valstybės paramos suma:
... B23: 3.4 | C23: Nepilno mėnesio dienų skaičius:
B24: 3.5 | C24: Pasirinkti mėnesį kuris buvo nepilnas (paspauskite duomenų pasirinkimui): | J24: =IF(H24=Sąrašai!$C$1,31,IF(H24=Sąrašai!$C$2,28,IF(H24=Sąrašai!$C$3,31,IF(H24=Sąrašai!$C$4,30,IF(H24=Sąrašai!$C$5,31,IF(H24=Sąrašai!$C$6,30,IF(H24=Sąrašai!$C$7,31,IF(H24=Sąrašai!$C$8,31,IF(H24=Sąrašai!$C$9,30,IF(H24=Sąrašai!$C$10,31,IF(H24=Sąrašai!$C$11,30,IF(H24=Sąrašai!$C$12,31,"0")))))))))))) -> 0
B26: 4. | C26: Informacija apie projekto įgyvendinimo administravimo išlaidas, neįvertinus valstybės paramos:
B27: 4.1 | C27: Butų ir kitų patalpų savininkų sprendimu patvirtinto projekto įgyvendinimo administravimo paslaugos dydžio tarifas Eur (0,1 eur. Tuo atveju kai projekto administratorius yra PVM mokėtojas, tai tarifas yra 0,121, nebent butų ir kitų patalpų savininkų sprendimu yra patvirtintas mažesnis tarifas):
B28: 4.2 | C28: Butų ir kitų patalpų savininkų sprendimu patvirtinto projekto įgyvendinimo administravimo dydis visam namui per mėnesį (apskaičiuojama automatiškai): | J28: =J8*J27 -> 0
B29: 4.3 | C29: Bendra projekto įgyvendinimo administravimo išlaidų suma už prašomą apmokėti laikotarpį (apskaičiuojama automatiškai): | J29: =IF(H23=0,H22*J28,(H22*J28)+(J28/J24*H23)) -> 0
B31: 5. | C31: Informacija apie butų ir kitų patalpų savininkams, turintiems teisę į šildymo išlaidų kompensaciją, tenkantį valstybės paramos, projekto įgyvendinimo administravimo išlaidoms apmokėti, dydį (pildoma tuo atveju jeigu daugiabučiame name yra butų ir kitų patalpų savininkų turinčių teisę į šildymo išlaidų kompensacija):
B32: 5.1 | C32: Buto/ patalpos Nr.: | D32: Savininko vardas, pavardė: | G32: Asmens valdomų patalpų plotas m2 (nurodyti plotą): | J32: Asmeniui tenkantis valstybės paramos dydis (apskaičiuojama automatiškai), eurais:
B33: 5.1.1 | J33: =IF(G33=0,0,G33*$J$29/$J$8) -> 0
B34: 5.1.2 | J34: =IF(G34=0,0,G34*$J$29/$J$8) -> 0
B35: 5.1.3 | J35: =IF(G35=0,0,G35*$J$29/$J$8) -> 0
B36: 5.1.4 | J36: =IF(G36=0,0,G36*$J$29/$J$8) -> 0
B37: 5.1.5 | J37: =IF(G37=0,0,G37*$J$29/$J$8) -> 0
B38: ... | J38: =IF(G38=0,0,G38*$J$29/$J$8) -> 0
D39: Bendra suma: | G39: =+SUM(G33:I38) -> 0 | J39: =+SUM(J33:M38) -> 0
B41: 6. | C41: Informacija apie daugiabučiame name savivaldybės nuosavybės teise valdomoms gyvenamosioms patalpoms tenkantį valstybės paramos dydį (pildoma tuo atveju jeigu daugiabučiame name yra savivaldybei nuosavybės teise priklausančių gyvenamųjų patalpų):
B42: 6.1 | C42: Buto/ patalpos Nr.: | E42: Savivaldybės valdomų patalpų plotas m2 (nurodyti plotą): | H42: Valstybės paramos dydis procentais (pasirinkti): | J42: Savivaldybei tenkantis valstybės paramos dydis (apskaičiuojama automatiškai), eurais:
B43: 6.1.1 | J43: =IF(H43=Sąrašai!$A$1,(E43*$J$29/$J$8)/"2",IF(H43=Sąrašai!$A$2,E43*$J$29/$J$8,)) -> 0
B44: 6.1.2 | J44: =IF(H44=Sąrašai!$A$1,(E44*$J$29/$J$8)/"2",IF(H44=Sąrašai!$A$2,E44*$J$29/$J$8,)) -> 0
B45: 6.1.3 | J45: =IF(H45=Sąrašai!$A$1,(E45*$J$29/$J$8)/"2",IF(H45=Sąrašai!$A$2,E45*$J$29/$J$8,)) -> 0
B46: 6.1.4 | J46: =IF(H46=Sąrašai!$A$1,(E46*$J$29/$J$8)/"2",IF(H46=Sąrašai!$A$2,E46*$J$29/$J$8,)) -> 0
B47: 6.1.5 | J47: =IF(H47=Sąrašai!$A$1,(E47*$J$29/$J$8)/"2",IF(H47=Sąrašai!$A$2,E47*$J$29/$J$8,)) -> 0
B48: ... | J48: =IF(H48=Sąrašai!$A$1,(E48*$J$29/$J$8)/"2",IF(H48=Sąrašai!$A$2,E48*$J$29/$J$8,)) -> 0
C49: Bendra suma: | E49: =+SUM(E43:G48) -> 0 | H49: - | J49: =+SUM(J43:M48) -> 0
B51: 7. | C51: Informacija apie butų ir kitų patalpų savininkams, daugiabučiame name vykdantiems ūkinę veiklą, tenkantį valstybės paramos, projekto įgyvendinimo administravimo išlaidoms apmokėti, dydį (pildoma tuo atveju jeigu daugiabučiame name yra butų ir kitų patalpų savininkų vykdančių ūkinę veiklą):
B52: 7.1 | C52: Buto/ patalpos Nr.: | D52: Savininko vardas, pavardė arba juridnimo asmens pavadinimas: | G52: Asmens valdomų patalpų plotas m2 (nurodyti plotą): | J52: Valstybės paramos dydis procentais (pasirinkti): | L52: Asmeniui tenkantis valstybės paramos dydis (apskaičiuojama automatiškai), eurais:
B53: 7.1.1 | L53: =IF(J53=Sąrašai!$A$1,(G53*$J$29/$J$8)/"2",IF(J53=Sąrašai!$A$2,G53*$J$29/$J$8,)) -> 0
B54: 7.1.2 | L54: =IF(J54=Sąrašai!$A$1,(G54*$J$29/$J$8)/"2",IF(J54=Sąrašai!$A$2,G54*$J$29/$J$8,)) -> 0
B55: 7.1.3 | L55: =IF(J55=Sąrašai!$A$1,(G55*$J$29/$J$8)/"2",IF(J55=Sąrašai!$A$2,G55*$J$29/$J$8,)) -> 0
B56: 7.1.4 | L56: =IF(J56=Sąrašai!$A$1,(G56*$J$29/$J$8)/"2",IF(J56=Sąrašai!$A$2,G56*$J$29/$J$8,)) -> 0
B57: 7.1.5 | L57: =IF(J57=Sąrašai!$A$1,(G57*$J$29/$J$8)/"2",IF(J57=Sąrašai!$A$2,G57*$J$29/$J$8,)) -> 0
B58: ... | L58: =IF(J58=Sąrašai!$A$1,(G58*$J$29/$J$8)/"2",IF(J58=Sąrašai!$A$2,G58*$J$29/$J$8,)) -> 0
D59: Bendra suma: | G59: =+SUM(G53:I58) -> 0 | J59: - | L59: =+SUM(L53:N58) -> 0
B61: 8 | C61: Informacija apie fiziniams asmenims (butų ir kitų patalpų savininkams), daugiabučiame name nevykdantiems ūkinės veiklos ir neturintiems teisės į šildymo išlaidų kompensaciją, projekto įgyvendinimo administravimo išlaidoms apmokėti, tenkantį valstybės paramos dydį (nurodoma informacija apie visus butų savininkus, kurie nėra nurodyti šio prašymo 5, 6, 7 lentelėse):
B62: 8.1 | C62: Butų skaičius: | D62: Asmenų valdomų patalpų plotų suma m2 (nurodyti plotą): | G62: Valstybės paramos dydis procentais (pasirinkti): | I62: Asmenims tenkantis valstybės paramos dydis (apskaičiuojama automatiškai), eurais:
B63: 8.1.1 | I63: =IF(G63=Sąrašai!$A$1,(D63*$J$29/$J$8)/"2",IF(G63=Sąrašai!$A$2,D63*$J$29/$J$8,)) -> 0
B64: Bendra suma: | D64: =+SUM(D63:F63) -> 0 | G64: - | I64: =+SUM(I63:K63) -> 0
B66: 9. | C66: Prašoma suteikti valstybės parama (apskaičiuojama automatiškai), eurais: | J66: =I64+L59+J49+J39 -> 0

Sheet Pr. 18 namui
C1: Prašymo apmokėti projekto įgyvendinimo išlaidas priedas. Prašymo 3 lentelės nurodytiems daugiabučiams namams tenkačio valstybės paramos dydžio apskaičiavimo pagrindimui
B3: Aštuonioliktasis namas
B4: 1. | C4: Duomenys apie atnaujinamą daugiabutį namą:
B5: 1.1 | C5: Daugiabučio namo adresas:
B6: 1.2 | C6: Daugiabučio namo atnaujinimo (modernizavimo) projekto numeris:
B7: 1.3 | C7: Daugiabučio namo butų ir kitų patalpų skaičius:
B8: 1.4 | C8: Daugiabučio namo naudingojo ploto suma:
B9: 1.5 | C9: Daugiabučio namo statybos metai:
B10: 1.6 | C10: Butų ir kitų patalpų savininkų sprendimo įgyvendinti projektą ir projekto įgyvendinimo administravimo paslaugos dydžio patvirtinimo data:
B11: 1.7. | C11: Statybos užbaigimo akto surašymo data (jeigu projekto įgyvendinimo metu toks aktas buvo surašytas)
B13: 2. | C13: Duomenys apie galimą suteikti valstybės paramos dydį:
B14: 2.1 | C14: Investicijų plane numatyta suma projekto įgyvendinimo administravimo išlaidoms:
B15: 2.2 | C15: Jau patirtos išlaidos projekto įgyvendinimo administravimui, įgyvendinant projektą:
B16: 2.3 | C16: Projekto įgyvendinimo administravimui apmokėti arba kompensuoti suteiktos valstybės paramos suma:
... B23: 3.4 | C23: Nepilno mėnesio dienų skaičius:
B24: 3.5 | C24: Pasirinkti mėnesį kuris buvo nepilnas (paspauskite duomenų pasirinkimui): | J24: =IF(H24=Sąrašai!$C$1,31,IF(H24=Sąrašai!$C$2,28,IF(H24=Sąrašai!$C$3,31,IF(H24=Sąrašai!$C$4,30,IF(H24=Sąrašai!$C$5,31,IF(H24=Sąrašai!$C$6,30,IF(H24=Sąrašai!$C$7,31,IF(H24=Sąrašai!$C$8,31,IF(H24=Sąrašai!$C$9,30,IF(H24=Sąrašai!$C$10,31,IF(H24=Sąrašai!$C$11,30,IF(H24=Sąrašai!$C$12,31,"0")))))))))))) -> 0
B26: 4. | C26: Informacija apie projekto įgyvendinimo administravimo išlaidas, neįvertinus valstybės paramos:
B27: 4.1 | C27: Butų ir kitų patalpų savininkų sprendimu patvirtinto projekto įgyvendinimo administravimo paslaugos dydžio tarifas Eur (0,1 eur. Tuo atveju kai projekto administratorius yra PVM mokėtojas, tai tarifas yra 0,121, nebent butų ir kitų patalpų savininkų sprendimu yra patvirtintas mažesnis tarifas):
B28: 4.2 | C28: Butų ir kitų patalpų savininkų sprendimu patvirtinto projekto įgyvendinimo administravimo dydis visam namui per mėnesį (apskaičiuojama automatiškai): | J28: =J8*J27 -> 0
B29: 4.3 | C29: Bendra projekto įgyvendinimo administravimo išlaidų suma už prašomą apmokėti laikotarpį (apskaičiuojama automatiškai): | J29: =IF(H23=0,H22*J28,(H22*J28)+(J28/J24*H23)) -> 0
B31: 5. | C31: Informacija apie butų ir kitų patalpų savininkams, turintiems teisę į šildymo išlaidų kompensaciją, tenkantį valstybės paramos, projekto įgyvendinimo administravimo išlaidoms apmokėti, dydį (pildoma tuo atveju jeigu daugiabučiame name yra butų ir kitų patalpų savininkų turinčių teisę į šildymo išlaidų kompensacija):
B32: 5.1 | C32: Buto/ patalpos Nr.: | D32: Savininko vardas, pavardė: | G32: Asmens valdomų patalpų plotas m2 (nurodyti plotą): | J32: Asmeniui tenkantis valstybės paramos dydis (apskaičiuojama automatiškai), eurais:
B33: 5.1.1 | J33: =IF(G33=0,0,G33*$J$29/$J$8) -> 0
B34: 5.1.2 | J34: =IF(G34=0,0,G34*$J$29/$J$8) -> 0
B35: 5.1.3 | J35: =IF(G35=0,0,G35*$J$29/$J$8) -> 0
B36: 5.1.4 | J36: =IF(G36=0,0,G36*$J$29/$J$8) -> 0
B37: 5.1.5 | J37: =IF(G37=0,0,G37*$J$29/$J$8) -> 0
B38: ... | J38: =IF(G38=0,0,G38*$J$29/$J$8) -> 0
D39: Bendra suma: | G39: =+SUM(G33:I38) -> 0 | J39: =+SUM(J33:M38) -> 0
B41: 6. | C41: Informacija apie daugiabučiame name savivaldybės nuosavybės teise valdomoms gyvenamosioms patalpoms tenkantį valstybės paramos dydį (pildoma tuo atveju jeigu daugiabučiame name yra savivaldybei nuosavybės teise priklausančių gyvenamųjų patalpų):
B42: 6.1 | C42: Buto/ patalpos Nr.: | E42: Savivaldybės valdomų patalpų plotas m2 (nurodyti plotą): | H42: Valstybės paramos dydis procentais (pasirinkti): | J42: Savivaldybei tenkantis valstybės paramos dydis (apskaičiuojama automatiškai), eurais:
B43: 6.1.1 | J43: =IF(H43=Sąrašai!$A$1,(E43*$J$29/$J$8)/"2",IF(H43=Sąrašai!$A$2,E43*$J$29/$J$8,)) -> 0
B44: 6.1.2 | J44: =IF(H44=Sąrašai!$A$1,(E44*$J$29/$J$8)/"2",IF(H44=Sąrašai!$A$2,E44*$J$29/$J$8,)) -> 0
B45: 6.1.3 | J45: =IF(H45=Sąrašai!$A$1,(E45*$J$29/$J$8)/"2",IF(H45=Sąrašai!$A$2,E45*$J$29/$J$8,)) -> 0
B46: 6.1.4 | J46: =IF(H46=Sąrašai!$A$1,(E46*$J$29/$J$8)/"2",IF(H46=Sąrašai!$A$2,E46*$J$29/$J$8,)) -> 0
B47: 6.1.5 | J47: =IF(H47=Sąrašai!$A$1,(E47*$J$29/$J$8)/"2",IF(H47=Sąrašai!$A$2,E47*$J$29/$J$8,)) -> 0
B48: ... | J48: =IF(H48=Sąrašai!$A$1,(E48*$J$29/$J$8)/"2",IF(H48=Sąrašai!$A$2,E48*$J$29/$J$8,)) -> 0
C49: Bendra suma: | E49: =+SUM(E43:G48) -> 0 | H49: - | J49: =+SUM(J43:M48) -> 0
B51: 7. | C51: Informacija apie butų ir kitų patalpų savininkams, daugiabučiame name vykdantiems ūkinę veiklą, tenkantį valstybės paramos, projekto įgyvendinimo administravimo išlaidoms apmokėti, dydį (pildoma tuo atveju jeigu daugiabučiame name yra butų ir kitų patalpų savininkų vykdančių ūkinę veiklą):
B52: 7.1 | C52: Buto/ patalpos Nr.: | D52: Savininko vardas, pavardė arba juridnimo asmens pavadinimas: | G52: Asmens valdomų patalpų plotas m2 (nurodyti plotą): | J52: Valstybės paramos dydis procentais (pasirinkti): | L52: Asmeniui tenkantis valstybės paramos dydis (apskaičiuojama automatiškai), eurais:
B53: 7.1.1 | L53: =IF(J53=Sąrašai!$A$1,(G53*$J$29/$J$8)/"2",IF(J53=Sąrašai!$A$2,G53*$J$29/$J$8,)) -> 0
B54: 7.1.2 | L54: =IF(J54=Sąrašai!$A$1,(G54*$J$29/$J$8)/"2",IF(J54=Sąrašai!$A$2,G54*$J$29/$J$8,)) -> 0
B55: 7.1.3 | L55: =IF(J55=Sąrašai!$A$1,(G55*$J$29/$J$8)/"2",IF(J55=Sąrašai!$A$2,G55*$J$29/$J$8,)) -> 0
B56: 7.1.4 | L56: =IF(J56=Sąrašai!$A$1,(G56*$J$29/$J$8)/"2",IF(J56=Sąrašai!$A$2,G56*$J$29/$J$8,)) -> 0
B57: 7.1.5 | L57: =IF(J57=Sąrašai!$A$1,(G57*$J$29/$J$8)/"2",IF(J57=Sąrašai!$A$2,G57*$J$29/$J$8,)) -> 0
B58: ... | L58: =IF(J58=Sąrašai!$A$1,(G58*$J$29/$J$8)/"2",IF(J58=Sąrašai!$A$2,G58*$J$29/$J$8,)) -> 0
D59: Bendra suma: | G59: =+SUM(G53:I58) -> 0 | J59: - | L59: =+SUM(L53:N58) -> 0
B61: 8 | C61: Informacija apie fiziniams asmenims (butų ir kitų patalpų savininkams), daugiabučiame name nevykdantiems ūkinės veiklos ir neturintiems teisės į šildymo išlaidų kompensaciją, projekto įgyvendinimo administravimo išlaidoms apmokėti, tenkantį valstybės paramos dydį (nurodoma informacija apie visus butų savininkus, kurie nėra nurodyti šio prašymo 5, 6, 7 lentelėse):
B62: 8.1 | C62: Butų skaičius: | D62: Asmenų valdomų patalpų plotų suma m2 (nurodyti plotą): | G62: Valstybės paramos dydis procentais (pasirinkti): | I62: Asmenims tenkantis valstybės paramos dydis (apskaičiuojama automatiškai), eurais:
B63: 8.1.1 | I63: =IF(G63=Sąrašai!$A$1,(D63*$J$29/$J$8)/"2",IF(G63=Sąrašai!$A$2,D63*$J$29/$J$8,)) -> 0
B64: Bendra suma: | D64: =+SUM(D63:F63) -> 0 | G64: - | I64: =+SUM(I63:K63) -> 0
B66: 9. | C66: Prašoma suteikti valstybės parama (apskaičiuojama automatiškai), eurais: | J66: =I64+L59+J49+J39 -> 0

Sheet Pr. 19 namui
C1: Prašymo apmokėti projekto įgyvendinimo išlaidas priedas. Prašymo 3 lentelės nurodytiems daugiabučiams namams tenkačio valstybės paramos dydžio apskaičiavimo pagrindimui
B3: Davynioliktasis namas
B4: 1. | C4: Duomenys apie atnaujinamą daugiabutį namą:
B5: 1.1 | C5: Daugiabučio namo adresas:
B6: 1.2 | C6: Daugiabučio namo atnaujinimo (modernizavimo) projekto numeris:
B7: 1.3 | C7: Daugiabučio namo butų ir kitų patalpų skaičius:
B8: 1.4 | C8: Daugiabučio namo naudingojo ploto suma:
B9: 1.5 | C9: Daugiabučio namo statybos metai:
B10: 1.6 | C10: Butų ir kitų patalpų savininkų sprendimo įgyvendinti projektą ir projekto įgyvendinimo administravimo paslaugos dydžio patvirtinimo data:
B11: 1.7. | C11: Statybos užbaigimo akto surašymo data (jeigu projekto įgyvendinimo metu toks aktas buvo surašytas)
B13: 2. | C13: Duomenys apie galimą suteikti valstybės paramos dydį:
B14: 2.1 | C14: Investicijų plane numatyta suma projekto įgyvendinimo administravimo išlaidoms:
B15: 2.2 | C15: Jau patirtos išlaidos projekto įgyvendinimo administravimui, įgyvendinant projektą:
B16: 2.3 | C16: Projekto įgyvendinimo administravimui apmokėti arba kompensuoti suteiktos valstybės paramos suma:
... B23: 3.4 | C23: Nepilno mėnesio dienų skaičius:
B24: 3.5 | C24: Pasirinkti mėnesį kuris buvo nepilnas (paspauskite duomenų pasirinkimui): | J24: =IF(H24=Sąrašai!$C$1,31,IF(H24=Sąrašai!$C$2,28,IF(H24=Sąrašai!$C$3,31,IF(H24=Sąrašai!$C$4,30,IF(H24=Sąrašai!$C$5,31,IF(H24=Sąrašai!$C$6,30,IF(H24=Sąrašai!$C$7,31,IF(H24=Sąrašai!$C$8,31,IF(H24=Sąrašai!$C$9,30,IF(H24=Sąrašai!$C$10,31,IF(H24=Sąrašai!$C$11,30,IF(H24=Sąrašai!$C$12,31,"0")))))))))))) -> 0
B26: 4. | C26: Informacija apie projekto įgyvendinimo administravimo išlaidas, neįvertinus valstybės paramos:
B27: 4.1 | C27: Butų ir kitų patalpų savininkų sprendimu patvirtinto projekto įgyvendinimo administravimo paslaugos dydžio tarifas Eur (0,1 eur. Tuo atveju kai projekto administratorius yra PVM mokėtojas, tai tarifas yra 0,121, nebent butų ir kitų patalpų savininkų sprendimu yra patvirtintas mažesnis tarifas):
B28: 4.2 | C28: Butų ir kitų patalpų savininkų sprendimu patvirtinto projekto įgyvendinimo administravimo dydis visam namui per mėnesį (apskaičiuojama automatiškai): | J28: =J8*J27 -> 0
B29: 4.3 | C29: Bendra projekto įgyvendinimo administravimo išlaidų suma už prašomą apmokėti laikotarpį (apskaičiuojama automatiškai): | J29: =IF(H23=0,H22*J28,(H22*J28)+(J28/J24*H23)) -> 0
B31: 5. | C31: Informacija apie butų ir kitų patalpų savininkams, turintiems teisę į šildymo išlaidų kompensaciją, tenkantį valstybės paramos, projekto įgyvendinimo administravimo išlaidoms apmokėti, dydį (pildoma tuo atveju jeigu daugiabučiame name yra butų ir kitų patalpų savininkų turinčių teisę į šildymo išlaidų kompensacija):
B32: 5.1 | C32: Buto/ patalpos Nr.: | D32: Savininko vardas, pavardė: | G32: Asmens valdomų patalpų plotas m2 (nurodyti plotą): | J32: Asmeniui tenkantis valstybės paramos dydis (apskaičiuojama automatiškai), eurais:
B33: 5.1.1 | J33: =IF(G33=0,0,G33*$J$29/$J$8) -> 0
B34: 5.1.2 | J34: =IF(G34=0,0,G34*$J$29/$J$8) -> 0
B35: 5.1.3 | J35: =IF(G35=0,0,G35*$J$29/$J$8) -> 0
B36: 5.1.4 | J36: =IF(G36=0,0,G36*$J$29/$J$8) -> 0
B37: 5.1.5 | J37: =IF(G37=0,0,G37*$J$29/$J$8) -> 0
B38: ... | J38: =IF(G38=0,0,G38*$J$29/$J$8) -> 0
D39: Bendra suma: | G39: =+SUM(G33:I38) -> 0 | J39: =+SUM(J33:M38) -> 0
B41: 6. | C41: Informacija apie daugiabučiame name savivaldybės nuosavybės teise valdomoms gyvenamosioms patalpoms tenkantį valstybės paramos dydį (pildoma tuo atveju jeigu daugiabučiame name yra savivaldybei nuosavybės teise priklausančių gyvenamųjų patalpų):
B42: 6.1 | C42: Buto/ patalpos Nr.: | E42: Savivaldybės valdomų patalpų plotas m2 (nurodyti plotą): | H42: Valstybės paramos dydis procentais (pasirinkti): | J42: Savivaldybei tenkantis valstybės paramos dydis (apskaičiuojama automatiškai), eurais:
B43: 6.1.1 | J43: =IF(H43=Sąrašai!$A$1,(E43*$J$29/$J$8)/"2",IF(H43=Sąrašai!$A$2,E43*$J$29/$J$8,)) -> 0
B44: 6.1.2 | J44: =IF(H44=Sąrašai!$A$1,(E44*$J$29/$J$8)/"2",IF(H44=Sąrašai!$A$2,E44*$J$29/$J$8,)) -> 0
B45: 6.1.3 | J45: =IF(H45=Sąrašai!$A$1,(E45*$J$29/$J$8)/"2",IF(H45=Sąrašai!$A$2,E45*$J$29/$J$8,)) -> 0
B46: 6.1.4 | J46: =IF(H46=Sąrašai!$A$1,(E46*$J$29/$J$8)/"2",IF(H46=Sąrašai!$A$2,E46*$J$29/$J$8,)) -> 0
B47: 6.1.5 | J47: =IF(H47=Sąrašai!$A$1,(E47*$J$29/$J$8)/"2",IF(H47=Sąrašai!$A$2,E47*$J$29/$J$8,)) -> 0
B48: ... | J48: =IF(H48=Sąrašai!$A$1,(E48*$J$29/$J$8)/"2",IF(H48=Sąrašai!$A$2,E48*$J$29/$J$8,)) -> 0
C49: Bendra suma: | E49: =+SUM(E43:G48) -> 0 | H49: - | J49: =+SUM(J43:M48) -> 0
B51: 7. | C51: Informacija apie butų ir kitų patalpų savininkams, daugiabučiame name vykdantiems ūkinę veiklą, tenkantį valstybės paramos, projekto įgyvendinimo administravimo išlaidoms apmokėti, dydį (pildoma tuo atveju jeigu daugiabučiame name yra butų ir kitų patalpų savininkų vykdančių ūkinę veiklą):
B52: 7.1 | C52: Buto/ patalpos Nr.: | D52: Savininko vardas, pavardė arba juridnimo asmens pavadinimas: | G52: Asmens valdomų patalpų plotas m2 (nurodyti plotą): | J52: Valstybės paramos dydis procentais (pasirinkti): | L52: Asmeniui tenkantis valstybės paramos dydis (apskaičiuojama automatiškai), eurais:
B53: 7.1.1 | L53: =IF(J53=Sąrašai!$A$1,(G53*$J$29/$J$8)/"2",IF(J53=Sąrašai!$A$2,G53*$J$29/$J$8,)) -> 0
B54: 7.1.2 | L54: =IF(J54=Sąrašai!$A$1,(G54*$J$29/$J$8)/"2",IF(J54=Sąrašai!$A$2,G54*$J$29/$J$8,)) -> 0
B55: 7.1.3 | L55: =IF(J55=Sąrašai!$A$1,(G55*$J$29/$J$8)/"2",IF(J55=Sąrašai!$A$2,G55*$J$29/$J$8,)) -> 0
B56: 7.1.4 | L56: =IF(J56=Sąrašai!$A$1,(G56*$J$29/$J$8)/"2",IF(J56=Sąrašai!$A$2,G56*$J$29/$J$8,)) -> 0
B57: 7.1.5 | L57: =IF(J57=Sąrašai!$A$1,(G57*$J$29/$J$8)/"2",IF(J57=Sąrašai!$A$2,G57*$J$29/$J$8,)) -> 0
B58: ... | L58: =IF(J58=Sąrašai!$A$1,(G58*$J$29/$J$8)/"2",IF(J58=Sąrašai!$A$2,G58*$J$29/$J$8,)) -> 0
D59: Bendra suma: | G59: =+SUM(G53:I58) -> 0 | J59: - | L59: =+SUM(L53:N58) -> 0
B61: 8 | C61: Informacija apie fiziniams asmenims (butų ir kitų patalpų savininkams), daugiabučiame name nevykdantiems ūkinės veiklos ir neturintiems teisės į šildymo išlaidų kompensaciją, projekto įgyvendinimo administravimo išlaidoms apmokėti, tenkantį valstybės paramos dydį (nurodoma informacija apie visus butų savininkus, kurie nėra nurodyti šio prašymo 5, 6, 7 lentelėse):
B62: 8.1 | C62: Butų skaičius: | D62: Asmenų valdomų patalpų plotų suma m2 (nurodyti plotą): | G62: Valstybės paramos dydis procentais (pasirinkti): | I62: Asmenims tenkantis valstybės paramos dydis (apskaičiuojama automatiškai), eurais:
B63: 8.1.1 | I63: =IF(G63=Sąrašai!$A$1,(D63*$J$29/$J$8)/"2",IF(G63=Sąrašai!$A$2,D63*$J$29/$J$8,)) -> 0
B64: Bendra suma: | D64: =+SUM(D63:F63) -> 0 | G64: - | I64: =+SUM(I63:K63) -> 0
B66: 9. | C66: Prašoma suteikti valstybės parama (apskaičiuojama automatiškai), eurais: | J66: =I64+L59+J49+J39 -> 0

Sheet Pr. 20 namui
C1: Prašymo apmokėti projekto įgyvendinimo išlaidas priedas. Prašymo 3 lentelės nurodytiems daugiabučiams namams tenkačio valstybės paramos dydžio apskaičiavimo pagrindimui
B3: Dvidešimtasis namas
B4: 1. | C4: Duomenys apie atnaujinamą daugiabutį namą:
B5: 1.1 | C5: Daugiabučio namo adresas:
B6: 1.2 | C6: Daugiabučio namo atnaujinimo (modernizavimo) projekto numeris:
B7: 1.3 | C7: Daugiabučio namo butų ir kitų patalpų skaičius:
B8: 1.4 | C8: Daugiabučio namo naudingojo ploto suma:
B9: 1.5 | C9: Daugiabučio namo statybos metai:
B10: 1.6 | C10: Butų ir kitų patalpų savininkų sprendimo įgyvendinti projektą ir projekto įgyvendinimo administravimo paslaugos dydžio patvirtinimo data:
B11: 1.7. | C11: Statybos užbaigimo akto surašymo data (jeigu projekto įgyvendinimo metu toks aktas buvo surašytas)
B13: 2. | C13: Duomenys apie galimą suteikti valstybės paramos dydį:
B14: 2.1 | C14: Investicijų plane numatyta suma projekto įgyvendinimo administravimo išlaidoms:
B15: 2.2 | C15: Jau patirtos išlaidos projekto įgyvendinimo administravimui, įgyvendinant projektą:
B16: 2.3 | C16: Projekto įgyvendinimo administravimui apmokėti arba kompensuoti suteiktos valstybės paramos suma:
... B23: 3.4 | C23: Nepilno mėnesio dienų skaičius:
B24: 3.5 | C24: Pasirinkti mėnesį kuris buvo nepilnas (paspauskite duomenų pasirinkimui): | J24: =IF(H24=Sąrašai!$C$1,31,IF(H24=Sąrašai!$C$2,28,IF(H24=Sąrašai!$C$3,31,IF(H24=Sąrašai!$C$4,30,IF(H24=Sąrašai!$C$5,31,IF(H24=Sąrašai!$C$6,30,IF(H24=Sąrašai!$C$7,31,IF(H24=Sąrašai!$C$8,31,IF(H24=Sąrašai!$C$9,30,IF(H24=Sąrašai!$C$10,31,IF(H24=Sąrašai!$C$11,30,IF(H24=Sąrašai!$C$12,31,"0")))))))))))) -> 0
B26: 4. | C26: Informacija apie projekto įgyvendinimo administravimo išlaidas, neįvertinus valstybės paramos:
B27: 4.1 | C27: Butų ir kitų patalpų savininkų sprendimu patvirtinto projekto įgyvendinimo administravimo paslaugos dydžio tarifas Eur (0,1 eur. Tuo atveju kai projekto administratorius yra PVM mokėtojas, tai tarifas yra 0,121, nebent butų ir kitų patalpų savininkų sprendimu yra patvirtintas mažesnis tarifas):
B28: 4.2 | C28: Butų ir kitų patalpų savininkų sprendimu patvirtinto projekto įgyvendinimo administravimo dydis visam namui per mėnesį (apskaičiuojama automatiškai): | J28: =J8*J27 -> 0
B29: 4.3 | C29: Bendra projekto įgyvendinimo administravimo išlaidų suma už prašomą apmokėti laikotarpį (apskaičiuojama automatiškai): | J29: =IF(H23=0,H22*J28,(H22*J28)+(J28/J24*H23)) -> 0
B31: 5. | C31: Informacija apie butų ir kitų patalpų savininkams, turintiems teisę į šildymo išlaidų kompensaciją, tenkantį valstybės paramos, projekto įgyvendinimo administravimo išlaidoms apmokėti, dydį (pildoma tuo atveju jeigu daugiabučiame name yra butų ir kitų patalpų savininkų turinčių teisę į šildymo išlaidų kompensacija):
B32: 5.1 | C32: Buto/ patalpos Nr.: | D32: Savininko vardas, pavardė: | G32: Asmens valdomų patalpų plotas m2 (nurodyti plotą): | J32: Asmeniui tenkantis valstybės paramos dydis (apskaičiuojama automatiškai), eurais:
B33: 5.1.1 | J33: =IF(G33=0,0,G33*$J$29/$J$8) -> 0
B34: 5.1.2 | J34: =IF(G34=0,0,G34*$J$29/$J$8) -> 0
B35: 5.1.3 | J35: =IF(G35=0,0,G35*$J$29/$J$8) -> 0
B36: 5.1.4 | J36: =IF(G36=0,0,G36*$J$29/$J$8) -> 0
B37: 5.1.5 | J37: =IF(G37=0,0,G37*$J$29/$J$8) -> 0
B38: ... | J38: =IF(G38=0,0,G38*$J$29/$J$8) -> 0
D39: Bendra suma: | G39: =+SUM(G33:I38) -> 0 | J39: =+SUM(J33:M38) -> 0
B41: 6. | C41: Informacija apie daugiabučiame name savivaldybės nuosavybės teise valdomoms gyvenamosioms patalpoms tenkantį valstybės paramos dydį (pildoma tuo atveju jeigu daugiabučiame name yra savivaldybei nuosavybės teise priklausančių gyvenamųjų patalpų):
B42: 6.1 | C42: Buto/ patalpos Nr.: | E42: Savivaldybės valdomų patalpų plotas m2 (nurodyti plotą): | H42: Valstybės paramos dydis procentais (pasirinkti): | J42: Savivaldybei tenkantis valstybės paramos dydis (apskaičiuojama automatiškai), eurais:
B43: 6.1.1 | J43: =IF(H43=Sąrašai!$A$1,(E43*$J$29/$J$8)/"2",IF(H43=Sąrašai!$A$2,E43*$J$29/$J$8,)) -> 0
B44: 6.1.2 | J44: =IF(H44=Sąrašai!$A$1,(E44*$J$29/$J$8)/"2",IF(H44=Sąrašai!$A$2,E44*$J$29/$J$8,)) -> 0
B45: 6.1.3 | J45: =IF(H45=Sąrašai!$A$1,(E45*$J$29/$J$8)/"2",IF(H45=Sąrašai!$A$2,E45*$J$29/$J$8,)) -> 0
B46: 6.1.4 | J46: =IF(H46=Sąrašai!$A$1,(E46*$J$29/$J$8)/"2",IF(H46=Sąrašai!$A$2,E46*$J$29/$J$8,)) -> 0
B47: 6.1.5 | J47: =IF(H47=Sąrašai!$A$1,(E47*$J$29/$J$8)/"2",IF(H47=Sąrašai!$A$2,E47*$J$29/$J$8,)) -> 0
B48: ... | J48: =IF(H48=Sąrašai!$A$1,(E48*$J$29/$J$8)/"2",IF(H48=Sąrašai!$A$2,E48*$J$29/$J$8,)) -> 0
C49: Bendra suma: | E49: =+SUM(E43:G48) -> 0 | H49: - | J49: =+SUM(J43:M48) -> 0
B51: 7. | C51: Informacija apie butų ir kitų patalpų savininkams, daugiabučiame name vykdantiems ūkinę veiklą, tenkantį valstybės paramos, projekto įgyvendinimo administravimo išlaidoms apmokėti, dydį (pildoma tuo atveju jeigu daugiabučiame name yra butų ir kitų patalpų savininkų vykdančių ūkinę veiklą):
B52: 7.1 | C52: Buto/ patalpos Nr.: | D52: Savininko vardas, pavardė arba juridnimo asmens pavadinimas: | G52: Asmens valdomų patalpų plotas m2 (nurodyti plotą): | J52: Valstybės paramos dydis procentais (pasirinkti): | L52: Asmeniui tenkantis valstybės paramos dydis (apskaičiuojama automatiškai), eurais:
B53: 7.1.1 | L53: =IF(J53=Sąrašai!$A$1,(G53*$J$29/$J$8)/"2",IF(J53=Sąrašai!$A$2,G53*$J$29/$J$8,)) -> 0
B54: 7.1.2 | L54: =IF(J54=Sąrašai!$A$1,(G54*$J$29/$J$8)/"2",IF(J54=Sąrašai!$A$2,G54*$J$29/$J$8,)) -> 0
B55: 7.1.3 | L55: =IF(J55=Sąrašai!$A$1,(G55*$J$29/$J$8)/"2",IF(J55=Sąrašai!$A$2,G55*$J$29/$J$8,)) -> 0
B56: 7.1.4 | L56: =IF(J56=Sąrašai!$A$1,(G56*$J$29/$J$8)/"2",IF(J56=Sąrašai!$A$2,G56*$J$29/$J$8,)) -> 0
B57: 7.1.5 | L57: =IF(J57=Sąrašai!$A$1,(G57*$J$29/$J$8)/"2",IF(J57=Sąrašai!$A$2,G57*$J$29/$J$8,)) -> 0
B58: ... | L58: =IF(J58=Sąrašai!$A$1,(G58*$J$29/$J$8)/"2",IF(J58=Sąrašai!$A$2,G58*$J$29/$J$8,)) -> 0
D59: Bendra suma: | G59: =+SUM(G53:I58) -> 0 | J59: - | L59: =+SUM(L53:N58) -> 0
B61: 8 | C61: Informacija apie fiziniams asmenims (butų ir kitų patalpų savininkams), daugiabučiame name nevykdantiems ūkinės veiklos ir neturintiems teisės į šildymo išlaidų kompensaciją, projekto įgyvendinimo administravimo išlaidoms apmokėti, tenkantį valstybės paramos dydį (nurodoma informacija apie visus butų savininkus, kurie nėra nurodyti šio prašymo 5, 6, 7 lentelėse):
B62: 8.1 | C62: Butų skaičius: | D62: Asmenų valdomų patalpų plotų suma m2 (nurodyti plotą): | G62: Valstybės paramos dydis procentais (pasirinkti): | I62: Asmenims tenkantis valstybės paramos dydis (apskaičiuojama automatiškai), eurais:
B63: 8.1.1 | I63: =IF(G63=Sąrašai!$A$1,(D63*$J$29/$J$8)/"2",IF(G63=Sąrašai!$A$2,D63*$J$29/$J$8,)) -> 0
B64: Bendra suma: | D64: =+SUM(D63:F63) -> 0 | G64: - | I64: =+SUM(I63:K63) -> 0
B66: 9. | C66: Prašoma suteikti valstybės parama (apskaičiuojama automatiškai), eurais: | J66: =I64+L59+J49+J39 -> 0

Sheet Sąrašai
A1: 50 proc. | C1: Sausis | D1: 31
A2: 100 proc. | C2: Vasaris | D2: 28
C3: Kovas | D3: 31
C4: Balandis | D4: 30
C5: Gegužė | D5: 31
C6: Birželis | D6: 30
C7: Liepa | D7: 31
C8: Rugpjūtis | D8: 31
C9: Rugsėjis | D9: 30
C10: Spalis | D10: 31
C11: Lapkritis | D11: 30
C12: Gruodis | D12: 31
