Workbook

Sheet Prašymo pildymo instrukcija
B1: Instrukcija, kaip teisingai užpildyti prašymą kompensuoti, daugiabučio namo atnaujinimo (modernizavimo), projekto įgyvendinimo administravimo išlaidas
A4: 1 | B4: Prašymas pradedamas pildyti nuo šiame EXEL faile esančio antrojo darbalapio pavadinimu "Pr. 1 namui". Iš šio darbalapio informacija importuojama į prašymo formą. Priklausomai nuo to, už kelių namų butų savininkams bus prašoma suteikti valstybės paramą, tai tiek darbalapių ("Pr. 1 namui", "Pr. 2 namui" ir t.t.) reikia užpildyti kiekvienam namui atskirai. Maksimalus namų skaičius, kurį galima įtraukti į prašymą - 20 vnt.
A5: 2 | B5: Darbalapio "Pr. 1 namui" 1 lentelėje nurodomi pagrindiniai daugiabučio namo duomenys.
A6: 3 | B6: Darbalapio "Pr. 1 namui" 2 lentelėje pateikiama informacija imama iš investicijų plano ir sumumavus išlaidas patirtas už projekto įgyvendinimo administravimą. 2.4. eilutėje nurodoma suma tuo atveju, jeigu butų ir kitų patalpų savininkai nusprendė padidinti projekto išlaidas projekto įgyvendinimo administravimui apmokėti iki tam tikros sumos, nekeičiant investicijų plano. Tokiu atveju būtina kartu su prašymu pateikti minėto butų ir kitų patalpų savininkų sprendimo protokolo kopiją, jeigu šis dokumentas nebuvo pateiktas ankščiau.
A7: 4 | B7: Darbalapio "Pr. 1 namui" 3 lentelėje nurodomas laikotarpis, už kurį bus prašoma suteikta valstybės paramą. Kai laikotarpį sudaro pilni mėnesiai, nurodomas pilnų mėnesių skaičius 3.3. eilutėje. Kai laikotarpį sudaro ne pilnas mėnesis reikia suskaičiuoti dienas iš nepilno mėnesio ir šį dienų skaičių įrašyti į 3.4. eilutę. Tokiu atveju 3.5. eilutėje būtina pasirinkti mėnesį, kuris yra ne pilnas.
A8: 5 | B8: Darbalapio "Pr. 1 namui" 4 lentelėje nurodomi duomenys kiek kainuoja projekto įgyvendinimo administravimo paslaugos namui, neįvertinant valstybės paramos.
A9: 6 | B9: Darbalapio "Pr. 1 namui" penktoje lentelėje nurodomi visi asmenys, kurie turi teisę į šildymo išlaidų kompensaciją. Taip pat nurodomi jų valdomų patalpų plotai, pagal kuriuos apskaičiuojamas teiktino valstybės paramos dydis, bei butų numeriai. Duomenys nurodomi pagal Registrų centro pateiktas pažymas, bei savivaldybės išduotas pažymas patvirtinančias asmenų teisę į šildymo išlaidų kompensaciją. Lentelėje esantis valstybės paramos dydis apskaičiuojamas automatiškai, pagal asmeniui tenkantį valdomų patalpų plotą.
A10: 7 | B10: Darbalapio "Pr. 1 namui" šeštoje lentelėje nurodomos visos gyvenamosios patalpos (ir jų plotai) valdomos savivaldybės. Duomenys nurodomi pagal Registrų centro pateiktas pažymas. Lentelėje esantis valstybės paramos dydis apskaičiuojamas automatiškai, pagal savivaldybei tenkantį valdomų patalpų plotą.
A11: 8 | B11: Darbalapio "Pr. 1 namui" Septintoje lentelėje nurodomos visos daugiabučio namo patalpos (ir jų plotai) valdomos ūkinę veiklą vykdančių asmenų. Duomenys nurodomi pagal Registrų centro pateiktas pažymas. Lentelėje taip pat parenkama, kokio dydžio valstybės parama bus skiriama šiems asmenims - galimi du pasirinkimo variantai - 50 arba 100 proc. Lentelėje esantis valstybės paramos dydis apskaičiuojamas automatiškai, pagal asmeniui tenkantį valdomų patalpų plotą.
A12: 9 | B12: Darbalapio "Pr. 1 namui" aštuntoje lentelėje nurodomos visos daugiabučio namo patalpos (ir jų plotai) valdomos fizinių asmenų, nevykdančių ūkinės veiklos ir neturinčių teisės į šildymo išlaidų kompensaciją. Duomenys nurodomi pagal Registrų centro pateiktas pažymas. Lentelėje taip pat parenkama, kokio dydžio valstybės parama bus skiriama šiems asmenims - galimi du pasirinkimo variantai - 50 arba 100 proc. Lentelėje esantis valstybės paramos dydis apskaičiuojamas automatiškai, pagal asmeniui tenkantį valdomų patalpų plotą.
A13: 10 | B13: Užpildžius duomenis darbalapyje "Pr. 1 namui" duomenys automatiškai apskaičiuojami ir importuojami į prašymo formą. Esant būtinybei įtraukti į prašymą kitą namą pildomas darbalapis "Pr. 2 namui" ir t.t. Užpildyti darbalapiai pridedami prie prašymo jį pateikiant Agentūrai.
A14: 11 | B14: Prašyme turi būti nurodoma detalūs administratoriaus duomenys. Prašymo teikėjo duomenys turi būti nurodomi pilnai - nurodant tikslų prašymo teikėjo pavadinimą arba vardą pavardę (jeigu prašymą teikia fizinis asmuo).
A15: 12 | B15: Prašymo data nurodoma prašymo pildymo metu. Rekomenduojama užpildytą prašymą nedelsiant pateikti Būsto energijos taupymo agentūrai (Toliau - Agentūra), tam kad prašymo data būtų aktuali.
... A17: 14 | B17: Prašymo 3 lentelė nepildoma, į ją duomenys importuojami automatiškai iš priedų.

Sheet Užpildyto prašymo pavyzdys
C1: Pavyzdys: Duomenys pirma suvedami į Prašymo priedus:
C3: Prašymo kompensuoti projekto įgyvendinimo išlaidas priedas. Prašymo 3 lentelės nurodytiems daugiabučiams namams tenkačio valstybės paramos dydžio apskaičiavimo pagrindimui
B5: Pirmasis namas
B6: 1. | C6: Duomenys apie atnaujinamą daugiabutį namą:
B7: 1.1 | C7: Daugiabučio namo adresas: | J7: Vilniaus g. 5, Vilnius
B8: 1.2 | C8: Daugiabučio namo atnaujinimo (modernizavimo) projekto numeris: | J8: VIJ0588
B9: 1.3 | C9: Daugiabučio namo butų ir kitų patalpų skaičius: | J9: 22
B10: 1.4 | C10: Daugiabučio namo naudingojo ploto suma: | J10: 1708
B11: 1.5 | C11: Daugiabučio namo statybos metai: | J11: 1938
B12: 1.6 | C12: Butų ir kitų patalpų savininkų sprendimo įgyvendinti projektą ir projekto įgyvendinimo administravimo paslaugos dydžio patvirtinimo data: | J12: 42644
B13: 1.7. | C13: Statybos užbaigimo akto surašymo data (jeigu projekto įgyvendinimo metu toks aktas buvo surašytas)
B15: 2. | C15: Duomenys apie galimą suteikti valstybės paramos dydį:
B16: 2.1 | C16: Investicijų plane numatyta suma projekto įgyvendinimo administravimo išlaidoms: | M16: 11000
B17: 2.2 | C17: Jau patirtos išlaidos projekto įgyvendinimo administravimui, įgyvendinant projektą: | M17: 411
B18: 2.3 | C18: Projekto įgyvendinimo administravimui apmokėti arba kompensuoti suteiktos valstybės paramos suma: | M18: 411
B19: 2.4 | C19: Butų ir kitų patalpų savininkų sprendimu projekto įgyvendinimo administravimo išlaidų dydis padidintas iki sumos, eurais: | M19: -
B21: 3. | C21: Laikotarpis už kurį prašoma suteikti valstybės paramą:
B22: 3.1 | C22: Nuo: | H22: 42736
B23: 3.2 | C23: Iki: | H23: 42775
B24: 3.3 | C24: Pilnų mėnesių skaičius: | H24: 1
B25: 3.4 | C25: Nepilno mėnesio dienų skaičius: | H25: 9
B26: 3.5 | C26: Pasirinkti mėnesį kuris buvo nepilnas (paspauskite duomenų pasirinkimui): | H26: Vasaris | J26: =IF(H26=Sąrašai!$C$1,31,IF(H26=Sąrašai!$C$2,28,IF(H26=Sąrašai!$C$3,31,IF(H26=Sąrašai!$C$4,30,IF(H26=Sąrašai!$C$5,31,IF(H26=Sąrašai!$C$6,30,IF(H26=Sąrašai!$C$7,31,IF(H26=Sąrašai!$C$8,31,IF(H26=Sąrašai!$C$9,30,IF(H26=Sąrašai!$C$10,31,IF(H26=Sąrašai!$C$11,30,IF(H26=Sąrašai!$C$12,31,"nepasirinkti duomenys")))))))))))) -> 28
B28: 4. | C28: Informacija apie projekto įgyvendinimo administravimo išlaidas, neįvertinus valstybės paramos:
B29: 4.1 | C29: Butų ir kitų patalpų savininkų sprendimu patvirtinto projekto įgyvendinimo administravimo paslaugos dydžio tarifas Eur (0,1 eur. Tuo atveju kai projekto administratorius yra PVM mokėtojas, tai tarifas yra 0,121, nebent butų ir kitų patalpų savininkų sprendimu yra patvirtintas mažesnis tarifas): | J29: 0.121
B30: 4.2 | C30: Butų ir kitų patalpų savininkų sprendimu patvirtinto projekto įgyvendinimo administravimo dydis visam namui per mėnesį (apskaičiuojama automatiškai): | J30: =J10*J29 -> 206.668
B31: 4.3 | C31: Bendra projekto įgyvendinimo administravimo išlaidų suma už prašomą kompensuoti laikotarpį (apskaičiuojama automatiškai): | J31: =(H24*J30)+(J30/J26*H25) -> 273.097
B33: 5. | C33: Informacija apie butų ir kitų patalpų savininkams, turintiems teisę į šildymo išlaidų kompensaciją, tenkantį valstybės paramos, projekto įgyvendinimo administravimo išlaidoms kompensuoti, dydį (pildoma tuo atveju jeigu daugiabučiame name yra butų ir kitų patalpų savininkų turinčių teisę į šildymo išlaidų kompensacija):
B34: 5.1 | C34: Buto/ patalpos Nr.: | D34: Savininko vardas, pavardė: | G34: Asmens valdomų patalpų plotas m2 (nurodyti plotą): | J34: Asmeniui tenkantis valstybės paramos dydis (apskaičiuojama automatiškai), eurais:
B35: 5.1.1 | C35: 1 | D35: Vardenis Pavardenis | G35: 55 | J35: =G35*$J$31/$J$10 -> 8.7941071
B36: 5.1.2 | C36: 2 | D36: Vardenis Pavardenis | G36: 150 | J36: =G36*$J$31/$J$10 -> 23.983929
B37: 5.1.3 | C37: 3 | D37: Vardenis Pavardenis | G37: 150 | J37: =G37*$J$31/$J$10 -> 23.983929
B38: 5.1.4 | J38: =G38*$J$31/$J$10 -> 0
B39: 5.1.5 | J39: =G39*$J$31/$J$10 -> 0
B40: ... | J40: =G40*$J$31/$J$10 -> 0
D41: Bendra suma: | G41: =+SUM(G35:I40) -> 355 | J41: =+SUM(J35:M40) -> 56.761964
B43: 6. | C43: Informacija apie daugiabučiame name savivaldybės nuosavybės teise valdomoms gyvenamosioms patalpoms tenkantį valstybės paramos dydį (pildoma tuo atveju jeigu daugiabučiame name yra savivaldybei nuosavybės teise priklausančių gyvenamųjų patalpų):
B44: 6.1 | C44: Buto/ patalpos Nr.: | E44: Savivaldybės valdomų patalpų plotas m2 (nurodyti plotą): | H44: Savivaldybei tenkantis valstybės paramos dydis (apskaičiuojama automatiškai), eurais:
B45: 6.1.1 | C45: 4 | E45: 150 | H45: =E45*$J$31/$J$10 -> 23.983929
B46: 6.1.2 | C46: 5 | E46: 50 | H46: =E46*$J$31/$J$10 -> 7.9946429
B47: 6.1.3 | C47: 6 | E47: 100 | H47: =E47*$J$31/$J$10 -> 15.989286
...

Sheet Prašymas
I1: Prašymo kompensuoti projekto įgyvendinimo administravimo išlaidas forma patvirtinta Viešosios įstaigos Būsto energijos taupymo agentūra direktoriaus 2014 m. balandžio 30 d. įsakymu Nr. B3-557 KEISTA: 2014 m. gegužės 9 d. įsakymu Nr. B3-606 KEISTA: 2015 m. liepos 13 d. įsakymu Nr. B3-1-2027 KEISTA: 2016 m. gegužės 5 d. įsakymu Nr. B3-1.1-2096 KEISTA: 2016 m. gruodžio 2 d. įsakymu Nr. B3-1.1-4848 KEISTA: 2016 m. gruodžio 29 d. įsakymu Nr. B3-1.1-5435 KEISTA: 2017 m. gruodžio 5 d. įsakymu Nr. B3.2-122 KEISTA: 2019 m. rugsėjo 9 d. įsakymu Nr. B3.2-130
D13: Prašymo teikėjo duomenys (juridinio asmens pavadinimas/fizinio asmens vardas, pavardė, kodas, adresas)
D15: Viešajai įstaigai Būsto energijos taupymo agentūrai
F17: PRAŠYMAS KOMPENSUOTI PROJEKTO ĮGYVENDINIMO ADMINISTRAVIMO IŠLAIDAS
G20: Nr.
F21: (data)
G23: (vieta)
B24: 1. | C24: Projekto (ų) įgyvendinimo administratoriaus duomenys:
B25: 1.1. | C25: Projekto (ų) įgyvendinimo administratoriaus pavadinimas:
B26: 1.2. | C26: Projektų įgyvendinimo administratoriaus kodas:
B28: 2. | C28: Laikotarpis, už kurį prašoma suteikti valstybės paramą:
B29: 2.1 | C29: Nuo:
B30: 2.2 | C30: Iki:
B32: 3. | C32: Daugiabučiam (iams) namui (ams) tenkantis valstybės paramos dydis:
B33: 3.1 | C33: Daugiabučio namo adresas: | E33: Projekto numeris: | F33: Statybos užbaigimo data (jeigu projektas įgyvendintas): | G33: Butų ir kitų patalpų skaičius | H33: Namo naudingojo ploto suma: | I33: Butų ir kitų patalpų savininkų sprendimo įgyvendinti projektą ir projekto įgyvendinimo administravimo paslaugos dydžio patvirtinimo data: | K33: Butų ir kitų patalpų savininkų sprendimu patvirtinto projekto įgyvendinimo administravimo dydis visam namui per mėnesį: | L33: Ankščiau suteikta vastybės parama: | M33: Prašomas kompensuoti valstybės paramos dydis (projekto įgyvendinimo administravimui) už prašyme nurodytą laikotarpį:
B34: 3.1.1 | C34: ='Pr. 1 namui'!$J$5 -> 0 | E34: ='Pr. 1 namui'!$J$6 -> 0 | F34: ='Pr. 1 namui'!$J$9 -> 0 | G34: ='Pr. 1 namui'!$J$7 -> 0 | H34: ='Pr. 1 namui'!$J$8 -> 0 | I34: ='Pr. 1 namui'!$J$10 -> 0 | K34: ='Pr. 1 namui'!$J$28 -> 0 | L34: ='Pr. 1 namui'!$M$16 -> 0 | M34: ='Pr. 1 namui'!$J$71 -> 0
B35: 3.1.2 | C35: ='Pr. 2 namui'!$J$5 -> 0 | E35: ='Pr. 2 namui'!$J$6 -> 0 | F35: ='Pr. 2 namui'!$J$9 -> 0 | G35: ='Pr. 2 namui'!$J$7 -> 0 | H35: ='Pr. 2 namui'!$J$8 -> 0 | I35: ='Pr. 2 namui'!$J$10 -> 0 | K35: ='Pr. 2 namui'!$J$28 -> 0 | L35: ='Pr. 2 namui'!$M$16 -> 0 | M35: ='Pr. 2 namui'!$J$71 -> 0
B36: 3.1.3 | C36: ='Pr. 3 namui'!$J$5 -> 0 | E36: ='Pr. 3 namui'!$J$6 -> 0 | F36: ='Pr. 3 namui'!$J$9 -> 0 | G36: ='Pr. 3 namui'!$J$7 -> 0 | H36: ='Pr. 3 namui'!$J$8 -> 0 | I36: ='Pr. 3 namui'!$J$10 -> 0 | K36: ='Pr. 3 namui'!$J$28 -> 0 | L36: ='Pr. 3 namui'!$M$16 -> 0 | M36: ='Pr. 3 namui'!$J$71 -> 0
B37: 3.1.4 | C37: ='Pr. 4 namui'!$J$5 -> 0 | E37: ='Pr. 4 namui'!$J$6 -> 0 | F37: ='Pr. 4 namui'!$J$9 -> 0 | G37: ='Pr. 4 namui'!$J$7 -> 0 | H37: ='Pr. 4 namui'!$J$8 -> 0 | I37: ='Pr. 4 namui'!$J$10 -> 0 | K37: ='Pr. 4 namui'!$J$28 -> 0 | L37: ='Pr. 4 namui'!$M$16 -> 0 | M37: ='Pr. 4 namui'!$J$71 -> 0
B38: 3.1.5 | C38: ='Pr. 5 namui'!$J$5 -> 0 | E38: ='Pr. 5 namui'!$J$6 -> 0 | F38: ='Pr. 5 namui'!$J$9 -> 0 | G38: ='Pr. 5 namui'!$J$7 -> 0 | H38: ='Pr. 5 namui'!$J$8 -> 0 | I38: ='Pr. 5 namui'!$J$10 -> 0 | K38: ='Pr. 5 namui'!$J$28 -> 0 | L38: ='Pr. 5 namui'!$M$16 -> 0 | M38: ='Pr. 5 namui'!$J$71 -> 0
B39: 3.1.6 | C39: ='Pr. 6 namui'!$J$5 -> 0 | E39: ='Pr. 6 namui'!$J$6 -> 0 | F39: ='Pr. 6 namui'!$J$9 -> 0 | G39: ='Pr. 6 namui'!$J$7 -> 0 | H39: ='Pr. 6 namui'!$J$8 -> 0 | I39: ='Pr. 6 namui'!$J$10 -> 0 | K39: ='Pr. 6 namui'!$J$28 -> 0 | L39: ='Pr. 6 namui'!$M$16 -> 0 | M39: ='Pr. 6 namui'!$J$71 -> 0
B40: 3.1.7 | C40: ='Pr. 7 namui'!$J$5 -> 0 | E40: ='Pr. 7 namui'!$J$6 -> 0 | F40: ='Pr. 7 namui'!$J$9 -> 0 | G40: ='Pr. 7 namui'!$J$7 -> 0 | H40: ='Pr. 7 namui'!$J$8 -> 0 | I40: ='Pr. 7 namui'!$J$10 -> 0 | K40: ='Pr. 7 namui'!$J$28 -> 0 | L40: ='Pr. 7 namui'!$M$16 -> 0 | M40: ='Pr. 7 namui'!$J$71 -> 0
B41: 3.1.8 | C41: ='Pr. 8 namui'!$J$5 -> 0 | E41: ='Pr. 8 namui'!$J$6 -> 0 | F41: ='Pr. 8 namui'!$J$9 -> 0 | G41: ='Pr. 8 namui'!$J$7 -> 0 | H41: ='Pr. 8 namui'!$J$8 -> 0 | I41: ='Pr. 8 namui'!$J$10 -> 0 | K41: ='Pr. 8 namui'!$J$28 -> 0 | L41: ='Pr. 8 namui'!$M$16 -> 0 | M41: ='Pr. 8 namui'!$J$71 -> 0
B42: 3.1.9 | C42: ='Pr. 9 namui'!$J$5 -> 0 | E42: ='Pr. 9 namui'!$J$6 -> 0 | F42: ='Pr. 9 namui'!$J$9 -> 0 | G42: ='Pr. 9 namui'!$J$7 -> 0 | H42: ='Pr. 9 namui'!$J$8 -> 0 | I42: ='Pr. 9 namui'!$J$10 -> 0 | K42: ='Pr. 9 namui'!$J$28 -> 0 | L42: ='Pr. 9 namui'!$M$16 -> 0 | M42: ='Pr. 9 namui'!$J$71 -> 0
B43: 3.1.10 | C43: ='Pr. 10 namui'!$J$5 -> 0 | E43: ='Pr. 10 namui'!$J$6 -> 0 | F43: ='Pr. 10 namui'!$J$9 -> 0 | G43: ='Pr. 10 namui'!$J$7 -> 0 | H43: ='Pr. 10 namui'!$J$8 -> 0 | I43: ='Pr. 10 namui'!$J$10 -> 0 | K43: ='Pr. 10 namui'!$J$28 -> 0 | L43: ='Pr. 10 namui'!$M$16 -> 0 | M43: ='Pr. 10 namui'!$J$71 -> 0
B44: 3.1.11 | C44: ='Pr. 11 namui'!$J$5 -> 0 | E44: ='Pr. 11 namui'!$J$6 -> 0 | F44: ='Pr. 11 namui'!$J$9 -> 0 | G44: ='Pr. 11 namui'!$J$7 -> 0 | H44: ='Pr. 11 namui'!$J$8 -> 0 | I44: ='Pr. 11 namui'!$J$10 -> 0 | K44: ='Pr. 11 namui'!$J$28 -> 0 | L44: ='Pr. 11 namui'!$M$16 -> 0 | M44: ='Pr. 11 namui'!$J$71 -> 0
B45: 3.1.12 | C45: ='Pr. 12 namui'!$J$5 -> 0 | E45: ='Pr. 12 namui'!$J$6 -> 0 | F45: ='Pr. 12 namui'!$J$9 -> 0 | G45: ='Pr. 12 namui'!$J$7 -> 0 | H45: ='Pr. 12 namui'!$J$8 -> 0 | I45: ='Pr. 12 namui'!$J$10 -> 0 | K45: ='Pr. 12 namui'!$J$28 -> 0 | L45: ='Pr. 12 namui'!$M$16 -> 0 | M45: ='Pr. 12 namui'!$J$71 -> 0
B46: 3.1.13 | C46: ='Pr. 13 namui'!$J$5 -> 0 | E46: ='Pr. 13 namui'!$J$6 -> 0 | F46: ='Pr. 13 namui'!$J$9 -> 0 | G46: ='Pr. 13 namui'!$J$7 -> 0 | H46: ='Pr. 13 namui'!$J$8 -> 0 | I46: ='Pr. 13 namui'!$J$10 -> 0 | K46: ='Pr. 13 namui'!$J$28 -> 0 | L46: ='Pr. 13 namui'!$M$16 -> 0 | M46: ='Pr. 13 namui'!$J$71 -> 0
B47: 3.1.14 | C47: ='Pr. 14 namui'!$J$5 -> 0 | E47: ='Pr. 14 namui'!$J$6 -> 0 | F47: ='Pr. 14 namui'!$J$9 -> 0 | G47: ='Pr. 14 namui'!$J$7 -> 0 | H47: ='Pr. 14 namui'!$J$8 -> 0 | I47: ='Pr. 14 namui'!$J$10 -> 0 | K47: ='Pr. 14 namui'!$J$28 -> 0 | L47: ='Pr. 14 namui'!$M$16 -> 0 | M47: ='Pr. 14 namui'!$J$71 -> 0
B48: 3.1.15 | C48: ='Pr. 15 namui'!$J$5 -> 0 | E48: ='Pr. 15 namui'!$J$6 -> 0 | F48: ='Pr. 15 namui'!$J$9 -> 0 | G48: ='Pr. 15 namui'!$J$7 -> 0 | H48: ='Pr. 15 namui'!$J$8 -> 0 | I48: ='Pr. 15 namui'!$J$10 -> 0 | K48: ='Pr. 15 namui'!$J$28 -> 0 | L48: ='Pr. 15 namui'!$M$16 -> 0 | M48: ='Pr. 15 namui'!$J$71 -> 0
B49: 3.1.16 | C49: ='Pr. 16 namui'!$J$5 -> 0 | E49: ='Pr. 16 namui'!$J$6 -> 0 | F49: ='Pr. 16 namui'!$J$9 -> 0 | G49: ='Pr. 16 namui'!$J$7 -> 0 | H49: ='Pr. 16 namui'!$J$8 -> 0 | I49: ='Pr. 16 namui'!$J$10 -> 0 | K49: ='Pr. 16 namui'!$J$28 -> 0 | L49: ='Pr. 16 namui'!$M$16 -> 0 | M49: ='Pr. 16 namui'!$J$71 -> 0
B50: 3.1.17 | C50: ='Pr. 17 namui'!$J$5 -> 0 | E50: ='Pr. 17 namui'!$J$6 -> 0 | F50: ='Pr. 17 namui'!$J$9 -> 0 | G50: ='Pr. 17 namui'!$J$7 -> 0 | H50: ='Pr. 17 namui'!$J$8 -> 0 | I50: ='Pr. 17 namui'!$J$10 -> 0 | K50: ='Pr. 17 namui'!$J$28 -> 0 | L50: ='Pr. 17 namui'!$M$16 -> 0 | M50: ='Pr. 17 namui'!$J$71 -> 0
B51: 3.1.18 | C51: ='Pr. 18 namui'!$J$5 -> 0 | E51: ='Pr. 18 namui'!$J$6 -> 0 | F51: ='Pr. 18 namui'!$J$9 -> 0 | G51: ='Pr. 18 namui'!$J$7 -> 0 | H51: ='Pr. 18 namui'!$J$8 -> 0 | I51: ='Pr. 18 namui'!$J$10 -> 0 | K51: ='Pr. 18 namui'!$J$28 -> 0 | L51: ='Pr. 18 namui'!$M$16 -> 0 | M51: ='Pr. 18 namui'!$J$71 -> 0
B52: 3.1.19 | C52: ='Pr. 19 namui'!$J$5 -> 0 | E52: ='Pr. 19 namui'!$J$6 -> 0 | F52: ='Pr. 19 namui'!$J$9 -> 0 | G52: ='Pr. 19 namui'!$J$7 -> 0 | H52: ='Pr. 19 namui'!$J$8 -> 0 | I52: ='Pr. 19 namui'!$J$10 -> 0 | K52: ='Pr. 19 namui'!$J$28 -> 0 | L52: ='Pr. 19 namui'!$M$16 -> 0 | M52: ='Pr. 19 namui'!$J$71 -> 0
B53: 3.1.20 | C53: ='Pr. 20 namui'!$J$5 -> 0 | E53: ='Pr. 20 namui'!$J$6 -> 0 | F53: ='Pr. 20 namui'!$J$9 -> 0 | G53: ='Pr. 20 namui'!$J$7 -> 0 | H53: ='Pr. 20 namui'!$J$8 -> 0 | I53: ='Pr. 20 namui'!$J$10 -> 0 | K53: ='Pr. 20 namui'!$J$28 -> 0 | L53: ='Pr. 20 namui'!$M$16 -> 0 | M53: ='Pr. 20 namui'!$J$71 -> 0
L54: Iš viso: | M54: =+SUM(M34:M53) -> 0
B56: Pastaba: skaičiavimai atliekami lape "Skaičiavimą pagrindžianti informacija". Skaičiavimo pagrindimui lapas "Skaičiavimą pagrindžianti informacija" pridedamas prie mokėjimo prašymo.
B58: 4. | C58: Duomenys apie lėšų gavėją, kuriam turėtų būti pervestos valstybės paramos lėšos, kompensuojant išlaidas už projekto įgyvendinimo administravimą:
B59: 4.1. | C59: Projekto administratoriaus pavadinimas: | I59: =Prašymas!I25 -> 0
B60: 4.2. | C60: Projekto administratoriaus kodas: | I60: =I26 -> 0
...

Sheet Pr. 1 namui
C1: Prašymo kompensuoti projekto įgyvendinimo išlaidas priedas. Prašymo 3 lentelės nurodytiems daugiabučiams namams tenkačio valstybės paramos dydžio apskaičiavimo pagrindimui
B3: Pirmasis namas
B4: 1. | C4: Duomenys apie atnaujinamą daugiabutį namą:
B5: 1.1 | C5: Daugiabučio namo adresas:
B6: 1.2 | C6: Daugiabučio namo atnaujinimo (modernizavimo) projekto numeris:
B7: 1.3 | C7: Daugiabučio namo butų ir kitų patalpų skaičius:
B8: 1.4 | C8: Daugiabučio namo naudingojo ploto suma:
B9: 1.5 | C9: Daugiabučio namo statybos metai:
B10: 1.6 | C10: Butų ir kitų patalpų savininkų sprendimo įgyvendinti projektą ir projekto įgyvendinimo administravimo paslaugos dydžio patvirtinimo data:
B11: 1.7. | C11: Statybos užbaigimo akto surašymo data (jeigu projekto įgyvendinimo metu toks aktas buvo surašytas)
B13: 2. | C13: Duomenys apie galimą suteikti valstybės paramos dydį:
B14: 2.1 | C14: Investicijų plane numatyta suma projekto įgyvendinimo administravimo išlaidoms:
B15: 2.2 | C15: Jau patirtos išlaidos projekto įgyvendinimo administravimui, įgyvendinant projektą:
B16: 2.3 | C16: Projekto įgyvendinimo administravimui apmokėti arba kompensuoti suteiktos valstybės paramos suma:
... B23: 3.4 | C23: Nepilno mėnesio dienų skaičius:
B24: 3.5 | C24: Pasirinkti mėnesį kuris buvo nepilnas (paspauskite duomenų pasirinkimui): | J24: =IF(H24=[1]Sąrašai!$C$1,31,IF(H24=[1]Sąrašai!$C$2,28,IF(H24=[1]Sąrašai!$C$3,31,IF(H24=[1]Sąrašai!$C$4,30,IF(H24=[1]Sąrašai!$C$5,31,IF(H24=[1]Sąrašai!$C$6,30,IF(H24=[1]Sąrašai!$C$7,31,IF(H24=[1]Sąrašai!$C$8,31,IF(H24=[1]Sąrašai!$C$9,30,IF(H24=[1]Sąrašai!$C$10,31,IF(H24=[1]Sąrašai!$C$11,30,IF(H24=[1]Sąrašai!$C$12,31,"0")))))))))))) -> 0
B26: 4. | C26: Informacija apie projekto įgyvendinimo administravimo išlaidas, neįvertinus valstybės paramos:
B27: 4.1 | C27: Butų ir kitų patalpų savininkų sprendimu patvirtinto projekto įgyvendinimo administravimo paslaugos dydžio tarifas Eur (0,1 eur. Tuo atveju kai projekto administratorius yra PVM mokėtojas, tai tarifas yra 0,121, nebent butų ir kitų patalpų savininkų sprendimu yra patvirtintas mažesnis tarifas):
B28: 4.2 | C28: Butų ir kitų patalpų savininkų sprendimu patvirtinto projekto įgyvendinimo administravimo dydis visam namui per mėnesį (apskaičiuojama automatiškai): | J28: =J8*J27 -> 0
B29: 4.3 | C29: Bendra projekto įgyvendinimo administravimo išlaidų suma už prašomą kompensuoti laikotarpį (apskaičiuojama automatiškai): | J29: =IF(H23=0,H22*J28,(H22*J28)+(J28/J24*H23)) -> 0
B31: 5. | C31: Informacija apie butų ir kitų patalpų savininkams, turintiems teisę į šildymo išlaidų kompensaciją, tenkantį valstybės paramos, projekto įgyvendinimo administravimo išlaidoms kompensuoti, dydį (pildoma tuo atveju jeigu daugiabučiame name yra butų ir kitų patalpų savininkų turinčių teisę į šildymo išlaidų kompensacija):
B32: 5.1 | C32: Buto/ patalpos Nr.: | D32: Savininko vardas, pavardė: | G32: Asmens valdomų patalpų plotas m2 (nurodyti plotą): | J32: Asmeniui tenkantis valstybės paramos dydis (apskaičiuojama automatiškai), eurais:
B33: 5.1.1 | J33: =IF(G33=0,0,(G33*$J$29/$J$8)) -> 0
B34: 5.1.2 | J34: =IF(G34=0,0,(G34*$J$29/$J$8)) -> 0
B35: 5.1.3 | J35: =IF(G35=0,0,(G35*$J$29/$J$8)) -> 0
B36: 5.1.4 | J36: =IF(G36=0,0,(G36*$J$29/$J$8)) -> 0
B37: 5.1.5 | J37: =IF(G37=0,0,(G37*$J$29/$J$8)) -> 0
B38: ... | J38: =IF(G38=0,0,(G38*$J$29/$J$8)) -> 0
D39: Bendra suma: | G39: =+SUM(G33:I38) -> 0 | J39: =+SUM(J33:M38) -> 0
B41: 6. | C41: Informacija apie daugiabučiame name savivaldybės nuosavybės teise valdomoms gyvenamosioms patalpoms tenkantį valstybės paramos dydį (pildoma tuo atveju jeigu daugiabučiame name yra savivaldybei nuosavybės teise priklausančių gyvenamųjų patalpų):
B42: 6.1 | C42: Buto/ patalpos Nr.: | E42: Savivaldybės valdomų patalpų plotas m2 (nurodyti plotą): | H42: Valstybės paramos dydis procentais (pasirinkti): | J42: Savivaldybei tenkantis valstybės paramos dydis (apskaičiuojama automatiškai), eurais:
B43: 6.1.1 | J43: =IF(H43=Sąrašai!$A$1,(E43*$J$29/$J$8)/"2",IF(H43=Sąrašai!$A$2,E43*$J$29/$J$8,)) -> 0
B44: 6.1.2 | J44: =IF(H44=Sąrašai!$A$1,(E44*$J$29/$J$8)/"2",IF(H44=Sąrašai!$A$2,E44*$J$29/$J$8,)) -> 0
B45: 6.1.3 | J45: =IF(H45=Sąrašai!$A$1,(E45*$J$29/$J$8)/"2",IF(H45=Sąrašai!$A$2,E45*$J$29/$J$8,)) -> 0
B46: 6.1.4 | J46: =IF(H46=Sąrašai!$A$1,(E46*$J$29/$J$8)/"2",IF(H46=Sąrašai!$A$2,E46*$J$29/$J$8,)) -> 0
B47: 6.1.5 | J47: =IF(H47=Sąrašai!$A$1,(E47*$J$29/$J$8)/"2",IF(H47=Sąrašai!$A$2,E47*$J$29/$J$8,)) -> 0
B48: ... | J48: =IF(H48=Sąrašai!$A$1,(E48*$J$29/$J$8)/"2",IF(H48=Sąrašai!$A$2,E48*$J$29/$J$8,)) -> 0
C49: Bendra suma: | E49: =+SUM(E43:G48) -> 0 | H49: - | J49: =+SUM(J43:M48) -> 0
B51: 7. | C51: Informacija apie butų ir kitų patalpų savininkams, daugiabučiame name vykdantiems ūkinę veiklą, tenkantį valstybės paramos, projekto įgyvendinimo administravimo išlaidoms kompensuoti, dydį (pildoma tuo atveju jeigu daugiabučiame name yra butų ir kitų patalpų savininkų vykdančių ūkinę veiklą):
B52: 7.1 | C52: Buto/ patalpos Nr.: | D52: Savininko vardas, pavardė arba juridnimo asmens pavadinimas: | G52: Asmens valdomų patalpų plotas m2 (nurodyti plotą): | J52: Valstybės paramos dydis procentais (pasirinkti): | L52: Asmeniui tenkantis valstybės paramos dydis (apskaičiuojama automatiškai), eurais:
...

Sheet Pr. 2 namui
C1: Prašymo kompensuoti projekto įgyvendinimo išlaidas priedas. Prašymo 3 lentelės nurodytiems daugiabučiams namams tenkačio valstybės paramos dydžio apskaičiavimo pagrindimui
B3: Antrasis namas
B4: 1. | C4: Duomenys apie atnaujinamą daugiabutį namą:
B5: 1.1 | C5: Daugiabučio namo adresas:
B6: 1.2 | C6: Daugiabučio namo atnaujinimo (modernizavimo) projekto numeris:
B7: 1.3 | C7: Daugiabučio namo butų ir kitų patalpų skaičius:
B8: 1.4 | C8: Daugiabučio namo naudingojo ploto suma:
B9: 1.5 | C9: Daugiabučio namo statybos metai:
B10: 1.6 | C10: Butų ir kitų patalpų savininkų sprendimo įgyvendinti projektą ir projekto įgyvendinimo administravimo paslaugos dydžio patvirtinimo data:
B11: 1.7. | C11: Statybos užbaigimo akto surašymo data (jeigu projekto įgyvendinimo metu toks aktas buvo surašytas)
B13: 2. | C13: Duomenys apie galimą suteikti valstybės paramos dydį:
B14: 2.1 | C14: Investicijų plane numatyta suma projekto įgyvendinimo administravimo išlaidoms:
B15: 2.2 | C15: Jau patirtos išlaidos projekto įgyvendinimo administravimui, įgyvendinant projektą:
B16: 2.3 | C16: Projekto įgyvendinimo administravimui apmokėti arba kompensuoti suteiktos valstybės paramos suma:
... B23: 3.4 | C23: Nepilno mėnesio dienų skaičius:
B24: 3.5 | C24: Pasirinkti mėnesį kuris buvo nepilnas (paspauskite duomenų pasirinkimui): | J24: =IF(H24=[1]Sąrašai!$C$1,31,IF(H24=[1]Sąrašai!$C$2,28,IF(H24=[1]Sąrašai!$C$3,31,IF(H24=[1]Sąrašai!$C$4,30,IF(H24=[1]Sąrašai!$C$5,31,IF(H24=[1]Sąrašai!$C$6,30,IF(H24=[1]Sąrašai!$C$7,31,IF(H24=[1]Sąrašai!$C$8,31,IF(H24=[1]Sąrašai!$C$9,30,IF(H24=[1]Sąrašai!$C$10,31,IF(H24=[1]Sąrašai!$C$11,30,IF(H24=[1]Sąrašai!$C$12,31,"0")))))))))))) -> 0
B26: 4. | C26: Informacija apie projekto įgyvendinimo administravimo išlaidas, neįvertinus valstybės paramos:
B27: 4.1 | C27: Butų ir kitų patalpų savininkų sprendimu patvirtinto projekto įgyvendinimo administravimo paslaugos dydžio tarifas Eur (0,1 eur. Tuo atveju kai projekto administratorius yra PVM mokėtojas, tai tarifas yra 0,121, nebent butų ir kitų patalpų savininkų sprendimu yra patvirtintas mažesnis tarifas):
B28: 4.2 | C28: Butų ir kitų patalpų savininkų sprendimu patvirtinto projekto įgyvendinimo administravimo dydis visam namui per mėnesį (apskaičiuojama automatiškai): | J28: =J8*J27 -> 0
B29: 4.3 | C29: Bendra projekto įgyvendinimo administravimo išlaidų suma už prašomą kompensuoti laikotarpį (apskaičiuojama automatiškai): | J29: =IF(H23=0,H22*J28,(H22*J28)+(J28/J24*H23)) -> 0
B31: 5. | C31: Informacija apie butų ir kitų patalpų savininkams, turintiems teisę į šildymo išlaidų kompensaciją, tenkantį valstybės paramos, projekto įgyvendinimo administravimo išlaidoms kompensuoti, dydį (pildoma tuo atveju jeigu daugiabučiame name yra butų ir kitų patalpų savininkų turinčių teisę į šildymo išlaidų kompensacija):
B32: 5.1 | C32: Buto/ patalpos Nr.: | D32: Savininko vardas, pavardė: | G32: Asmens valdomų patalpų plotas m2 (nurodyti plotą): | J32: Asmeniui tenkantis valstybės paramos dydis (apskaičiuojama automatiškai), eurais:
B33: 5.1.1 | J33: =IF(G33=0,0,(G33*$J$29/$J$8)) -> 0
B34: 5.1.2 | J34: =IF(G34=0,0,(G34*$J$29/$J$8)) -> 0
B35: 5.1.3 | J35: =IF(G35=0,0,(G35*$J$29/$J$8)) -> 0
B36: 5.1.4 | J36: =IF(G36=0,0,(G36*$J$29/$J$8)) -> 0
B37: 5.1.5 | J37: =IF(G37=0,0,(G37*$J$29/$J$8)) -> 0
B38: ... | J38: =IF(G38=0,0,(G38*$J$29/$J$8)) -> 0
D39: Bendra suma: | G39: =+SUM(G33:I38) -> 0 | J39: =+SUM(J33:M38) -> 0
B41: 6. | C41: Informacija apie daugiabučiame name savivaldybės nuosavybės teise valdomoms gyvenamosioms patalpoms tenkantį valstybės paramos dydį (pildoma tuo atveju jeigu daugiabučiame name yra savivaldybei nuosavybės teise priklausančių gyvenamųjų patalpų):
B42: 6.1 | C42: Buto/ patalpos Nr.: | E42: Savivaldybės valdomų patalpų plotas m2 (nurodyti plotą): | H42: Valstybės paramos dydis procentais (pasirinkti): | J42: Savivaldybei tenkantis valstybės paramos dydis (apskaičiuojama automatiškai), eurais:
B43: 6.1.1 | J43: =IF(H43=Sąrašai!$A$1,(E43*$J$29/$J$8)/"2",IF(H43=Sąrašai!$A$2,E43*$J$29/$J$8,)) -> 0
B44: 6.1.2 | J44: =IF(H44=Sąrašai!$A$1,(E44*$J$29/$J$8)/"2",IF(H44=Sąrašai!$A$2,E44*$J$29/$J$8,)) -> 0
B45: 6.1.3 | J45: =IF(H45=Sąrašai!$A$1,(E45*$J$29/$J$8)/"2",IF(H45=Sąrašai!$A$2,E45*$J$29/$J$8,)) -> 0
B46: 6.1.4 | J46: =IF(H46=Sąrašai!$A$1,(E46*$J$29/$J$8)/"2",IF(H46=Sąrašai!$A$2,E46*$J$29/$J$8,)) -> 0
B47: 6.1.5 | J47: =IF(H47=Sąrašai!$A$1,(E47*$J$29/$J$8)/"2",IF(H47=Sąrašai!$A$2,E47*$J$29/$J$8,)) -> 0
B48: ... | J48: =IF(H48=Sąrašai!$A$1,(E48*$J$29/$J$8)/"2",IF(H48=Sąrašai!$A$2,E48*$J$29/$J$8,)) -> 0
C49: Bendra suma: | E49: =+SUM(E43:G48) -> 0 | H49: - | J49: =+SUM(J43:M48) -> 0
B51: 7. | C51: Informacija apie butų ir kitų patalpų savininkams, daugiabučiame name vykdantiems ūkinę veiklą, tenkantį valstybės paramos, projekto įgyvendinimo administravimo išlaidoms kompensuoti, dydį (pildoma tuo atveju jeigu daugiabučiame name yra butų ir kitų patalpų savininkų vykdančių ūkinę veiklą):
B52: 7.1 | C52: Buto/ patalpos Nr.: | D52: Savininko vardas, pavardė arba juridnimo asmens pavadinimas: | G52: Asmens valdomų patalpų plotas m2 (nurodyti plotą): | J52: Valstybės paramos dydis procentais (pasirinkti): | L52: Asmeniui tenkantis valstybės paramos dydis (apskaičiuojama automatiškai), eurais:
...

Sheet Pr. 3 namui
C1: Prašymo kompensuoti projekto įgyvendinimo išlaidas priedas. Prašymo 3 lentelės nurodytiems daugiabučiams namams tenkačio valstybės paramos dydžio apskaičiavimo pagrindimui
B3: Trečiasis namas
B4: 1. | C4: Duomenys apie atnaujinamą daugiabutį namą:
B5: 1.1 | C5: Daugiabučio namo adresas:
B6: 1.2 | C6: Daugiabučio namo atnaujinimo (modernizavimo) projekto numeris:
B7: 1.3 | C7: Daugiabučio namo butų ir kitų patalpų skaičius:
B8: 1.4 | C8: Daugiabučio namo naudingojo ploto suma:
B9: 1.5 | C9: Daugiabučio namo statybos metai:
B10: 1.6 | C10: Butų ir kitų patalpų savininkų sprendimo įgyvendinti projektą ir projekto įgyvendinimo administravimo paslaugos dydžio patvirtinimo data:
B11: 1.7. | C11: Statybos užbaigimo akto surašymo data (jeigu projekto įgyvendinimo metu toks aktas buvo surašytas)
B13: 2. | C13: Duomenys apie galimą suteikti valstybės paramos dydį:
B14: 2.1 | C14: Investicijų plane numatyta suma projekto įgyvendinimo administravimo išlaidoms:
B15: 2.2 | C15: Jau patirtos išlaidos projekto įgyvendinimo administravimui, įgyvendinant projektą:
B16: 2.3 | C16: Projekto įgyvendinimo administravimui apmokėti arba kompensuoti suteiktos valstybės paramos suma:
... B23: 3.4 | C23: Nepilno mėnesio dienų skaičius:
B24: 3.5 | C24: Pasirinkti mėnesį kuris buvo nepilnas (paspauskite duomenų pasirinkimui): | J24: =IF(H24=[1]Sąrašai!$C$1,31,IF(H24=[1]Sąrašai!$C$2,28,IF(H24=[1]Sąrašai!$C$3,31,IF(H24=[1]Sąrašai!$C$4,30,IF(H24=[1]Sąrašai!$C$5,31,IF(H24=[1]Sąrašai!$C$6,30,IF(H24=[1]Sąrašai!$C$7,31,IF(H24=[1]Sąrašai!$C$8,31,IF(H24=[1]Sąrašai!$C$9,30,IF(H24=[1]Sąrašai!$C$10,31,IF(H24=[1]Sąrašai!$C$11,30,IF(H24=[1]Sąrašai!$C$12,31,"0")))))))))))) -> 0
B26: 4. | C26: Informacija apie projekto įgyvendinimo administravimo išlaidas, neįvertinus valstybės paramos:
B27: 4.1 | C27: Butų ir kitų patalpų savininkų sprendimu patvirtinto projekto įgyvendinimo administravimo paslaugos dydžio tarifas Eur (0,1 eur. Tuo atveju kai projekto administratorius yra PVM mokėtojas, tai tarifas yra 0,121, nebent butų ir kitų patalpų savininkų sprendimu yra patvirtintas mažesnis tarifas):
B28: 4.2 | C28: Butų ir kitų patalpų savininkų sprendimu patvirtinto projekto įgyvendinimo administravimo dydis visam namui per mėnesį (apskaičiuojama automatiškai): | J28: =J8*J27 -> 0
B29: 4.3 | C29: Bendra projekto įgyvendinimo administravimo išlaidų suma už prašomą kompensuoti laikotarpį (apskaičiuojama automatiškai): | J29: =IF(H23=0,H22*J28,(H22*J28)+(J28/J24*H23)) -> 0
B31: 5. | C31: Informacija apie butų ir kitų patalpų savininkams, turintiems teisę į šildymo išlaidų kompensaciją, tenkantį valstybės paramos, projekto įgyvendinimo administravimo išlaidoms kompensuoti, dydį (pildoma tuo atveju jeigu daugiabučiame name yra butų ir kitų patalpų savininkų turinčių teisę į šildymo išlaidų kompensacija):
B32: 5.1 | C32: Buto/ patalpos Nr.: | D32: Savininko vardas, pavardė: | G32: Asmens valdomų patalpų plotas m2 (nurodyti plotą): | J32: Asmeniui tenkantis valstybės paramos dydis (apskaičiuojama automatiškai), eurais:
B33: 5.1.1 | J33: =IF(G33=0,0,(G33*$J$29/$J$8)) -> 0
B34: 5.1.2 | J34: =IF(G34=0,0,(G34*$J$29/$J$8)) -> 0
B35: 5.1.3 | J35: =IF(G35=0,0,(G35*$J$29/$J$8)) -> 0
B36: 5.1.4 | J36: =IF(G36=0,0,(G36*$J$29/$J$8)) -> 0
B37: 5.1.5 | J37: =IF(G37=0,0,(G37*$J$29/$J$8)) -> 0
B38: ... | J38: =IF(G38=0,0,(G38*$J$29/$J$8)) -> 0
D39: Bendra suma: | G39: =+SUM(G33:I38) -> 0 | J39: =+SUM(J33:M38) -> 0
B41: 6. | C41: Informacija apie daugiabučiame name savivaldybės nuosavybės teise valdomoms gyvenamosioms patalpoms tenkantį valstybės paramos dydį (pildoma tuo atveju jeigu daugiabučiame name yra savivaldybei nuosavybės teise priklausančių gyvenamųjų patalpų):
B42: 6.1 | C42: Buto/ patalpos Nr.: | E42: Savivaldybės valdomų patalpų plotas m2 (nurodyti plotą): | H42: Valstybės paramos dydis procentais (pasirinkti): | J42: Savivaldybei tenkantis valstybės paramos dydis (apskaičiuojama automatiškai), eurais:
B43: 6.1.1 | J43: =IF(H43=Sąrašai!$A$1,(E43*$J$29/$J$8)/"2",IF(H43=Sąrašai!$A$2,E43*$J$29/$J$8,)) -> 0
B44: 6.1.2 | J44: =IF(H44=Sąrašai!$A$1,(E44*$J$29/$J$8)/"2",IF(H44=Sąrašai!$A$2,E44*$J$29/$J$8,)) -> 0
B45: 6.1.3 | J45: =IF(H45=Sąrašai!$A$1,(E45*$J$29/$J$8)/"2",IF(H45=Sąrašai!$A$2,E45*$J$29/$J$8,)) -> 0
B46: 6.1.4 | J46: =IF(H46=Sąrašai!$A$1,(E46*$J$29/$J$8)/"2",IF(H46=Sąrašai!$A$2,E46*$J$29/$J$8,)) -> 0
B47: 6.1.5 | J47: =IF(H47=Sąrašai!$A$1,(E47*$J$29/$J$8)/"2",IF(H47=Sąrašai!$A$2,E47*$J$29/$J$8,)) -> 0
B48: ... | J48: =IF(H48=Sąrašai!$A$1,(E48*$J$29/$J$8)/"2",IF(H48=Sąrašai!$A$2,E48*$J$29/$J$8,)) -> 0
C49: Bendra suma: | E49: =+SUM(E43:G48) -> 0 | H49: - | J49: =+SUM(J43:M48) -> 0
B51: 7. | C51: Informacija apie butų ir kitų patalpų savininkams, daugiabučiame name vykdantiems ūkinę veiklą, tenkantį valstybės paramos, projekto įgyvendinimo administravimo išlaidoms kompensuoti, dydį (pildoma tuo atveju jeigu daugiabučiame name yra butų ir kitų patalpų savininkų vykdančių ūkinę veiklą):
B52: 7.1 | C52: Buto/ patalpos Nr.: | D52: Savininko vardas, pavardė arba juridnimo asmens pavadinimas: | G52: Asmens valdomų patalpų plotas m2 (nurodyti plotą): | J52: Valstybės paramos dydis procentais (pasirinkti): | L52: Asmeniui tenkantis valstybės paramos dydis (apskaičiuojama automatiškai), eurais:
...

Sheet Pr. 4 namui
C1: Prašymo kompensuoti projekto įgyvendinimo išlaidas priedas. Prašymo 3 lentelės nurodytiems daugiabučiams namams tenkačio valstybės paramos dydžio apskaičiavimo pagrindimui
B3: Ketvirtasis namas
B4: 1. | C4: Duomenys apie atnaujinamą daugiabutį namą:
B5: 1.1 | C5: Daugiabučio namo adresas:
B6: 1.2 | C6: Daugiabučio namo atnaujinimo (modernizavimo) projekto numeris:
B7: 1.3 | C7: Daugiabučio namo butų ir kitų patalpų skaičius:
B8: 1.4 | C8: Daugiabučio namo naudingojo ploto suma:
B9: 1.5 | C9: Daugiabučio namo statybos metai:
B10: 1.6 | C10: Butų ir kitų patalpų savininkų sprendimo įgyvendinti projektą ir projekto įgyvendinimo administravimo paslaugos dydžio patvirtinimo data:
B11: 1.7. | C11: Statybos užbaigimo akto surašymo data (jeigu projekto įgyvendinimo metu toks aktas buvo surašytas)
B13: 2. | C13: Duomenys apie galimą suteikti valstybės paramos dydį:
B14: 2.1 | C14: Investicijų plane numatyta suma projekto įgyvendinimo administravimo išlaidoms:
B15: 2.2 | C15: Jau patirtos išlaidos projekto įgyvendinimo administravimui, įgyvendinant projektą:
B16: 2.3 | C16: Projekto įgyvendinimo administravimui apmokėti arba kompensuoti suteiktos valstybės paramos suma:
... B23: 3.4 | C23: Nepilno mėnesio dienų skaičius:
B24: 3.5 | C24: Pasirinkti mėnesį kuris buvo nepilnas (paspauskite duomenų pasirinkimui): | J24: =IF(H24=[1]Sąrašai!$C$1,31,IF(H24=[1]Sąrašai!$C$2,28,IF(H24=[1]Sąrašai!$C$3,31,IF(H24=[1]Sąrašai!$C$4,30,IF(H24=[1]Sąrašai!$C$5,31,IF(H24=[1]Sąrašai!$C$6,30,IF(H24=[1]Sąrašai!$C$7,31,IF(H24=[1]Sąrašai!$C$8,31,IF(H24=[1]Sąrašai!$C$9,30,IF(H24=[1]Sąrašai!$C$10,31,IF(H24=[1]Sąrašai!$C$11,30,IF(H24=[1]Sąrašai!$C$12,31,"0")))))))))))) -> 0
B26: 4. | C26: Informacija apie projekto įgyvendinimo administravimo išlaidas, neįvertinus valstybės paramos:
B27: 4.1 | C27: Butų ir kitų patalpų savininkų sprendimu patvirtinto projekto įgyvendinimo administravimo paslaugos dydžio tarifas Eur (0,1 eur. Tuo atveju kai projekto administratorius yra PVM mokėtojas, tai tarifas yra 0,121, nebent butų ir kitų patalpų savininkų sprendimu yra patvirtintas mažesnis tarifas):
B28: 4.2 | C28: Butų ir kitų patalpų savininkų sprendimu patvirtinto projekto įgyvendinimo administravimo dydis visam namui per mėnesį (apskaičiuojama automatiškai): | J28: =J8*J27 -> 0
B29: 4.3 | C29: Bendra projekto įgyvendinimo administravimo išlaidų suma už prašomą kompensuoti laikotarpį (apskaičiuojama automatiškai): | J29: =IF(H23=0,H22*J28,(H22*J28)+(J28/J24*H23)) -> 0
B31: 5. | C31: Informacija apie butų ir kitų patalpų savininkams, turintiems teisę į šildymo išlaidų kompensaciją, tenkantį valstybės paramos, projekto įgyvendinimo administravimo išlaidoms kompensuoti, dydį (pildoma tuo atveju jeigu daugiabučiame name yra butų ir kitų patalpų savininkų turinčių teisę į šildymo išlaidų kompensacija):
B32: 5.1 | C32: Buto/ patalpos Nr.: | D32: Savininko vardas, pavardė: | G32: Asmens valdomų patalpų plotas m2 (nurodyti plotą): | J32: Asmeniui tenkantis valstybės paramos dydis (apskaičiuojama automatiškai), eurais:
B33: 5.1.1 | J33: =IF(G33=0,0,(G33*$J$29/$J$8)) -> 0
B34: 5.1.2 | J34: =IF(G34=0,0,(G34*$J$29/$J$8)) -> 0
B35: 5.1.3 | J35: =IF(G35=0,0,(G35*$J$29/$J$8)) -> 0
B36: 5.1.4 | J36: =IF(G36=0,0,(G36*$J$29/$J$8)) -> 0
B37: 5.1.5 | J37: =IF(G37=0,0,(G37*$J$29/$J$8)) -> 0
B38: ... | J38: =IF(G38=0,0,(G38*$J$29/$J$8)) -> 0
D39: Bendra suma: | G39: =+SUM(G33:I38) -> 0 | J39: =+SUM(J33:M38) -> 0
B41: 6. | C41: Informacija apie daugiabučiame name savivaldybės nuosavybės teise valdomoms gyvenamosioms patalpoms tenkantį valstybės paramos dydį (pildoma tuo atveju jeigu daugiabučiame name yra savivaldybei nuosavybės teise priklausančių gyvenamųjų patalpų):
B42: 6.1 | C42: Buto/ patalpos Nr.: | E42: Savivaldybės valdomų patalpų plotas m2 (nurodyti plotą): | H42: Valstybės paramos dydis procentais (pasirinkti): | J42: Savivaldybei tenkantis valstybės paramos dydis (apskaičiuojama automatiškai), eurais:
B43: 6.1.1 | J43: =IF(H43=Sąrašai!$A$1,(E43*$J$29/$J$8)/"2",IF(H43=Sąrašai!$A$2,E43*$J$29/$J$8,)) -> 0
B44: 6.1.2 | J44: =IF(H44=Sąrašai!$A$1,(E44*$J$29/$J$8)/"2",IF(H44=Sąrašai!$A$2,E44*$J$29/$J$8,)) -> 0
B45: 6.1.3 | J45: =IF(H45=Sąrašai!$A$1,(E45*$J$29/$J$8)/"2",IF(H45=Sąrašai!$A$2,E45*$J$29/$J$8,)) -> 0
B46: 6.1.4 | J46: =IF(H46=Sąrašai!$A$1,(E46*$J$29/$J$8)/"2",IF(H46=Sąrašai!$A$2,E46*$J$29/$J$8,)) -> 0
B47: 6.1.5 | J47: =IF(H47=Sąrašai!$A$1,(E47*$J$29/$J$8)/"2",IF(H47=Sąrašai!$A$2,E47*$J$29/$J$8,)) -> 0
B48: ... | J48: =IF(H48=Sąrašai!$A$1,(E48*$J$29/$J$8)/"2",IF(H48=Sąrašai!$A$2,E48*$J$29/$J$8,)) -> 0
C49: Bendra suma: | E49: =+SUM(E43:G48) -> 0 | H49: - | J49: =+SUM(J43:M48) -> 0
B51: 7. | C51: Informacija apie butų ir kitų patalpų savininkams, daugiabučiame name vykdantiems ūkinę veiklą, tenkantį valstybės paramos, projekto įgyvendinimo administravimo išlaidoms kompensuoti, dydį (pildoma tuo atveju jeigu daugiabučiame name yra butų ir kitų patalpų savininkų vykdančių ūkinę veiklą):
B52: 7.1 | C52: Buto/ patalpos Nr.: | D52: Savininko vardas, pavardė arba juridnimo asmens pavadinimas: | G52: Asmens valdomų patalpų plotas m2 (nurodyti plotą): | J52: Valstybės paramos dydis procentais (pasirinkti): | L52: Asmeniui tenkantis valstybės paramos dydis (apskaičiuojama automatiškai), eurais:
...

Sheet Pr. 5 namui
C1: Prašymo kompensuoti projekto įgyvendinimo išlaidas priedas. Prašymo 3 lentelės nurodytiems daugiabučiams namams tenkačio valstybės paramos dydžio apskaičiavimo pagrindimui
B3: Penktasis namas
B4: 1. | C4: Duomenys apie atnaujinamą daugiabutį namą:
B5: 1.1 | C5: Daugiabučio namo adresas:
B6: 1.2 | C6: Daugiabučio namo atnaujinimo (modernizavimo) projekto numeris:
B7: 1.3 | C7: Daugiabučio namo butų ir kitų patalpų skaičius:
B8: 1.4 | C8: Daugiabučio namo naudingojo ploto suma:
B9: 1.5 | C9: Daugiabučio namo statybos metai:
B10: 1.6 | C10: Butų ir kitų patalpų savininkų sprendimo įgyvendinti projektą ir projekto įgyvendinimo administravimo paslaugos dydžio patvirtinimo data:
B11: 1.7. | C11: Statybos užbaigimo akto surašymo data (jeigu projekto įgyvendinimo metu toks aktas buvo surašytas)
B13: 2. | C13: Duomenys apie galimą suteikti valstybės paramos dydį:
B14: 2.1 | C14: Investicijų plane numatyta suma projekto įgyvendinimo administravimo išlaidoms:
B15: 2.2 | C15: Jau patirtos išlaidos projekto įgyvendinimo administravimui, įgyvendinant projektą:
B16: 2.3 | C16: Projekto įgyvendinimo administravimui apmokėti arba kompensuoti suteiktos valstybės paramos suma:
... B23: 3.4 | C23: Nepilno mėnesio dienų skaičius:
B24: 3.5 | C24: Pasirinkti mėnesį kuris buvo nepilnas (paspauskite duomenų pasirinkimui): | J24: =IF(H24=[1]Sąrašai!$C$1,31,IF(H24=[1]Sąrašai!$C$2,28,IF(H24=[1]Sąrašai!$C$3,31,IF(H24=[1]Sąrašai!$C$4,30,IF(H24=[1]Sąrašai!$C$5,31,IF(H24=[1]Sąrašai!$C$6,30,IF(H24=[1]Sąrašai!$C$7,31,IF(H24=[1]Sąrašai!$C$8,31,IF(H24=[1]Sąrašai!$C$9,30,IF(H24=[1]Sąrašai!$C$10,31,IF(H24=[1]Sąrašai!$C$11,30,IF(H24=[1]Sąrašai!$C$12,31,"0")))))))))))) -> 0
B26: 4. | C26: Informacija apie projekto įgyvendinimo administravimo išlaidas, neįvertinus valstybės paramos:
B27: 4.1 | C27: Butų ir kitų patalpų savininkų sprendimu patvirtinto projekto įgyvendinimo administravimo paslaugos dydžio tarifas Eur (0,1 eur. Tuo atveju kai projekto administratorius yra PVM mokėtojas, tai tarifas yra 0,121, nebent butų ir kitų patalpų savininkų sprendimu yra patvirtintas mažesnis tarifas):
B28: 4.2 | C28: Butų ir kitų patalpų savininkų sprendimu patvirtinto projekto įgyvendinimo administravimo dydis visam namui per mėnesį (apskaičiuojama automatiškai): | J28: =J8*J27 -> 0
B29: 4.3 | C29: Bendra projekto įgyvendinimo administravimo išlaidų suma už prašomą kompensuoti laikotarpį (apskaičiuojama automatiškai): | J29: =IF(H23=0,H22*J28,(H22*J28)+(J28/J24*H23)) -> 0
B31: 5. | C31: Informacija apie butų ir kitų patalpų savininkams, turintiems teisę į šildymo išlaidų kompensaciją, tenkantį valstybės paramos, projekto įgyvendinimo administravimo išlaidoms kompensuoti, dydį (pildoma tuo atveju jeigu daugiabučiame name yra butų ir kitų patalpų savininkų turinčių teisę į šildymo išlaidų kompensacija):
B32: 5.1 | C32: Buto/ patalpos Nr.: | D32: Savininko vardas, pavardė: | G32: Asmens valdomų patalpų plotas m2 (nurodyti plotą): | J32: Asmeniui tenkantis valstybės paramos dydis (apskaičiuojama automatiškai), eurais:
B33: 5.1.1 | J33: =IF(G33=0,0,(G33*$J$29/$J$8)) -> 0
B34: 5.1.2 | J34: =IF(G34=0,0,(G34*$J$29/$J$8)) -> 0
B35: 5.1.3 | J35: =IF(G35=0,0,(G35*$J$29/$J$8)) -> 0
B36: 5.1.4 | J36: =IF(G36=0,0,(G36*$J$29/$J$8)) -> 0
B37: 5.1.5 | J37: =IF(G37=0,0,(G37*$J$29/$J$8)) -> 0
B38: ... | J38: =IF(G38=0,0,(G38*$J$29/$J$8)) -> 0
D39: Bendra suma: | G39: =+SUM(G33:I38) -> 0 | J39: =+SUM(J33:M38) -> 0
B41: 6. | C41: Informacija apie daugiabučiame name savivaldybės nuosavybės teise valdomoms gyvenamosioms patalpoms tenkantį valstybės paramos dydį (pildoma tuo atveju jeigu daugiabučiame name yra savivaldybei nuosavybės teise priklausančių gyvenamųjų patalpų):
B42: 6.1 | C42: Buto/ patalpos Nr.: | E42: Savivaldybės valdomų patalpų plotas m2 (nurodyti plotą): | H42: Valstybės paramos dydis procentais (pasirinkti): | J42: Savivaldybei tenkantis valstybės paramos dydis (apskaičiuojama automatiškai), eurais:
B43: 6.1.1 | J43: =IF(H43=Sąrašai!$A$1,(E43*$J$29/$J$8)/"2",IF(H43=Sąrašai!$A$2,E43*$J$29/$J$8,)) -> 0
B44: 6.1.2 | J44: =IF(H44=Sąrašai!$A$1,(E44*$J$29/$J$8)/"2",IF(H44=Sąrašai!$A$2,E44*$J$29/$J$8,)) -> 0
B45: 6.1.3 | J45: =IF(H45=Sąrašai!$A$1,(E45*$J$29/$J$8)/"2",IF(H45=Sąrašai!$A$2,E45*$J$29/$J$8,)) -> 0
B46: 6.1.4 | J46: =IF(H46=Sąrašai!$A$1,(E46*$J$29/$J$8)/"2",IF(H46=Sąrašai!$A$2,E46*$J$29/$J$8,)) -> 0
B47: 6.1.5 | J47: =IF(H47=Sąrašai!$A$1,(E47*$J$29/$J$8)/"2",IF(H47=Sąrašai!$A$2,E47*$J$29/$J$8,)) -> 0
B48: ... | J48: =IF(H48=Sąrašai!$A$1,(E48*$J$29/$J$8)/"2",IF(H48=Sąrašai!$A$2,E48*$J$29/$J$8,)) -> 0
C49: Bendra suma: | E49: =+SUM(E43:G48) -> 0 | H49: - | J49: =+SUM(J43:M48) -> 0
B51: 7. | C51: Informacija apie butų ir kitų patalpų savininkams, daugiabučiame name vykdantiems ūkinę veiklą, tenkantį valstybės paramos, projekto įgyvendinimo administravimo išlaidoms kompensuoti, dydį (pildoma tuo atveju jeigu daugiabučiame name yra butų ir kitų patalpų savininkų vykdančių ūkinę veiklą):
B52: 7.1 | C52: Buto/ patalpos Nr.: | D52: Savininko vardas, pavardė arba juridnimo asmens pavadinimas: | G52: Asmens valdomų patalpų plotas m2 (nurodyti plotą): | J52: Valstybės paramos dydis procentais (pasirinkti): | L52: Asmeniui tenkantis valstybės paramos dydis (apskaičiuojama automatiškai), eurais:
...

Sheet Pr. 6 namui
C1: Prašymo kompensuoti projekto įgyvendinimo išlaidas priedas. Prašymo 3 lentelės nurodytiems daugiabučiams namams tenkačio valstybės paramos dydžio apskaičiavimo pagrindimui
B3: Šeštasis namas
B4: 1. | C4: Duomenys apie atnaujinamą daugiabutį namą:
B5: 1.1 | C5: Daugiabučio namo adresas:
B6: 1.2 | C6: Daugiabučio namo atnaujinimo (modernizavimo) projekto numeris:
B7: 1.3 | C7: Daugiabučio namo butų ir kitų patalpų skaičius:
B8: 1.4 | C8: Daugiabučio namo naudingojo ploto suma:
B9: 1.5 | C9: Daugiabučio namo statybos metai:
B10: 1.6 | C10: Butų ir kitų patalpų savininkų sprendimo įgyvendinti projektą ir projekto įgyvendinimo administravimo paslaugos dydžio patvirtinimo data:
B11: 1.7. | C11: Statybos užbaigimo akto surašymo data (jeigu projekto įgyvendinimo metu toks aktas buvo surašytas)
B13: 2. | C13: Duomenys apie galimą suteikti valstybės paramos dydį:
B14: 2.1 | C14: Investicijų plane numatyta suma projekto įgyvendinimo administravimo išlaidoms:
B15: 2.2 | C15: Jau patirtos išlaidos projekto įgyvendinimo administravimui, įgyvendinant projektą:
B16: 2.3 | C16: Projekto įgyvendinimo administravimui apmokėti arba kompensuoti suteiktos valstybės paramos suma:
... B23: 3.4 | C23: Nepilno mėnesio dienų skaičius:
B24: 3.5 | C24: Pasirinkti mėnesį kuris buvo nepilnas (paspauskite duomenų pasirinkimui): | J24: =IF(H24=[1]Sąrašai!$C$1,31,IF(H24=[1]Sąrašai!$C$2,28,IF(H24=[1]Sąrašai!$C$3,31,IF(H24=[1]Sąrašai!$C$4,30,IF(H24=[1]Sąrašai!$C$5,31,IF(H24=[1]Sąrašai!$C$6,30,IF(H24=[1]Sąrašai!$C$7,31,IF(H24=[1]Sąrašai!$C$8,31,IF(H24=[1]Sąrašai!$C$9,30,IF(H24=[1]Sąrašai!$C$10,31,IF(H24=[1]Sąrašai!$C$11,30,IF(H24=[1]Sąrašai!$C$12,31,"0")))))))))))) -> 0
B26: 4. | C26: Informacija apie projekto įgyvendinimo administravimo išlaidas, neįvertinus valstybės paramos:
B27: 4.1 | C27: Butų ir kitų patalpų savininkų sprendimu patvirtinto projekto įgyvendinimo administravimo paslaugos dydžio tarifas Eur (0,1 eur. Tuo atveju kai projekto administratorius yra PVM mokėtojas, tai tarifas yra 0,121, nebent butų ir kitų patalpų savininkų sprendimu yra patvirtintas mažesnis tarifas):
B28: 4.2 | C28: Butų ir kitų patalpų savininkų sprendimu patvirtinto projekto įgyvendinimo administravimo dydis visam namui per mėnesį (apskaičiuojama automatiškai): | J28: =J8*J27 -> 0
B29: 4.3 | C29: Bendra projekto įgyvendinimo administravimo išlaidų suma už prašomą kompensuoti laikotarpį (apskaičiuojama automatiškai): | J29: =IF(H23=0,H22*J28,(H22*J28)+(J28/J24*H23)) -> 0
B31: 5. | C31: Informacija apie butų ir kitų patalpų savininkams, turintiems teisę į šildymo išlaidų kompensaciją, tenkantį valstybės paramos, projekto įgyvendinimo administravimo išlaidoms kompensuoti, dydį (pildoma tuo atveju jeigu daugiabučiame name yra butų ir kitų patalpų savininkų turinčių teisę į šildymo išlaidų kompensacija):
B32: 5.1 | C32: Buto/ patalpos Nr.: | D32: Savininko vardas, pavardė: | G32: Asmens valdomų patalpų plotas m2 (nurodyti plotą): | J32: Asmeniui tenkantis valstybės paramos dydis (apskaičiuojama automatiškai), eurais:
B33: 5.1.1 | J33: =IF(G33=0,0,(G33*$J$29/$J$8)) -> 0
B34: 5.1.2 | J34: =IF(G34=0,0,(G34*$J$29/$J$8)) -> 0
B35: 5.1.3 | J35: =IF(G35=0,0,(G35*$J$29/$J$8)) -> 0
B36: 5.1.4 | J36: =IF(G36=0,0,(G36*$J$29/$J$8)) -> 0
B37: 5.1.5 | J37: =IF(G37=0,0,(G37*$J$29/$J$8)) -> 0
B38: ... | J38: =IF(G38=0,0,(G38*$J$29/$J$8)) -> 0
D39: Bendra suma: | G39: =+SUM(G33:I38) -> 0 | J39: =+SUM(J33:M38) -> 0
B41: 6. | C41: Informacija apie daugiabučiame name savivaldybės nuosavybės teise valdomoms gyvenamosioms patalpoms tenkantį valstybės paramos dydį (pildoma tuo atveju jeigu daugiabučiame name yra savivaldybei nuosavybės teise priklausančių gyvenamųjų patalpų):
B42: 6.1 | C42: Buto/ patalpos Nr.: | E42: Savivaldybės valdomų patalpų plotas m2 (nurodyti plotą): | H42: Valstybės paramos dydis procentais (pasirinkti): | J42: Savivaldybei tenkantis valstybės paramos dydis (apskaičiuojama automatiškai), eurais:
B43: 6.1.1 | J43: =IF(H43=Sąrašai!$A$1,(E43*$J$29/$J$8)/"2",IF(H43=Sąrašai!$A$2,E43*$J$29/$J$8,)) -> 0
B44: 6.1.2 | J44: =IF(H44=Sąrašai!$A$1,(E44*$J$29/$J$8)/"2",IF(H44=Sąrašai!$A$2,E44*$J$29/$J$8,)) -> 0
B45: 6.1.3 | J45: =IF(H45=Sąrašai!$A$1,(E45*$J$29/$J$8)/"2",IF(H45=Sąrašai!$A$2,E45*$J$29/$J$8,)) -> 0
B46: 6.1.4 | J46: =IF(H46=Sąrašai!$A$1,(E46*$J$29/$J$8)/"2",IF(H46=Sąrašai!$A$2,E46*$J$29/$J$8,)) -> 0
B47: 6.1.5 | J47: =IF(H47=Sąrašai!$A$1,(E47*$J$29/$J$8)/"2",IF(H47=Sąrašai!$A$2,E47*$J$29/$J$8,)) -> 0
B48: ... | J48: =IF(H48=Sąrašai!$A$1,(E48*$J$29/$J$8)/"2",IF(H48=Sąrašai!$A$2,E48*$J$29/$J$8,)) -> 0
C49: Bendra suma: | E49: =+SUM(E43:G48) -> 0 | H49: - | J49: =+SUM(J43:M48) -> 0
B51: 7. | C51: Informacija apie butų ir kitų patalpų savininkams, daugiabučiame name vykdantiems ūkinę veiklą, tenkantį valstybės paramos, projekto įgyvendinimo administravimo išlaidoms kompensuoti, dydį (pildoma tuo atveju jeigu daugiabučiame name yra butų ir kitų patalpų savininkų vykdančių ūkinę veiklą):
B52: 7.1 | C52: Buto/ patalpos Nr.: | D52: Savininko vardas, pavardė arba juridnimo asmens pavadinimas: | G52: Asmens valdomų patalpų plotas m2 (nurodyti plotą): | J52: Valstybės paramos dydis procentais (pasirinkti): | L52: Asmeniui tenkantis valstybės paramos dydis (apskaičiuojama automatiškai), eurais:
...

Sheet Pr. 7 namui
C1: Prašymo kompensuoti projekto įgyvendinimo išlaidas priedas. Prašymo 3 lentelės nurodytiems daugiabučiams namams tenkačio valstybės paramos dydžio apskaičiavimo pagrindimui
B3: Septintasis namas
B4: 1. | C4: Duomenys apie atnaujinamą daugiabutį namą:
B5: 1.1 | C5: Daugiabučio namo adresas:
B6: 1.2 | C6: Daugiabučio namo atnaujinimo (modernizavimo) projekto numeris:
B7: 1.3 | C7: Daugiabučio namo butų ir kitų patalpų skaičius:
B8: 1.4 | C8: Daugiabučio namo naudingojo ploto suma:
B9: 1.5 | C9: Daugiabučio namo statybos metai:
B10: 1.6 | C10: Butų ir kitų patalpų savininkų sprendimo įgyvendinti projektą ir projekto įgyvendinimo administravimo paslaugos dydžio patvirtinimo data:
B11: 1.7. | C11: Statybos užbaigimo akto surašymo data (jeigu projekto įgyvendinimo metu toks aktas buvo surašytas)
B13: 2. | C13: Duomenys apie galimą suteikti valstybės paramos dydį:
B14: 2.1 | C14: Investicijų plane numatyta suma projekto įgyvendinimo administravimo išlaidoms:
B15: 2.2 | C15: Jau patirtos išlaidos projekto įgyvendinimo administravimui, įgyvendinant projektą:
B16: 2.3 | C16: Projekto įgyvendinimo administravimui apmokėti arba kompensuoti suteiktos valstybės paramos suma:
... B23: 3.4 | C23: Nepilno mėnesio dienų skaičius:
B24: 3.5 | C24: Pasirinkti mėnesį kuris buvo nepilnas (paspauskite duomenų pasirinkimui): | J24: =IF(H24=[1]Sąrašai!$C$1,31,IF(H24=[1]Sąrašai!$C$2,28,IF(H24=[1]Sąrašai!$C$3,31,IF(H24=[1]Sąrašai!$C$4,30,IF(H24=[1]Sąrašai!$C$5,31,IF(H24=[1]Sąrašai!$C$6,30,IF(H24=[1]Sąrašai!$C$7,31,IF(H24=[1]Sąrašai!$C$8,31,IF(H24=[1]Sąrašai!$C$9,30,IF(H24=[1]Sąrašai!$C$10,31,IF(H24=[1]Sąrašai!$C$11,30,IF(H24=[1]Sąrašai!$C$12,31,"0")))))))))))) -> 0
B26: 4. | C26: Informacija apie projekto įgyvendinimo administravimo išlaidas, neįvertinus valstybės paramos:
B27: 4.1 | C27: Butų ir kitų patalpų savininkų sprendimu patvirtinto projekto įgyvendinimo administravimo paslaugos dydžio tarifas Eur (0,1 eur. Tuo atveju kai projekto administratorius yra PVM mokėtojas, tai tarifas yra 0,121, nebent butų ir kitų patalpų savininkų sprendimu yra patvirtintas mažesnis tarifas):
B28: 4.2 | C28: Butų ir kitų patalpų savininkų sprendimu patvirtinto projekto įgyvendinimo administravimo dydis visam namui per mėnesį (apskaičiuojama automatiškai): | J28: =J8*J27 -> 0
B29: 4.3 | C29: Bendra projekto įgyvendinimo administravimo išlaidų suma už prašomą kompensuoti laikotarpį (apskaičiuojama automatiškai): | J29: =IF(H23=0,H22*J28,(H22*J28)+(J28/J24*H23)) -> 0
B31: 5. | C31: Informacija apie butų ir kitų patalpų savininkams, turintiems teisę į šildymo išlaidų kompensaciją, tenkantį valstybės paramos, projekto įgyvendinimo administravimo išlaidoms kompensuoti, dydį (pildoma tuo atveju jeigu daugiabučiame name yra butų ir kitų patalpų savininkų turinčių teisę į šildymo išlaidų kompensacija):
B32: 5.1 | C32: Buto/ patalpos Nr.: | D32: Savininko vardas, pavardė: | G32: Asmens valdomų patalpų plotas m2 (nurodyti plotą): | J32: Asmeniui tenkantis valstybės paramos dydis (apskaičiuojama automatiškai), eurais:
B33: 5.1.1 | J33: =IF(G33=0,0,(G33*$J$29/$J$8)) -> 0
B34: 5.1.2 | J34: =IF(G34=0,0,(G34*$J$29/$J$8)) -> 0
B35: 5.1.3 | J35: =IF(G35=0,0,(G35*$J$29/$J$8)) -> 0
B36: 5.1.4 | J36: =IF(G36=0,0,(G36*$J$29/$J$8)) -> 0
B37: 5.1.5 | J37: =IF(G37=0,0,(G37*$J$29/$J$8)) -> 0
B38: ... | J38: =IF(G38=0,0,(G38*$J$29/$J$8)) -> 0
D39: Bendra suma: | G39: =+SUM(G33:I38) -> 0 | J39: =+SUM(J33:M38) -> 0
B41: 6. | C41: Informacija apie daugiabučiame name savivaldybės nuosavybės teise valdomoms gyvenamosioms patalpoms tenkantį valstybės paramos dydį (pildoma tuo atveju jeigu daugiabučiame name yra savivaldybei nuosavybės teise priklausančių gyvenamųjų patalpų):
B42: 6.1 | C42: Buto/ patalpos Nr.: | E42: Savivaldybės valdomų patalpų plotas m2 (nurodyti plotą): | H42: Valstybės paramos dydis procentais (pasirinkti): | J42: Savivaldybei tenkantis valstybės paramos dydis (apskaičiuojama automatiškai), eurais:
B43: 6.1.1 | J43: =IF(H43=Sąrašai!$A$1,(E43*$J$29/$J$8)/"2",IF(H43=Sąrašai!$A$2,E43*$J$29/$J$8,)) -> 0
B44: 6.1.2 | J44: =IF(H44=Sąrašai!$A$1,(E44*$J$29/$J$8)/"2",IF(H44=Sąrašai!$A$2,E44*$J$29/$J$8,)) -> 0
B45: 6.1.3 | J45: =IF(H45=Sąrašai!$A$1,(E45*$J$29/$J$8)/"2",IF(H45=Sąrašai!$A$2,E45*$J$29/$J$8,)) -> 0
B46: 6.1.4 | J46: =IF(H46=Sąrašai!$A$1,(E46*$J$29/$J$8)/"2",IF(H46=Sąrašai!$A$2,E46*$J$29/$J$8,)) -> 0
B47: 6.1.5 | J47: =IF(H47=Sąrašai!$A$1,(E47*$J$29/$J$8)/"2",IF(H47=Sąrašai!$A$2,E47*$J$29/$J$8,)) -> 0
B48: ... | J48: =IF(H48=Sąrašai!$A$1,(E48*$J$29/$J$8)/"2",IF(H48=Sąrašai!$A$2,E48*$J$29/$J$8,)) -> 0
C49: Bendra suma: | E49: =+SUM(E43:G48) -> 0 | H49: - | J49: =+SUM(J43:M48) -> 0
B51: 7. | C51: Informacija apie butų ir kitų patalpų savininkams, daugiabučiame name vykdantiems ūkinę veiklą, tenkantį valstybės paramos, projekto įgyvendinimo administravimo išlaidoms kompensuoti, dydį (pildoma tuo atveju jeigu daugiabučiame name yra butų ir kitų patalpų savininkų vykdančių ūkinę veiklą):
B52: 7.1 | C52: Buto/ patalpos Nr.: | D52: Savininko vardas, pavardė arba juridnimo asmens pavadinimas: | G52: Asmens valdomų patalpų plotas m2 (nurodyti plotą): | J52: Valstybės paramos dydis procentais (pasirinkti): | L52: Asmeniui tenkantis valstybės paramos dydis (apskaičiuojama automatiškai), eurais:
...

Sheet Pr. 8 namui
C1: Prašymo kompensuoti projekto įgyvendinimo išlaidas priedas. Prašymo 3 lentelės nurodytiems daugiabučiams namams tenkačio valstybės paramos dydžio apskaičiavimo pagrindimui
B3: Aštuntasis namas
B4: 1. | C4: Duomenys apie atnaujinamą daugiabutį namą:
B5: 1.1 | C5: Daugiabučio namo adresas:
B6: 1.2 | C6: Daugiabučio namo atnaujinimo (modernizavimo) projekto numeris:
B7: 1.3 | C7: Daugiabučio namo butų ir kitų patalpų skaičius:
B8: 1.4 | C8: Daugiabučio namo naudingojo ploto suma:
B9: 1.5 | C9: Daugiabučio namo statybos metai:
B10: 1.6 | C10: Butų ir kitų patalpų savininkų sprendimo įgyvendinti projektą ir projekto įgyvendinimo administravimo paslaugos dydžio patvirtinimo data:
B11: 1.7. | C11: Statybos užbaigimo akto surašymo data (jeigu projekto įgyvendinimo metu toks aktas buvo surašytas)
B13: 2. | C13: Duomenys apie galimą suteikti valstybės paramos dydį:
B14: 2.1 | C14: Investicijų plane numatyta suma projekto įgyvendinimo administravimo išlaidoms:
B15: 2.2 | C15: Jau patirtos išlaidos projekto įgyvendinimo administravimui, įgyvendinant projektą:
B16: 2.3 | C16: Projekto įgyvendinimo administravimui apmokėti arba kompensuoti suteiktos valstybės paramos suma:
... B23: 3.4 | C23: Nepilno mėnesio dienų skaičius:
B24: 3.5 | C24: Pasirinkti mėnesį kuris buvo nepilnas (paspauskite duomenų pasirinkimui): | J24: =IF(H24=[1]Sąrašai!$C$1,31,IF(H24=[1]Sąrašai!$C$2,28,IF(H24=[1]Sąrašai!$C$3,31,IF(H24=[1]Sąrašai!$C$4,30,IF(H24=[1]Sąrašai!$C$5,31,IF(H24=[1]Sąrašai!$C$6,30,IF(H24=[1]Sąrašai!$C$7,31,IF(H24=[1]Sąrašai!$C$8,31,IF(H24=[1]Sąrašai!$C$9,30,IF(H24=[1]Sąrašai!$C$10,31,IF(H24=[1]Sąrašai!$C$11,30,IF(H24=[1]Sąrašai!$C$12,31,"0")))))))))))) -> 0
B26: 4. | C26: Informacija apie projekto įgyvendinimo administravimo išlaidas, neįvertinus valstybės paramos:
B27: 4.1 | C27: Butų ir kitų patalpų savininkų sprendimu patvirtinto projekto įgyvendinimo administravimo paslaugos dydžio tarifas Eur (0,1 eur. Tuo atveju kai projekto administratorius yra PVM mokėtojas, tai tarifas yra 0,121, nebent butų ir kitų patalpų savininkų sprendimu yra patvirtintas mažesnis tarifas):
B28: 4.2 | C28: Butų ir kitų patalpų savininkų sprendimu patvirtinto projekto įgyvendinimo administravimo dydis visam namui per mėnesį (apskaičiuojama automatiškai): | J28: =J8*J27 -> 0
B29: 4.3 | C29: Bendra projekto įgyvendinimo administravimo išlaidų suma už prašomą kompensuoti laikotarpį (apskaičiuojama automatiškai): | J29: =IF(H23=0,H22*J28,(H22*J28)+(J28/J24*H23)) -> 0
B31: 5. | C31: Informacija apie butų ir kitų patalpų savininkams, turintiems teisę į šildymo išlaidų kompensaciją, tenkantį valstybės paramos, projekto įgyvendinimo administravimo išlaidoms kompensuoti, dydį (pildoma tuo atveju jeigu daugiabučiame name yra butų ir kitų patalpų savininkų turinčių teisę į šildymo išlaidų kompensacija):
B32: 5.1 | C32: Buto/ patalpos Nr.: | D32: Savininko vardas, pavardė: | G32: Asmens valdomų patalpų plotas m2 (nurodyti plotą): | J32: Asmeniui tenkantis valstybės paramos dydis (apskaičiuojama automatiškai), eurais:
B33: 5.1.1 | J33: =IF(G33=0,0,(G33*$J$29/$J$8)) -> 0
B34: 5.1.2 | J34: =IF(G34=0,0,(G34*$J$29/$J$8)) -> 0
B35: 5.1.3 | J35: =IF(G35=0,0,(G35*$J$29/$J$8)) -> 0
B36: 5.1.4 | J36: =IF(G36=0,0,(G36*$J$29/$J$8)) -> 0
B37: 5.1.5 | J37: =IF(G37=0,0,(G37*$J$29/$J$8)) -> 0
B38: ... | J38: =IF(G38=0,0,(G38*$J$29/$J$8)) -> 0
D39: Bendra suma: | G39: =+SUM(G33:I38) -> 0 | J39: =+SUM(J33:M38) -> 0
B41: 6. | C41: Informacija apie daugiabučiame name savivaldybės nuosavybės teise valdomoms gyvenamosioms patalpoms tenkantį valstybės paramos dydį (pildoma tuo atveju jeigu daugiabučiame name yra savivaldybei nuosavybės teise priklausančių gyvenamųjų patalpų):
B42: 6.1 | C42: Buto/ patalpos Nr.: | E42: Savivaldybės valdomų patalpų plotas m2 (nurodyti plotą): | H42: Valstybės paramos dydis procentais (pasirinkti): | J42: Savivaldybei tenkantis valstybės paramos dydis (apskaičiuojama automatiškai), eurais:
B43: 6.1.1 | J43: =IF(H43=Sąrašai!$A$1,(E43*$J$29/$J$8)/"2",IF(H43=Sąrašai!$A$2,E43*$J$29/$J$8,)) -> 0
B44: 6.1.2 | J44: =IF(H44=Sąrašai!$A$1,(E44*$J$29/$J$8)/"2",IF(H44=Sąrašai!$A$2,E44*$J$29/$J$8,)) -> 0
B45: 6.1.3 | J45: =IF(H45=Sąrašai!$A$1,(E45*$J$29/$J$8)/"2",IF(H45=Sąrašai!$A$2,E45*$J$29/$J$8,)) -> 0
B46: 6.1.4 | J46: =IF(H46=Sąrašai!$A$1,(E46*$J$29/$J$8)/"2",IF(H46=Sąrašai!$A$2,E46*$J$29/$J$8,)) -> 0
B47: 6.1.5 | J47: =IF(H47=Sąrašai!$A$1,(E47*$J$29/$J$8)/"2",IF(H47=Sąrašai!$A$2,E47*$J$29/$J$8,)) -> 0
B48: ... | J48: =IF(H48=Sąrašai!$A$1,(E48*$J$29/$J$8)/"2",IF(H48=Sąrašai!$A$2,E48*$J$29/$J$8,)) -> 0
C49: Bendra suma: | E49: =+SUM(E43:G48) -> 0 | H49: - | J49: =+SUM(J43:M48) -> 0
B51: 7. | C51: Informacija apie butų ir kitų patalpų savininkams, daugiabučiame name vykdantiems ūkinę veiklą, tenkantį valstybės paramos, projekto įgyvendinimo administravimo išlaidoms kompensuoti, dydį (pildoma tuo atveju jeigu daugiabučiame name yra butų ir kitų patalpų savininkų vykdančių ūkinę veiklą):
B52: 7.1 | C52: Buto/ patalpos Nr.: | D52: Savininko vardas, pavardė arba juridnimo asmens pavadinimas: | G52: Asmens valdomų patalpų plotas m2 (nurodyti plotą): | J52: Valstybės paramos dydis procentais (pasirinkti): | L52: Asmeniui tenkantis valstybės paramos dydis (apskaičiuojama automatiškai), eurais:
...

Sheet Pr. 9 namui
