Workbook
Name metai: '[1]Bendra lentele'!$L$1:$L$9

Sheet Prašymo forma
G2: Patvirtinta Lietuvos Respublikos aplinkos ministerijos Aplinkos projektų valdymo agentūros direktoriaus 2021 m. lapkričio 19 d. įsakymu Nr. T1-272
B12: Prašymo teikėjo duomenys (juridinio asmens pavadinimas/fizinio asmens vardas, pavardė, kodas, adresas
A14: Lietuvos Respublikos aplinkos ministerijos Aplinkos projektų valdymo agentūrai
D16: PRAŠYMAS APMOKĖTI STATYBOS TECHNINĖS PRIEŽIŪROS IŠLAIDAS
E19: Nr.
D20: (data)
E22: (vieta)
B25: 1. | C25: Informacija apie atnaujinamą (modernizuojamą) daugiabutį namą (nurodyti informaciją):
B26: 1.1 | C26: Adresas:
B27: 1.2 | C27: Projekto numeris nurodytas suderintame investicijų plane:
B28: 1.3 | C28: Daugiabučio namo statybos metai:
B29: 1.4 | C29: Butų ir kitų patalpų skaičius (vnt.):
B30: 1.5 | C30: Namo butų naudingojo ir (ar) kitų patalpų bendrojo ploto suma (m2):
B31: 1.6 | C31: Statybos užbaigimo akto surašymo data (jeigu projekto įgyvendinimo metu toks aktas buvo surašytas)
B36: 2. | C36: Laikotarpis, už kurį prašoma suteikti valstybės paramą: | I36: Nuo:
I37: Iki:
B40: 3. | C40: Bendra informacija pagrindžianti patirtas išlaidas (nurodyti sumas):
B41: 3.1 | C41: Bendra statybos techninės priežiūros kaina, numatyta paslaugų sutartyje, eurais:
B42: 3.2 | C42: Jau apmokėta išlaidų suma, pagal statybos techninės priežiūros sutartį, eurais:
B43: 3.3 | C43: Likusi neapmokėta sutarties suma (apskaičiuojama automatiškai), eurais: | I43: =I41-I42 -> 0
B44: 3.4 | C44: Statybos techninės priežiūros išlaidų padengimui ankščiau suteikta valstybės parama, eurais:
B45: 3.5 | C45: Investicijų plane numatytas statybos techninės priežiūros išlaidų dydis, eurais:
B46: 3.6 | C46: Butų ir kitų patalpų savininkų sprendimu statybos techninės priežiūros išlaidų dydis padidintas iki sumos, eurais:
B48: 4. | C48: Techninės priežiūros išlaidų kaina pagal atliktų darbų aktą (eurais):
B50: 5. | C50: Informacija apie butų ir kitų patalpų savininkams, turintiems teisę į šildymo išlaidų kompensaciją, tenkantį aktuojamos sumos dydį (pildoma tuo atveju jeigu daugiabučiame name yra butų ir kitų patalpų savininkų turinčių teisę į šildymo išlaidų kompensaciją. Informacija gali būti nenurodoma, jeigu name nėra asmenų turinčių teisę į šildymo išlaidų kompesaciją):
B51: 5.1 | C51: Buto/ patalpos Nr.: | D51: Savininko vardas, pavardė: | F51: Asmens valdomų patalpų plotas m2 (nurodyti plotą): | H51: Asmeniui tenkantis valstybės paramos dydis (apskaičiuojama automatiškai), eurais:
B52: 5.1.1 | H52: =IF(F52=0,0,F52*$I$48/$I$30) -> 0
B53: 5.1.2 | H53: =IF(F53=0,0,F53*$I$48/$I$30) -> 0
B54: 5.1.3 | H54: =IF(F54=0,0,F54*$I$48/$I$30) -> 0
B55: 5.1.4 | H55: =IF(F55=0,0,F55*$I$48/$I$30) -> 0
B56: 5.1.5 | H56: =IF(F56=0,0,F56*$I$48/$I$30) -> 0
B57: ... | H57: =IF(F57=0,0,F57*$I$48/$I$30) -> 0
D58: Bendra suma: | F58: =+SUM(F52:G57) -> 0 | H58: =+SUM(H52:J57) -> 0
B60: 6. | C60: Informacija apie savivaldybės nuosavybės teise valdomas gyvenamosioms patalpas patirtas išlaidas pagal aktuojamos sumos dydį (pildoma, jeigu name yra savivaldybės valdomų gyvenamųjų patalpų):
B61: 6.1 | C61: Buto/ patalpos Nr.: | D61: Savivaldybės nuosavybės teise valdomų gyvenamosios paskirties patalpų plotas (nurodyti plotą), m2: | F61: Valstybės paramos dydis procentais (pasirinkti): | H61: Savivaldybei tenkantis valstybės paramos dydis (apskaičiuojama automatiškai), eurais:
B62: 6.1.1 | H62: =IF((D62=0),0,(D62*$I$48/$I$30)) -> 0
B63: 6.1.2 | H63: =IF((D63=0),0,(D63*$I$48/$I$30)) -> 0
B64: 6.1.3 | H64: =IF((D64=0),0,(D64*$I$48/$I$30)) -> 0
B65: 6.1.4 | H65: =IF((D65=0),0,(D65*$I$48/$I$30)) -> 0
B66: 6.1.5 | H66: =IF((D66=0),0,(D66*$I$48/$I$30)) -> 0
B67: ... | H67: =IF((D67=0),0,(D67*$I$48/$I$30)) -> 0
B68: Bendra suma: | D68: =+SUM(D62:G67) -> 0 | F68: - | H68: =+SUM(H62:J67) -> 0
B71: 7. | C71: Informacija apie daugiabučiame name ūkinę veiklą vykdantiems asmenims tenkantį valstybės paramos dydį, pagal faktiškai aktuojamą patirtų išlaidų sumą:
B72: 7.1 | C72: Buto/ patalpos Nr.: | D72: Ūkinę veiklą vykdančio asmens vardas/pavardė arba juridinio asmens pavadinimas: | F72: Ūkinę veiklą vykdančio asmens valdomų patalpų plotas (nurodyti plotą), m2: | H72: Valstybės paramos dydis procentais (pasirinkti): | I72: Asmeniui tenkantis valstybės paramos dydis (apskaičiuojama automatiškai), eurais:
B73: 7.1.1 | I73: =IF(F73=0,0,(IF(H73=Sąrašai!$A$1,F73*$I$48/$I$30,(F73*$I$48/$I$30)*1/2))) -> 0
B74: 7.1.2 | I74: =IF(F74=0,0,(IF(H74=Sąrašai!$A$1,F74*$I$48/$I$30,(F74*$I$48/$I$30)*1/2))) -> 0
B75: 7.1.3 | I75: =IF(F75=0,0,(IF(H75=Sąrašai!$A$1,F75*$I$48/$I$30,(F75*$I$48/$I$30)*1/2))) -> 0
B76: 7.1.4 | I76: =IF(F76=0,0,(IF(H76=Sąrašai!$A$1,F76*$I$48/$I$30,(F76*$I$48/$I$30)*1/2))) -> 0
B77: 7.1.5 | I77: =IF(F77=0,0,(IF(H77=Sąrašai!$A$1,F77*$I$48/$I$30,(F77*$I$48/$I$30)*1/2))) -> 0
B78: ... | I78: =IF(F78=0,0,(IF(H78=Sąrašai!$A$1,F78*$I$48/$I$30,(F78*$I$48/$I$30)*1/2))) -> 0
C79: Bendra suma: | F79: =+SUM(F73:G78) -> 0 | H79: - | I79: =+SUM(I73:J78) -> 0
B81: 8. | C81: Informacija apie kitų butų ir patalpų savininkams tenkantį valstybės paramos dydį, pagal faktiškai aktuojamą patirtų išlaidų sumą (nurodoma informacija apie visus butų savininkus, kurie nėra nurodyti šio prašymo 5, 6, 7 lentelėse):
B82: 8.1 | C82: Butų skaičius: | D82: Asmenų valdomų patalpų plotas | H82: Valstybės paramos dydis procentais (pasirinkti): | I82: Asmenims tenkantis valstybės paramos dydis (apskaičiuojama automatiškai), eurais:
B83: 8.1.1 | I83: =IF(D83=0,0,IF(H83=Sąrašai!$A$1,D83*$I$48/$I$30,(D83*$I$48/$I$30)*1/2)) -> 0
B84: Bendra suma: | D84: =+SUM(D83:G83) -> 0 | H84: - | I84: =I83 -> 0
B86: 9. | C86: Prašoma suteikti valstybės parama (apskaičiuojama automatiškai), eurais: | I86: =I84+I79+H68+H58 -> 0
B88: 10. | C88: Duomenys apie statybos techninės priežiūros paslaugų teikimo sutartį:
B89: 10.1 | C89: Statybos techninės priežiūros paslaugų teikimo sutarties numeris:
B90: 10.2 | C90: Statybos techninės priežiūros paslaugų teikimo sutarties data:
B93: 11. | C93: Duomenys apie statybos techninės priežiūros paslaugų teikėją, kuriam yra pervedamas prašomas valstybės paramos dydis:
B94: 11.1 | C94: Statybos techninės priežiūros paslaugų teikėjo kodas:
B95: 11.2 | C95: Statybos techninės priežiūros paslaugų teikėjo pavadinimas:
B96: 11.3 | C96: Statybos techninės priežiūros paslaugų teikėjo atsiskaitomosios sąskaitos numeris:
B97: 11.4 | C97: Sąskaitos faktūros už paslaugas (užsakovas – prašymo teikėjas, mokėtojas – Viešoji įstaiga Būsto energijos taupymo agentūra) data:
B98: 11.5 | C98: Sąskaitos faktūros už paslaugas numeris:
B99: 11.6 | C99: Statybos techninės priežiūras paslaugas atlikusiai įmonei pervedama suma eurais:
B101: Prašymo teikėjas atsako už pateikiamų duomenų teisingumą
B103: Pridedama:
B104: 1. | C104: Statybos techninės priežiūros vykdymą patvirtinantys dokumentai (paslaugos pirkimo ataskaitos, sutarties, sąskaitų faktūrų (jeigu jos yra) ir apmokėjimą patvirtinančių dokumentų kopijos).
B105: 2. | C105: Sąskaita faktūra už paslaugas (užsakovas – prašymo teikėjas, mokėtojas – Lietuvos Respublikos aplinkos ministerijos Aplinkos projektų valdymo agentūra).
B106: 3. | C106: Lengvatinio kredito sutarties kopija, jeigu statybos techninei priežiūrai vykdyti suteiktas lengvatinis kreditas
B107: 4. | C107: Butų savininkų, turinčių teisę į būsto šildymo išlaidų kompensaciją, sąrašas ir jame nurodytiems butų savininkams savivaldybės išduotos pažymos (ar jų kopijos), patvirtinančios, kad daugiabučio namo butų savininkai prašymo pateikimo Agentūrai dieną turi teisę į būsto šildymo išlaidų kompensaciją (šie dokumentai ar jų kopijos neteikiami, jeigu teikiama 100 procentų valstybės parama projekto įgyvendinimui administruoti ir statybos techninei priežiūrai vykdyti);
B108: 5. | C108: Savivaldybės nuosavybės teise valdomų butų sąrašas (šis sąrašas neteikiamas, jeigu teikiama 100 procentų valstybės parama projekto įgyvendinimui administruoti ir statybos techninei priežiūrai vykdyti);
B109: 6. | C109: Statybos užbaigimo aktas, jeigu kreipiamasi dėl valstybės paramos suteikimo įgyvendinus projektą.
B110: 7. | C110: Informacija apie butų ir kitų patalpų savininkų, vykdančių ūkinę veiklą daugiabučiame name, susijusias įmones, jeigu tokia informacija iki šiol nebuvo pateikta arba yra pasikeitusi (Vadovaujantis 2013 m. gruodžio 18 d. Komisijos reglamento (ES) Nr. 1407/2013 2 straipsnio 2 dalies pakeitimu).
B111: 8. | C111: Registrų centro pažyma (os), patvirtinanti, jog butas (ai) ar patalpa (os) priklauso buto savininkui (ams) turintiems teisę į šildymo išlaidų kompensaciją.
C115: (Projekto administratoriaus atstovo pareigos, vardas, pavardė) | I115: (Parašas)

Sheet Sąrašai
A1: 100 proc.
A2: 50 proc.
