Workbook
Name metai: '[1]Bendra lentele'!$L$1:$L$9

Sheet Prašymo forma
G2: Patvirtinta Lietuvos Respublikos aplinkos ministerijos Aplinkos projektų valdymo agentūros direktoriaus 2021 m. lapkričio 19 d. įsakymu Nr. T1-272
B12: Prašymo teikėjo duomenys (juridinio asmens pavadinimas/fizinio asmens vardas, pavardė, kodas, adresas
A14: Lietuvos Respublikos aplinkos ministerijos Aplinkos projektų valdymo agentūrai
D16: PRAŠYMAS APMOKĖTI STATYBOS TECHNINĖS PRIEŽIŪROS IŠLAIDAS
E19: Nr.
D20: (data)
E22: (vieta)
B25: 1. | C25: Informacija apie atnaujinamą (modernizuojamą) daugiabutį namą (nurodyti informaciją):
B26: 1.1 | C26: Adresas:
B27: 1.2 | C27: Projekto numeris nurodytas suderintame investicijų plane:
B28: 1.3 | C28: Daugiabučio namo statybos metai:
B29: 1.4 | C29: Butų ir kitų patalpų skaičius (vnt.):
B30: 1.5 | C30: Namo butų naudingojo ir (ar) kitų patalpų bendrojo ploto suma (m2):
B31: 1.6 | C31: Statybos užbaigimo akto surašymo data (jeigu projekto įgyvendinimo metu toks aktas buvo surašytas)
B36: 2. | C36: Laikotarpis, už kurį prašoma suteikti valstybės paramą: | I36: Nuo:
I37: Iki:
B40: 3. | C40: Bendra informacija pagrindžianti patirtas išlaidas (nurodyti sumas):
B41: 3.1 | C41: Bendra statybos techninės priežiūros kaina, numatyta paslaugų sutartyje, eurais:
B42: 3.2 | C42: Jau apmokėta išlaidų suma, pagal statybos techninės priežiūros sutartį, eurais:
B43: 3.3 | C43: Likusi neapmokėta sutarties suma (apskaičiuojama automatiškai), eurais: | I43: =I41-I42 -> 0
B44: 3.4 | C44: Statybos techninės priežiūros išlaidų padengimui ankščiau suteikta valstybės parama, eurais:
B45: 3.5 | C45: Investicijų plane numatytas statybos techninės priežiūros išlaidų dydis, eurais:
B46: 3.6 | C46: Butų ir kitų patalpų savininkų sprendimu statybos techninės priežiūros išlaidų dydis padidintas iki sumos, eurais:
B48: 4. | C48: Techninės priežiūros išlaidų kaina pagal atliktų darbų aktą (eurais):
B50: 5. | C50: Informacija apie butų ir kitų patalpų savininkams, turintiems teisę į šildymo išlaidų kompensaciją, tenkantį aktuojamos sumos dydį (pildoma tuo atveju jeigu daugiabučiame name yra butų ir kitų patalpų savininkų turinčių teisę į šildymo išlaidų kompensaciją. Informacija gali būti nenurodoma, jeigu name nėra asmenų turinčių teisę į šildymo išlaidų kompesaciją):
B51: 5.1 | C51: Buto/ patalpos Nr.: | D51: Savininko vardas, pavardė: | F51: Asmens valdomų patalpų plotas m2 (nurodyti plotą): | H51: Asmeniui tenkantis valstybės paramos dydis (apskaičiuojama automatiškai), eurais:
B52: 5.1.1 | H52: =IF(F52=0,0,F52*$I$48/$I$30) -> 0
B53: 5.1.2 | H53: =IF(F53=0,0,F53*$I$48/$I$30) -> 0
B54: 5.1.3 | H54: =IF(F54=0,0,F54*$I$48/$I$30) -> 0
B55: 5.1.4 | H55: =IF(F55=0,0,F55*$I$48/$I$30) -> 0
B56: 5.1.5 | H56: =IF(F56=0,0,F56*$I$48/$I$30) -> 0
B57: ... | H57: =IF(F57=0,0,F57*$I$48/$I$30) -> 0
D58: Bendra suma: | F58: =+SUM(F52:G57) -> 0 | H58: =+SUM(H52:J57) -> 0
B60: 6. | C60: Informacija apie savivaldybės nuosavybės teise valdomas gyvenamosioms patalpas patirtas išlaidas pagal aktuojamos sumos dydį (pildoma, jeigu name yra savivaldybės valdomų gyvenamųjų patalpų):
B61: 6.1 | C61: Buto/ patalpos Nr.: | D61: Savivaldybės nuosavybės teise valdomų gyvenamosios paskirties patalpų plotas (nurodyti plotą), m2: | F61: Valstybės paramos dydis procentais (pasirinkti): | H61: Savivaldybei tenkantis valstybės paramos dydis (apskaičiuojama automatiškai), eurais:
B62: 6.1.1 | H62: =IF((D62=0),0,(D62*$I$48/$I$30)) -> 0
B63: 6.1.2 | H63: =IF((D63=0),0,(D63*$I$48/$I$30)) -> 0
B64: 6.1.3 | H64: =IF((D64=0),0,(D64*$I$48/$I$30)) -> 0
B65: 6.1.4 | H65: =IF((D65=0),0,(D65*$I$48/$I$30)) -> 0
B66: 6.1.5 | H66: =IF((D66=0),0,(D66*$I$48/$I$30)) -> 0
...

Sheet Sąrašai
A1: 100 proc.
A2: 50 proc.
