Workbook
Name metai: '[1]Bendra lentele'!$L$1:$L$9

Sheet Prašymo forma
M2: Patvirtinta Lietuvos Respublikos aplinkos ministerijos Aplinkos projektų valdymo agentūros direktoriaus 2021 m. lapkričio 19 d. įsakymu Nr. T1-272
B3: Prašymo teikėjo duomenys (juridinio asmens pavadinimas/fizinio asmens vardas, pavardė, kodas, adresas
B5: Lietuvos Respublikos aplinkos ministerijos Aplinkos projektų valdymo agentūrai
D7: PRAŠYMAS KOMPENSUOTI PROJEKTO (JO DALIES) PARENGIMO IŠLAIDAS
E10: Nr.
D11: (data)
E13: (vieta)
B16: 1. | C16: Informacija apie atnaujinamą (modernizuojamą) daugiabutį namą (nurodyti informaciją):
B17: 1.1 | C17: Adresas:
B18: 1.2 | C18: Projekto numeris nurodytas suderintame investicijų plane:
B19: 1.3 | C19: Butų ir kitų patalpų skaičius (vnt.):
B20: 1.4 | C20: Statybos užbaigimo akto surašymo data (jeigu projekto įgyvendinimo metu toks aktas buvo surašytas)
B21: 1.5 | C21: Namo butų naudingojo ir (ar) kitų patalpų bendrojo ploto suma (m2):
B23: 2. | C23: Projekto dalis: | I23: Projekto ar jo dalies parengimo kaina numatyti sutartyje Eur su PVM | L23: Projekto ar jo dalies parengimo suma, kuri jau buvo suteikta butų ir kitų patalpų savininkams Eur su PVM | O23: Projekto (jo dalies) rengėjui už atliktas paslaugas apmokėta suma Eur su PVM
B24: 2.1 | C24: Pastato energinio naudingumo sertifikatas, parengtas ir išduotas prieš atnaujinimo (modernizavimo) priemonių įgyvendinimą:
B25: 2.2 | C25: Pastato energinio naudingumo sertifikatas, parengtas ir išduotas įgyvendinus pirmojo etapo priemones, jeigu projektas įgyvendinamas etapais:
B26: 2.3 | C26: Investicijų planas (įskaitant jo tikslinimą):
B27: 2.4 | C27: Statinio projekto (projektų) parengimas (įskaitant jo (jų) tikslinimą):
B28: 2.5 | C28: Statinio projekto (-ų) ekspertizė:
B29: 2.6 | C29: Projekto vykdymo priežiūros išlaidos:
B30: 2.7 | C30: Pastato energinio naudingumo sertifikatas, parengtas ir išduotas po atnaujinimo (modernizavimo) priemonių įgyvendinimo:
B31: Bendra suma: | I31: =+SUM(I24:K30) -> 0 | L31: =+SUM(L24:N30) -> 0 | O31: =+SUM(O24:Q30) -> 0
B33: 3. | C33: Informacija apie butų ir kitų patalpų savininkams, turintiems teisę į šildymo išlaidų kompensaciją, tenkantį aktuojamos sumos dydį (pildoma tuo atveju jeigu daugiabučiame name yra butų ir kitų patalpų savininkų turinčių teisę į šildymo išlaidų kompensaciją. Informacija gali būti nenurodoma, jeigu name nėra asmenų turinčių teisę į šildymo išlaidų kompesaciją ir prašoma valstybės parama yra ne 100 proc.):
B34: 3.1 | C34: Buto/ patalpos Nr.: | D34: Savininko vardas, pavardė: | F34: Asmens valdomų patalpų plotas m2 (nurodyti plotą): | H34: Asmeniui tenkantis valstybės paramos dydis (apskaičiuojama automatiškai), eurais:
B35: 3.1.1 | H35: =IF(F35=0,0,$O$31*F35/$I$21) -> 0
B36: 3.1.2 | H36: =IF(F36=0,0,$O$31*F36/$I$21) -> 0
B37: 3.1.3 | H37: =IF(F37=0,0,$O$31*F37/$I$21) -> 0
B38: 3.1.4 | H38: =IF(F38=0,0,$O$31*F38/$I$21) -> 0
B39: 3.1.5 | H39: =IF(F39=0,0,$O$31*F39/$I$21) -> 0
B40: ... | H40: =IF(F40=0,0,$O$31*F40/$I$21) -> 0
D41: Bendra suma: | F41: =+SUM(F35:G40) -> 0 | H41: =ROUND(+SUM(H35:J40),2) -> 0
B43: 4. | C43: Informacija apie savivaldybės nuosavybės teise valdomas gyvenamosioms patalpoms patirtas išlaidas pagal aktuojamos sumos dydį (pildoma, jeigu name yra savivaldybės valdomų gyvenamųjų patalpų):
B44: 4.1 | C44: Buto/ patalpos Nr.: | D44: Savivaldybės nuosavybės teise valdomų gyvenamosios paskirties patalpų plotas (nurodyti plotą), m2: | F44: Valstybės paramos dydis procentais (pasirinkti): | H44: Savivaldybei tenkantis valstybės paramos dydis (apskaičiuojama automatiškai), eurais:*
B45: 4.1.1 | H45: =IF(F45=0,0,IF(F45=Sąrašai!$A$1,D45*$O$31/$I$21,IF(F45=Sąrašai!$A$2,D45*$O$31/$I$21/2))) -> 0
B46: 4.1.2 | H46: =IF(F46=0,0,IF(F46=Sąrašai!$A$1,D46*$O$31/$I$21,IF(F46=Sąrašai!$A$2,D46*$O$31/$I$21/2))) -> 0
B47: 4.1.3 | H47: =IF(F47=0,0,IF(F47=Sąrašai!$A$1,D47*$O$31/$I$21,IF(F47=Sąrašai!$A$2,D47*$O$31/$I$21/2))) -> 0
B48: 4.1.4 | H48: =IF(F48=0,0,IF(F48=Sąrašai!$A$1,D48*$O$31/$I$21,IF(F48=Sąrašai!$A$2,D48*$O$31/$I$21/2))) -> 0
B49: 4.1.5 | H49: =IF(F49=0,0,IF(F49=Sąrašai!$A$1,D49*$O$31/$I$21,IF(F49=Sąrašai!$A$2,D49*$O$31/$I$21/2))) -> 0
B50: ... | H50: =IF(F50=0,0,IF(F50=Sąrašai!$A$1,D50*$O$31/$I$21,IF(F50=Sąrašai!$A$2,D50*$O$31/$I$21/2))) -> 0
B51: Bendra suma: | D51: =+SUM(D45:G50) -> 0 | F51: - | H51: =ROUND(+SUM(H45:J50),2) -> 0
B52: * Pastaba: Savivaldybei, kuriai skaičiuojamas atvirkštinis PVM, suma įrašoma be atvirkštinio PVM;
B54: 5. | C54: Informacija apie daugiabučiame name ūkinę veiklą vykdantiems asmenims tenkantį valstybės paramos dydį, pagal faktiškai aktuojamą patirtų išlaidų sumą:
B55: 5.1 | C55: Buto/ patalpos Nr.: | D55: Ūkinę veiklą vykdančio asmens vardas/pavardė arba juridinio asmens pavadinimas: | F55: Ūkinę veiklą vykdančio asmens valdomų patalpų plotas (nurodyti plotą), m2: | H55: Valstybės paramos dydis procentais (pasirinkti): | I55: Asmeniui tenkantis valstybės paramos dydis (apskaičiuojama automatiškai), eurais:**
B56: 5.1.1 | I56: =IF(F56=0,0,(IF(H56=Sąrašai!$A$1,F56*$O$31/$I$21,(F56*$O$31/$I$21)*1/2))) -> 0
B57: 5.1.2 | I57: =IF(F57=0,0,(IF(H57=Sąrašai!$A$1,F57*$O$31/$I$21,(F57*$O$31/$I$21)*1/2))) -> 0
B58: 5.1.3 | I58: =IF(F58=0,0,(IF(H58=Sąrašai!$A$1,F58*$O$31/$I$21,(F58*$O$31/$I$21)*1/2))) -> 0
B59: 5.1.4 | I59: =IF(F59=0,0,(IF(H59=Sąrašai!$A$1,F59*$O$31/$I$21,(F59*$O$31/$I$21)*1/2))) -> 0
B60: 5.1.5 | I60: =IF(F60=0,0,(IF(H60=Sąrašai!$A$1,F60*$O$31/$I$21,(F60*$O$31/$I$21)*1/2))) -> 0
B61: ... | I61: =IF(F61=0,0,(IF(H61=Sąrašai!$A$1,F61*$O$31/$I$21,(F61*$O$31/$I$21)*1/2))) -> 0
C62: Bendra suma: | F62: =+SUM(F56:G61) -> 0 | H62: - | I62: =ROUND(+SUM(I56:J61),2) -> 0
B63: ** Pastaba: Asmeniui, kuriam skaičiuojamas atvirkštinis PVM, suma įrašoma be atvirkštinio PVM;
B64: 6. | C64: Informacija apie kitų butų ir patalpų savininkams tenkantį valstybės paramos dydį, pagal faktiškai aktuojamą patirtų išlaidų sumą (nurodoma informacija apie visus butų savininkus, kurie nėra nurodyti šio prašymo 5, 6, 7 lentelėse):
B65: 6.1 | C65: Butų skaičius: | D65: Asmenų valdomų patalpų plotas | H65: Valstybės paramos dydis procentais (pasirinkti): | I65: Asmenims tenkantis valstybės paramos dydis (apskaičiuojama automatiškai), eurais:
B66: 6.1.1 | I66: =IF(D66=0,0,IF(H66=Sąrašai!$A$1,D66*$O$31/$I$21,(D66*$O$31/$I$21)*1/2)) -> 0
B67: Bendra suma: | D67: =+SUM(D66:G66) -> 0 | H67: - | I67: =ROUND(I66,2) -> 0
B69: 7. | C69: Prašoma suteikti valstybės parama (apskaičiuojama automatiškai), eurais: | I69: =I67+I62+H51+H41 -> 0
B72: 8. | C72: Butų ir kitų patalpų savininkų arba projekto administratoriaus, kuriam (iems) turėtų būti pervestos kompensuojamos lėšos, suma
B73: 8.1 | C73: Butų ir kitų patalpų savininkų kaupiamųjų lėšų sąskaitos numeris (jeigu išlaidas butų savininkai apmokėjo savo lėšomis):
B74: 8.2 | C74: Savivaldybės atsiskaitomosios sąskaitos numeris (jeigu šias išlaidas savo lėšomis apmokėjo savivaldybė):
B75: 8.3 | C75: Projekto administratoriaus atsiskaitomosios sąskaitos numeris (jeigu šias išlaidas savo lėšomis apmokėjo Projekto administratorius):
B76: 8.4 | C76: Kreditavimo sutartyje nurodytas finansuotojo sąskaitos numeris (jeigu projekto ar jo dalies parengimui suteiktas lengvatinis kreditas):
B78: Prašymo teikėjas atsako už pateikiamų duomenų teisingumą
B80: Pridedama:
B81: 1. | C81: Projekto parengimo atlikimą patvirtinantys dokumentai (paslaugos pirkimo ataskaitos, sutarties, sąskaitų faktūrų (jeigu jos yra) ir apmokėjimą patvirtinančių dokumentų kopijos).
B82: 2. | C82: Dokumentai įrodantys, jog projekto (jo dalies) parengimo išlaidos yra apmokėtos (Sąskaitos faktūros, banko sąskaitų išrašai ir pan.)
B83: 3. | C83: Lengvatinio kredito sutarties kopija, jeigu projekto parengimui suteiktas lengvatinis kreditas
B84: 4. | C84: Butų savininkų, turinčių teisę į būsto šildymo išlaidų kompensaciją, sąrašas ir jame nurodytiems butų savininkams savivaldybės išduotos pažymos (ar jų kopijos), patvirtinančios, kad daugiabučio namo butų savininkai prašymo pateikimo Agentūrai dieną turi teisę į būsto šildymo išlaidų kompensaciją (šie dokumentai ar jų kopijos neteikiami, jeigu teikiama 100 procentų valstybės parama projekto įgyvendinimui administruoti ir statybos techninei priežiūrai vykdyti);
B85: 5. | C85: Savivaldybės nuosavybės teise valdomų butų sąrašas;
B86: 6. | C86: Statybos užbaigimo aktas, jeigu kreipiamasi dėl valstybės paramos suteikimo įgyvendinus projektą.
B87: 7. | C87: Informacija apie butų ir kitų patalpų savininkų, vykdančių ūkinę veiklą daugiabučiame name, susijusias įmones, jeigu tokia informacija iki šiol nebuvo pateikta arba yra pasikeitusi (Vadovaujantis 2013 m. gruodžio 18 d. Komisijos reglamento (ES) Nr. 1407/2013 2 straipsnio 2 dalies pakeitimu).
B88: 8. | C88: Registrų centro pažyma (os), patvirtinanti, jog butas (ai) ar patalpa (os) priklauso buto savininkui (ams) turintiems teisę į šildymo išlaidų kompensaciją.
B89: 9. | C89: Pavyzdinis Statinio techninio darbo projekto paslaugų priėmimo – perdavimo aktas.
B90: 10. | C90: Dokumentai įrodantys, jog yra atlikta statinio projekto ekspertizė (pridedama tuo atveju, kai prašoma kompensuoti statinio techninio darbo projekto parengimą).
C95: (Projekto administratoriaus atstovo pareigos, vardas, pavardė) | I95: (Parašas)

Sheet Sąrašai
A1: 100 proc.
A2: 50 proc.
