Workbook
Name metai: '[1]Bendra lentele'!$L$1:$L$9

Sheet Prašymo forma
M2: Patvirtinta Lietuvos Respublikos aplinkos ministerijos Aplinkos projektų valdymo agentūros direktoriaus 2021 m. lapkričio 19 d. įsakymu Nr. T1-272
B3: Prašymo teikėjo duomenys (juridinio asmens pavadinimas/fizinio asmens vardas, pavardė, kodas, adresas
B5: Lietuvos Respublikos aplinkos ministerijos Aplinkos projektų valdymo agentūrai
D7: PRAŠYMAS KOMPENSUOTI PROJEKTO (JO DALIES) PARENGIMO IŠLAIDAS
E10: Nr.
D11: (data)
E13: (vieta)
B16: 1. | C16: Informacija apie atnaujinamą (modernizuojamą) daugiabutį namą (nurodyti informaciją):
B17: 1.1 | C17: Adresas:
B18: 1.2 | C18: Projekto numeris nurodytas suderintame investicijų plane:
B19: 1.3 | C19: Butų ir kitų patalpų skaičius (vnt.):
B20: 1.4 | C20: Statybos užbaigimo akto surašymo data (jeigu projekto įgyvendinimo metu toks aktas buvo surašytas)
B21: 1.5 | C21: Namo butų naudingojo ir (ar) kitų patalpų bendrojo ploto suma (m2):
B23: 2. | C23: Projekto dalis: | I23: Projekto ar jo dalies parengimo kaina numatyti sutartyje Eur su PVM | L23: Projekto ar jo dalies parengimo suma, kuri jau buvo suteikta butų ir kitų patalpų savininkams Eur su PVM | O23: Projekto (jo dalies) rengėjui už atliktas paslaugas apmokėta suma Eur su PVM
B24: 2.1 | C24: Pastato energinio naudingumo sertifikatas, parengtas ir išduotas prieš atnaujinimo (modernizavimo) priemonių įgyvendinimą:
B25: 2.2 | C25: Pastato energinio naudingumo sertifikatas, parengtas ir išduotas įgyvendinus pirmojo etapo priemones, jeigu projektas įgyvendinamas etapais:
B26: 2.3 | C26: Investicijų planas (įskaitant jo tikslinimą):
B27: 2.4 | C27: Statinio projekto (projektų) parengimas (įskaitant jo (jų) tikslinimą):
B28: 2.5 | C28: Statinio projekto (-ų) ekspertizė:
B29: 2.6 | C29: Projekto vykdymo priežiūros išlaidos:
B30: 2.7 | C30: Pastato energinio naudingumo sertifikatas, parengtas ir išduotas po atnaujinimo (modernizavimo) priemonių įgyvendinimo:
B31: Bendra suma: | I31: =+SUM(I24:K30) -> 0 | L31: =+SUM(L24:N30) -> 0 | O31: =+SUM(O24:Q30) -> 0
B33: 3. | C33: Informacija apie butų ir kitų patalpų savininkams, turintiems teisę į šildymo išlaidų kompensaciją, tenkantį aktuojamos sumos dydį (pildoma tuo atveju jeigu daugiabučiame name yra butų ir kitų patalpų savininkų turinčių teisę į šildymo išlaidų kompensaciją. Informacija gali būti nenurodoma, jeigu name nėra asmenų turinčių teisę į šildymo išlaidų kompesaciją ir prašoma valstybės parama yra ne 100 proc.):
B34: 3.1 | C34: Buto/ patalpos Nr.: | D34: Savininko vardas, pavardė: | F34: Asmens valdomų patalpų plotas m2 (nurodyti plotą): | H34: Asmeniui tenkantis valstybės paramos dydis (apskaičiuojama automatiškai), eurais:
B35: 3.1.1 | H35: =IF(F35=0,0,$O$31*F35/$I$21) -> 0
B36: 3.1.2 | H36: =IF(F36=0,0,$O$31*F36/$I$21) -> 0
B37: 3.1.3 | H37: =IF(F37=0,0,$O$31*F37/$I$21) -> 0
B38: 3.1.4 | H38: =IF(F38=0,0,$O$31*F38/$I$21) -> 0
B39: 3.1.5 | H39: =IF(F39=0,0,$O$31*F39/$I$21) -> 0
B40: ... | H40: =IF(F40=0,0,$O$31*F40/$I$21) -> 0
D41: Bendra suma: | F41: =+SUM(F35:G40) -> 0 | H41: =ROUND(+SUM(H35:J40),2) -> 0
B43: 4. | C43: Informacija apie savivaldybės nuosavybės teise valdomas gyvenamosioms patalpoms patirtas išlaidas pagal aktuojamos sumos dydį (pildoma, jeigu name yra savivaldybės valdomų gyvenamųjų patalpų):
B44: 4.1 | C44: Buto/ patalpos Nr.: | D44: Savivaldybės nuosavybės teise valdomų gyvenamosios paskirties patalpų plotas (nurodyti plotą), m2: | F44: Valstybės paramos dydis procentais (pasirinkti): | H44: Savivaldybei tenkantis valstybės paramos dydis (apskaičiuojama automatiškai), eurais:*
B45: 4.1.1 | H45: =IF(F45=0,0,IF(F45=Sąrašai!$A$1,D45*$O$31/$I$21,IF(F45=Sąrašai!$A$2,D45*$O$31/$I$21/2))) -> 0
B46: 4.1.2 | H46: =IF(F46=0,0,IF(F46=Sąrašai!$A$1,D46*$O$31/$I$21,IF(F46=Sąrašai!$A$2,D46*$O$31/$I$21/2))) -> 0
B47: 4.1.3 | H47: =IF(F47=0,0,IF(F47=Sąrašai!$A$1,D47*$O$31/$I$21,IF(F47=Sąrašai!$A$2,D47*$O$31/$I$21/2))) -> 0
B48: 4.1.4 | H48: =IF(F48=0,0,IF(F48=Sąrašai!$A$1,D48*$O$31/$I$21,IF(F48=Sąrašai!$A$2,D48*$O$31/$I$21/2))) -> 0
B49: 4.1.5 | H49: =IF(F49=0,0,IF(F49=Sąrašai!$A$1,D49*$O$31/$I$21,IF(F49=Sąrašai!$A$2,D49*$O$31/$I$21/2))) -> 0
B50: ... | H50: =IF(F50=0,0,IF(F50=Sąrašai!$A$1,D50*$O$31/$I$21,IF(F50=Sąrašai!$A$2,D50*$O$31/$I$21/2))) -> 0
B51: Bendra suma: | D51: =+SUM(D45:G50) -> 0 | F51: - | H51: =ROUND(+SUM(H45:J50),2) -> 0
...

Sheet Sąrašai
A1: 100 proc.
A2: 50 proc.
